| Back to Multiple platform build/check report for BioC 3.11 |
|
This page was generated on 2020-10-16 11:59:07 -0400 (Fri, 16 Oct 2020).
| TO THE DEVELOPERS/MAINTAINERS OF THE unifiedWMWqPCR PACKAGE: Please make sure to use the following settings in order to reproduce any error or warning you see on this page. |
| Package 1857/1905 | Hostname | OS / Arch | INSTALL | BUILD | CHECK | BUILD BIN | ||||||
| unifiedWMWqPCR 1.24.0 Joris Meys
| malbec2 | Linux (Ubuntu 18.04.4 LTS) / x86_64 | OK | OK | WARNINGS | |||||||
| tokay2 | Windows Server 2012 R2 Standard / x64 | OK | OK | WARNINGS | [ OK ] | |||||||
| machv2 | macOS 10.14.6 Mojave / x86_64 | OK | OK | WARNINGS | OK |
| Package: unifiedWMWqPCR |
| Version: 1.24.0 |
| Command: rm -rf unifiedWMWqPCR.buildbin-libdir && mkdir unifiedWMWqPCR.buildbin-libdir && C:\Users\biocbuild\bbs-3.11-bioc\R\bin\R.exe CMD INSTALL --merge-multiarch --build --library=unifiedWMWqPCR.buildbin-libdir unifiedWMWqPCR_1.24.0.tar.gz |
| StartedAt: 2020-10-16 11:32:41 -0400 (Fri, 16 Oct 2020) |
| EndedAt: 2020-10-16 11:33:36 -0400 (Fri, 16 Oct 2020) |
| EllapsedTime: 54.8 seconds |
| RetCode: 0 |
| Status: OK |
| PackageFile: unifiedWMWqPCR_1.24.0.zip |
| PackageFileSize: 851.2 KiB |
##############################################################################
##############################################################################
###
### Running command:
###
### rm -rf unifiedWMWqPCR.buildbin-libdir && mkdir unifiedWMWqPCR.buildbin-libdir && C:\Users\biocbuild\bbs-3.11-bioc\R\bin\R.exe CMD INSTALL --merge-multiarch --build --library=unifiedWMWqPCR.buildbin-libdir unifiedWMWqPCR_1.24.0.tar.gz
###
##############################################################################
##############################################################################
install for i386
* installing *source* package 'unifiedWMWqPCR' ...
** using staged installation
** R
** data
** inst
** byte-compile and prepare package for lazy loading
Creating a generic function for 'order' from package 'base' in package 'unifiedWMWqPCR'
** help
*** installing help indices
converting help for package 'unifiedWMWqPCR'
finding HTML links ... done
NBdata html
as.matrix.uwmwEstimate html
as.matrix.uwmwRes html
forestplot-methods html
getEstimate-methods html
plot html
sort_uwmwRes html
uWMW-methods html
unifiedWMWqPCR-package html
uwmwEstimate-class html
uwmwRes-class html
uwmw_Accessors html
uwmw_Extract html
volcanopar html
volcanoplot-methods html
** building package indices
** installing vignettes
** testing if installed package can be loaded from temporary location
** testing if installed package can be loaded from final location
** testing if installed package keeps a record of temporary installation path
install for x64
* installing *source* package 'unifiedWMWqPCR' ...
** testing if installed package can be loaded
* MD5 sums
packaged installation of 'unifiedWMWqPCR' as unifiedWMWqPCR_1.24.0.zip
* DONE (unifiedWMWqPCR)