| Back to Multiple platform build/check report for BioC 3.11 |
|
This page was generated on 2020-10-17 11:57:58 -0400 (Sat, 17 Oct 2020).
| TO THE DEVELOPERS/MAINTAINERS OF THE unifiedWMWqPCR PACKAGE: Please make sure to use the following settings in order to reproduce any error or warning you see on this page. |
| Package 1857/1905 | Hostname | OS / Arch | INSTALL | BUILD | CHECK | BUILD BIN | ||||||
| unifiedWMWqPCR 1.24.0 Joris Meys
| malbec2 | Linux (Ubuntu 18.04.4 LTS) / x86_64 | OK | OK | WARNINGS | |||||||
| tokay2 | Windows Server 2012 R2 Standard / x64 | [ OK ] | OK | WARNINGS | NA | |||||||
| machv2 | macOS 10.14.6 Mojave / x86_64 | OK | OK | WARNINGS | OK |
| Package: unifiedWMWqPCR |
| Version: 1.24.0 |
| Command: C:\cygwin\bin\curl.exe -O https://malbec2.bioconductor.org/BBS/3.11/bioc/src/contrib/unifiedWMWqPCR_1.24.0.tar.gz && rm -rf unifiedWMWqPCR.buildbin-libdir && mkdir unifiedWMWqPCR.buildbin-libdir && C:\Users\biocbuild\bbs-3.11-bioc\R\bin\R.exe CMD INSTALL --merge-multiarch --build --library=unifiedWMWqPCR.buildbin-libdir unifiedWMWqPCR_1.24.0.tar.gz && C:\Users\biocbuild\bbs-3.11-bioc\R\bin\R.exe CMD INSTALL unifiedWMWqPCR_1.24.0.zip && rm unifiedWMWqPCR_1.24.0.tar.gz unifiedWMWqPCR_1.24.0.zip |
| StartedAt: 2020-10-16 17:11:49 -0400 (Fri, 16 Oct 2020) |
| EndedAt: 2020-10-16 17:12:35 -0400 (Fri, 16 Oct 2020) |
| EllapsedTime: 45.9 seconds |
| RetCode: 0 |
| Status: OK |
##############################################################################
##############################################################################
###
### Running command:
###
### C:\cygwin\bin\curl.exe -O https://malbec2.bioconductor.org/BBS/3.11/bioc/src/contrib/unifiedWMWqPCR_1.24.0.tar.gz && rm -rf unifiedWMWqPCR.buildbin-libdir && mkdir unifiedWMWqPCR.buildbin-libdir && C:\Users\biocbuild\bbs-3.11-bioc\R\bin\R.exe CMD INSTALL --merge-multiarch --build --library=unifiedWMWqPCR.buildbin-libdir unifiedWMWqPCR_1.24.0.tar.gz && C:\Users\biocbuild\bbs-3.11-bioc\R\bin\R.exe CMD INSTALL unifiedWMWqPCR_1.24.0.zip && rm unifiedWMWqPCR_1.24.0.tar.gz unifiedWMWqPCR_1.24.0.zip
###
##############################################################################
##############################################################################
% Total % Received % Xferd Average Speed Time Time Time Current
Dload Upload Total Spent Left Speed
0 0 0 0 0 0 0 0 --:--:-- --:--:-- --:--:-- 0
100 310k 100 310k 0 0 4973k 0 --:--:-- --:--:-- --:--:-- 5541k
install for i386
* installing *source* package 'unifiedWMWqPCR' ...
** using staged installation
** R
** data
** inst
** byte-compile and prepare package for lazy loading
Creating a generic function for 'order' from package 'base' in package 'unifiedWMWqPCR'
** help
*** installing help indices
converting help for package 'unifiedWMWqPCR'
finding HTML links ... done
NBdata html
as.matrix.uwmwEstimate html
as.matrix.uwmwRes html
forestplot-methods html
getEstimate-methods html
plot html
sort_uwmwRes html
uWMW-methods html
unifiedWMWqPCR-package html
uwmwEstimate-class html
uwmwRes-class html
uwmw_Accessors html
uwmw_Extract html
volcanopar html
volcanoplot-methods html
** building package indices
** installing vignettes
** testing if installed package can be loaded from temporary location
** testing if installed package can be loaded from final location
** testing if installed package keeps a record of temporary installation path
install for x64
* installing *source* package 'unifiedWMWqPCR' ...
** testing if installed package can be loaded
* MD5 sums
packaged installation of 'unifiedWMWqPCR' as unifiedWMWqPCR_1.24.0.zip
* DONE (unifiedWMWqPCR)
* installing to library 'C:/Users/biocbuild/bbs-3.11-bioc/R/library'
package 'unifiedWMWqPCR' successfully unpacked and MD5 sums checked