| Back to Multiple platform build/check report for BioC 3.11 |
|
This page was generated on 2020-10-17 11:57:55 -0400 (Sat, 17 Oct 2020).
| TO THE DEVELOPERS/MAINTAINERS OF THE systemPipeR PACKAGE: Please make sure to use the following settings in order to reproduce any error or warning you see on this page. |
| Package 1776/1905 | Hostname | OS / Arch | INSTALL | BUILD | CHECK | BUILD BIN | ||||||
| systemPipeR 1.22.0 Thomas Girke
| malbec2 | Linux (Ubuntu 18.04.4 LTS) / x86_64 | OK | OK | OK | |||||||
| tokay2 | Windows Server 2012 R2 Standard / x64 | OK | OK | [ OK ] | NA | |||||||
| machv2 | macOS 10.14.6 Mojave / x86_64 | OK | OK | OK | OK |
| Package: systemPipeR |
| Version: 1.22.0 |
| Command: C:\Users\biocbuild\bbs-3.11-bioc\R\bin\R.exe CMD check --force-multiarch --install=check:systemPipeR.install-out.txt --library=C:\Users\biocbuild\bbs-3.11-bioc\R\library --no-vignettes --timings systemPipeR_1.22.0.tar.gz |
| StartedAt: 2020-10-17 08:47:02 -0400 (Sat, 17 Oct 2020) |
| EndedAt: 2020-10-17 08:59:35 -0400 (Sat, 17 Oct 2020) |
| EllapsedTime: 752.3 seconds |
| RetCode: 0 |
| Status: OK |
| CheckDir: systemPipeR.Rcheck |
| Warnings: 0 |
##############################################################################
##############################################################################
###
### Running command:
###
### C:\Users\biocbuild\bbs-3.11-bioc\R\bin\R.exe CMD check --force-multiarch --install=check:systemPipeR.install-out.txt --library=C:\Users\biocbuild\bbs-3.11-bioc\R\library --no-vignettes --timings systemPipeR_1.22.0.tar.gz
###
##############################################################################
##############################################################################
* using log directory 'C:/Users/biocbuild/bbs-3.11-bioc/meat/systemPipeR.Rcheck'
* using R version 4.0.3 (2020-10-10)
* using platform: x86_64-w64-mingw32 (64-bit)
* using session charset: ISO8859-1
* using option '--no-vignettes'
* checking for file 'systemPipeR/DESCRIPTION' ... OK
* checking extension type ... Package
* this is package 'systemPipeR' version '1.22.0'
* checking package namespace information ... OK
* checking package dependencies ... OK
* checking if this is a source package ... OK
* checking if there is a namespace ... OK
* checking for hidden files and directories ... NOTE
Found the following hidden files and directories:
inst/extdata/.batchtools.conf.R
These were most likely included in error. See section 'Package
structure' in the 'Writing R Extensions' manual.
* checking for portable file names ... OK
* checking whether package 'systemPipeR' can be installed ... OK
* checking installed package size ... OK
* checking package directory ... OK
* checking 'build' directory ... OK
* checking DESCRIPTION meta-information ... OK
* checking top-level files ... OK
* checking for left-over files ... OK
* checking index information ... OK
* checking package subdirectories ... OK
* checking R files for non-ASCII characters ... OK
* checking R files for syntax errors ... OK
* loading checks for arch 'i386'
** checking whether the package can be loaded ... OK
** checking whether the package can be loaded with stated dependencies ... OK
** checking whether the package can be unloaded cleanly ... OK
** checking whether the namespace can be loaded with stated dependencies ... OK
** checking whether the namespace can be unloaded cleanly ... OK
* loading checks for arch 'x64'
** checking whether the package can be loaded ... OK
** checking whether the package can be loaded with stated dependencies ... OK
** checking whether the package can be unloaded cleanly ... OK
** checking whether the namespace can be loaded with stated dependencies ... OK
** checking whether the namespace can be unloaded cleanly ... OK
* checking dependencies in R code ... OK
* checking S3 generic/method consistency ... OK
* checking replacement functions ... OK
* checking foreign function calls ... OK
* checking R code for possible problems ... NOTE
countRangeset: warning in read.delim(infile1(args)[i], comment = "#"):
partial argument match of 'comment' to 'comment.char'
vennPlot : ellipseVenn: warning in close.screen(all = TRUE): partial
argument match of 'all' to 'all.screens'
writeTargetsRef: warning in read.delim(infile, comment = "#"): partial
argument match of 'comment' to 'comment.char'
.change_branch: no visible binding for global variable '.'
.checkOutArgs2: no visible binding for global variable 'dir.name'
.find_long_branch: no visible binding for global variable '.'
.makeBam: no visible binding for global variable 'i'
.makeBam: no visible binding for global variable 'j'
.parse_step : <anonymous>: no visible binding for global variable '.'
.parse_step: no visible binding for global variable '.'
.resizeFeature: no visible global function definition for 'DataFrame'
.subsetReadsByMappingRegion: no visible global function definition for
'IRanges'
.subsetReadsByMappingRegion: no visible global function definition for
'seqlengths'
.subsetReadsByMappingRegion: no visible global function definition for
'readGAlignments'
GOHyperGAll_Subset: no visible binding for global variable
'test_sample'
assembleCommandlineList: no visible binding for global variable 'WF'
countRangeset: no visible global function definition for 'import.bed'
countRangeset: no visible global function definition for
'summarizeOverlaps'
featureCoverage: no visible global function definition for
'readGAlignments'
featureCoverage: no visible global function definition for 'qwidth'
featureCoverage: no visible global function definition for
'subsetByOverlaps'
featureCoverage: no visible global function definition for 'Rle'
featuretypeCounts: no visible global function definition for
'readGAlignments'
featuretypeCounts: no visible global function definition for
'readGAlignmentPairs'
featuretypeCounts: no visible global function definition for
'subsetByOverlaps'
featuretypeCounts: no visible global function definition for 'qwidth'
featuretypeCounts: no visible global function definition for 'last'
featuretypeCounts: no visible global function definition for 'first'
filterDEGs: no visible binding for global variable 'Comparisons'
filterDEGs: no visible binding for global variable 'Counts'
filterDEGs: no visible binding for global variable 'Type'
genFeatures: no visible global function definition for 'DataFrame'
genFeatures: no visible global function definition for 'seqlengths<-'
getQsubargs: no visible binding for global variable 'tophatargs'
goBarplot: no visible binding for global variable 'SampleMatch'
goBarplot: no visible binding for global variable 'Sample'
olBarplot: no visible binding for global variable 'Intersect_Sets'
olBarplot: no visible binding for global variable 'Counts'
olBarplot: no visible binding for global variable 'Level'
olRanges: no visible global function definition for 'seqlengths<-'
olRanges: no visible global function definition for 'seqlengths'
olRanges: no visible global function definition for 'Rle'
olRanges: no visible global function definition for 'IRanges'
plotfeatureCoverage: no visible binding for global variable 'Coverage'
plotfeatureCoverage: no visible binding for global variable 'Strand'
plotfeaturetypeCounts: no visible binding for global variable 'Feature'
plotfeaturetypeCounts: no visible binding for global variable 'Counts'
plotfeaturetypeCounts: no visible binding for global variable 'Strand'
plotfeaturetypeCounts: no visible binding for global variable 'Length'
predORF : .predORF: no visible global function definition for 'IRanges'
readComp: no visible binding for global variable 'args_bam'
renderInputs: no visible binding for global variable 'WF'
renderOutputs: no visible binding for global variable 'WF'
scaleRanges : .scaleRanges: no visible global function definition for
'IRanges'
scaleRanges: no visible global function definition for 'DataFrame'
seeFastqPlot : fastqPlot: no visible binding for global variable
'Cycle'
seeFastqPlot : fastqPlot: no visible binding for global variable 'low'
seeFastqPlot : fastqPlot: no visible binding for global variable 'mid'
seeFastqPlot : fastqPlot: no visible binding for global variable 'top'
seeFastqPlot : fastqPlot: no visible binding for global variable
'Frequency'
seeFastqPlot : fastqPlot: no visible binding for global variable 'Base'
seeFastqPlot : fastqPlot: no visible binding for global variable
'Quality'
seeFastqPlot : fastqPlot: no visible binding for global variable
'RelDiv'
seeFastqPlot : fastqPlot: no visible binding for global variable
'Method'
seeFastqPlot : fastqPlot: no visible binding for global variable
'minQuality'
seeFastqPlot : fastqPlot: no visible binding for global variable
'Percent'
seeFastqPlot : fastqPlot: no visible binding for global variable
'Outliers'
subsetRmd: no visible binding for global variable '.'
Undefined global functions or variables:
. Base Comparisons Counts Coverage Cycle DataFrame Feature Frequency
IRanges Intersect_Sets Length Level Method Outliers Percent Quality
RelDiv Rle Sample SampleMatch Strand Type WF args_bam dir.name first
i import.bed j last low mid minQuality qwidth readGAlignmentPairs
readGAlignments seqlengths seqlengths<- subsetByOverlaps
summarizeOverlaps test_sample top tophatargs
* checking Rd files ... OK
* checking Rd metadata ... OK
* checking Rd cross-references ... OK
* checking for missing documentation entries ... OK
* checking for code/documentation mismatches ... OK
* checking Rd \usage sections ... OK
* checking Rd contents ... OK
* checking for unstated dependencies in examples ... OK
* checking line endings in Makefiles ... OK
* checking for GNU extensions in Makefiles ... OK
* checking include directives in Makefiles ... OK
* checking files in 'vignettes' ... OK
* checking examples ...
** running examples for arch 'i386' ... OK
Examples with CPU (user + system) or elapsed time > 5s
user system elapsed
genFeatures 22.93 2.08 25.0
run_DESeq2 9.20 0.30 9.5
** running examples for arch 'x64' ... OK
Examples with CPU (user + system) or elapsed time > 5s
user system elapsed
genFeatures 21.34 0.36 21.71
run_DESeq2 9.03 0.03 9.06
* checking for unstated dependencies in 'tests' ... OK
* checking tests ...
** running tests for arch 'i386' ...
Running 'runTests.R'
OK
** running tests for arch 'x64' ...
Running 'runTests.R'
OK
* checking for unstated dependencies in vignettes ... OK
* checking package vignettes in 'inst/doc' ... OK
* checking running R code from vignettes ... SKIPPED
* checking re-building of vignette outputs ... SKIPPED
* checking PDF version of manual ... OK
* DONE
Status: 2 NOTEs
See
'C:/Users/biocbuild/bbs-3.11-bioc/meat/systemPipeR.Rcheck/00check.log'
for details.
systemPipeR.Rcheck/00install.out
##############################################################################
##############################################################################
###
### Running command:
###
### C:\cygwin\bin\curl.exe -O https://malbec2.bioconductor.org/BBS/3.11/bioc/src/contrib/systemPipeR_1.22.0.tar.gz && rm -rf systemPipeR.buildbin-libdir && mkdir systemPipeR.buildbin-libdir && C:\Users\biocbuild\bbs-3.11-bioc\R\bin\R.exe CMD INSTALL --merge-multiarch --build --library=systemPipeR.buildbin-libdir systemPipeR_1.22.0.tar.gz && C:\Users\biocbuild\bbs-3.11-bioc\R\bin\R.exe CMD INSTALL systemPipeR_1.22.0.zip && rm systemPipeR_1.22.0.tar.gz systemPipeR_1.22.0.zip
###
##############################################################################
##############################################################################
% Total % Received % Xferd Average Speed Time Time Time Current
Dload Upload Total Spent Left Speed
0 0 0 0 0 0 0 0 --:--:-- --:--:-- --:--:-- 0
100 1013k 100 1013k 0 0 13.4M 0 --:--:-- --:--:-- --:--:-- 14.5M
install for i386
* installing *source* package 'systemPipeR' ...
** using staged installation
** R
** inst
** byte-compile and prepare package for lazy loading
** help
*** installing help indices
converting help for package 'systemPipeR'
finding HTML links ... done
GOHyperGAll html
INTERSECTset-class html
SYSargs-class html
SYSargs2-class html
SYSargs2Pipe-class html
SYSargs2Pipe-methods html
SYSargsList-class html
VENNset-class html
alignStats html
catDB-class html
catmap html
clusterRun html
config.param html
configWF html
countRangeset html
createWF html
evalCode html
featureCoverage html
featuretypeCounts html
filterDEGs html
filterVars html
genFeatures html
getQsubargs html
initWF html
loadWorkflow html
mergeBamByFactor html
module html
moduleload html
olBarplot html
olRanges html
output_update html
overLapper html
plotWF html
plotfeatureCoverage html
plotfeaturetypeCounts html
predORF html
preprocessReads html
qsubRun html
readComp html
renderReport html
renderWF html
returnRPKM html
runCommandline html
runDiff html
runWF html
run_DESeq2 html
run_edgeR html
run_track html
scaleRanges html
seeFastq html
subsetWF html
symLink2bam html
sysargs html
sysargs2-methods html
sysargslist-methods html
systemArgs html
targets.as.df html
tryCL html
tryPath html
variantReport html
vennPlot html
writeTargetsRef html
writeTargetsout html
** building package indices
** installing vignettes
** testing if installed package can be loaded from temporary location
** testing if installed package can be loaded from final location
** testing if installed package keeps a record of temporary installation path
install for x64
* installing *source* package 'systemPipeR' ...
** testing if installed package can be loaded
* MD5 sums
packaged installation of 'systemPipeR' as systemPipeR_1.22.0.zip
* DONE (systemPipeR)
* installing to library 'C:/Users/biocbuild/bbs-3.11-bioc/R/library'
package 'systemPipeR' successfully unpacked and MD5 sums checked
|
systemPipeR.Rcheck/tests_i386/runTests.Rout
R version 4.0.3 (2020-10-10) -- "Bunny-Wunnies Freak Out"
Copyright (C) 2020 The R Foundation for Statistical Computing
Platform: i386-w64-mingw32/i386 (32-bit)
R is free software and comes with ABSOLUTELY NO WARRANTY.
You are welcome to redistribute it under certain conditions.
Type 'license()' or 'licence()' for distribution details.
R is a collaborative project with many contributors.
Type 'contributors()' for more information and
'citation()' on how to cite R or R packages in publications.
Type 'demo()' for some demos, 'help()' for on-line help, or
'help.start()' for an HTML browser interface to help.
Type 'q()' to quit R.
> BiocGenerics:::testPackage("systemPipeR")
Attaching package: 'BiocGenerics'
The following objects are masked from 'package:parallel':
clusterApply, clusterApplyLB, clusterCall, clusterEvalQ,
clusterExport, clusterMap, parApply, parCapply, parLapply,
parLapplyLB, parRapply, parSapply, parSapplyLB
The following objects are masked from 'package:stats':
IQR, mad, sd, var, xtabs
The following objects are masked from 'package:base':
Filter, Find, Map, Position, Reduce, anyDuplicated, append,
as.data.frame, basename, cbind, colnames, dirname, do.call,
duplicated, eval, evalq, get, grep, grepl, intersect, is.unsorted,
lapply, mapply, match, mget, order, paste, pmax, pmax.int, pmin,
pmin.int, rank, rbind, rownames, sapply, setdiff, sort, table,
tapply, union, unique, unsplit, which, which.max, which.min
Attaching package: 'S4Vectors'
The following object is masked from 'package:base':
expand.grid
Attaching package: 'IRanges'
The following object is masked from 'package:grDevices':
windows
Attaching package: 'Biostrings'
The following object is masked from 'package:base':
strsplit
Welcome to Bioconductor
Vignettes contain introductory material; view with
'browseVignettes()'. To cite Bioconductor, see
'citation("Biobase")', and for packages 'citation("pkgname")'.
Attaching package: 'matrixStats'
The following objects are masked from 'package:Biobase':
anyMissing, rowMedians
Attaching package: 'DelayedArray'
The following objects are masked from 'package:matrixStats':
colMaxs, colMins, colRanges, rowMaxs, rowMins, rowRanges
The following objects are masked from 'package:base':
aperm, apply, rowsum
RUNIT TEST PROTOCOL -- Sat Oct 17 08:58:57 2020
***********************************************
Number of test functions: 1
Number of errors: 0
Number of failures: 0
1 Test Suite :
systemPipeR RUnit Tests - 1 test function, 0 errors, 0 failures
Number of test functions: 1
Number of errors: 0
Number of failures: 0
Warning messages:
1: In normalizePath(path.expand(path), winslash, mustWork) :
path[1]="SRR446027_1.fastq": The system cannot find the file specified
2: In normalizePath(path.expand(path), winslash, mustWork) :
path[2]="SRR446028_1.fastq": The system cannot find the file specified
3: In normalizePath(path.expand(path), winslash, mustWork) :
path[3]="SRR446029_1.fastq": The system cannot find the file specified
4: In normalizePath(path.expand(path), winslash, mustWork) :
path[4]="SRR446030_1.fastq": The system cannot find the file specified
>
> proc.time()
user system elapsed
19.79 1.67 24.78
|
systemPipeR.Rcheck/tests_x64/runTests.Rout
R version 4.0.3 (2020-10-10) -- "Bunny-Wunnies Freak Out"
Copyright (C) 2020 The R Foundation for Statistical Computing
Platform: x86_64-w64-mingw32/x64 (64-bit)
R is free software and comes with ABSOLUTELY NO WARRANTY.
You are welcome to redistribute it under certain conditions.
Type 'license()' or 'licence()' for distribution details.
R is a collaborative project with many contributors.
Type 'contributors()' for more information and
'citation()' on how to cite R or R packages in publications.
Type 'demo()' for some demos, 'help()' for on-line help, or
'help.start()' for an HTML browser interface to help.
Type 'q()' to quit R.
> BiocGenerics:::testPackage("systemPipeR")
Attaching package: 'BiocGenerics'
The following objects are masked from 'package:parallel':
clusterApply, clusterApplyLB, clusterCall, clusterEvalQ,
clusterExport, clusterMap, parApply, parCapply, parLapply,
parLapplyLB, parRapply, parSapply, parSapplyLB
The following objects are masked from 'package:stats':
IQR, mad, sd, var, xtabs
The following objects are masked from 'package:base':
Filter, Find, Map, Position, Reduce, anyDuplicated, append,
as.data.frame, basename, cbind, colnames, dirname, do.call,
duplicated, eval, evalq, get, grep, grepl, intersect, is.unsorted,
lapply, mapply, match, mget, order, paste, pmax, pmax.int, pmin,
pmin.int, rank, rbind, rownames, sapply, setdiff, sort, table,
tapply, union, unique, unsplit, which, which.max, which.min
Attaching package: 'S4Vectors'
The following object is masked from 'package:base':
expand.grid
Attaching package: 'IRanges'
The following object is masked from 'package:grDevices':
windows
Attaching package: 'Biostrings'
The following object is masked from 'package:base':
strsplit
Welcome to Bioconductor
Vignettes contain introductory material; view with
'browseVignettes()'. To cite Bioconductor, see
'citation("Biobase")', and for packages 'citation("pkgname")'.
Attaching package: 'matrixStats'
The following objects are masked from 'package:Biobase':
anyMissing, rowMedians
Attaching package: 'DelayedArray'
The following objects are masked from 'package:matrixStats':
colMaxs, colMins, colRanges, rowMaxs, rowMins, rowRanges
The following objects are masked from 'package:base':
aperm, apply, rowsum
RUNIT TEST PROTOCOL -- Sat Oct 17 08:59:21 2020
***********************************************
Number of test functions: 1
Number of errors: 0
Number of failures: 0
1 Test Suite :
systemPipeR RUnit Tests - 1 test function, 0 errors, 0 failures
Number of test functions: 1
Number of errors: 0
Number of failures: 0
Warning messages:
1: In normalizePath(path.expand(path), winslash, mustWork) :
path[1]="SRR446027_1.fastq": The system cannot find the file specified
2: In normalizePath(path.expand(path), winslash, mustWork) :
path[2]="SRR446028_1.fastq": The system cannot find the file specified
3: In normalizePath(path.expand(path), winslash, mustWork) :
path[3]="SRR446029_1.fastq": The system cannot find the file specified
4: In normalizePath(path.expand(path), winslash, mustWork) :
path[4]="SRR446030_1.fastq": The system cannot find the file specified
>
> proc.time()
user system elapsed
18.90 0.68 22.76
|
|
systemPipeR.Rcheck/examples_i386/systemPipeR-Ex.timings
|
systemPipeR.Rcheck/examples_x64/systemPipeR-Ex.timings
|