| Back to Multiple platform build/check report for BioC 3.11 |
|
This page was generated on 2020-10-16 11:58:59 -0400 (Fri, 16 Oct 2020).
| TO THE DEVELOPERS/MAINTAINERS OF THE subSeq PACKAGE: Please make sure to use the following settings in order to reproduce any error or warning you see on this page. |
| Package 1756/1905 | Hostname | OS / Arch | INSTALL | BUILD | CHECK | BUILD BIN | ||||||
| subSeq 1.18.0 Andrew J. Bass
| malbec2 | Linux (Ubuntu 18.04.4 LTS) / x86_64 | OK | OK | OK | |||||||
| tokay2 | Windows Server 2012 R2 Standard / x64 | OK | OK | OK | [ OK ] | |||||||
| machv2 | macOS 10.14.6 Mojave / x86_64 | OK | OK | OK | OK |
| Package: subSeq |
| Version: 1.18.0 |
| Command: rm -rf subSeq.buildbin-libdir && mkdir subSeq.buildbin-libdir && C:\Users\biocbuild\bbs-3.11-bioc\R\bin\R.exe CMD INSTALL --merge-multiarch --build --library=subSeq.buildbin-libdir subSeq_1.18.0.tar.gz |
| StartedAt: 2020-10-16 11:26:15 -0400 (Fri, 16 Oct 2020) |
| EndedAt: 2020-10-16 11:26:55 -0400 (Fri, 16 Oct 2020) |
| EllapsedTime: 40.5 seconds |
| RetCode: 0 |
| Status: OK |
| PackageFile: subSeq_1.18.0.zip |
| PackageFileSize: 2.946 MiB |
##############################################################################
##############################################################################
###
### Running command:
###
### rm -rf subSeq.buildbin-libdir && mkdir subSeq.buildbin-libdir && C:\Users\biocbuild\bbs-3.11-bioc\R\bin\R.exe CMD INSTALL --merge-multiarch --build --library=subSeq.buildbin-libdir subSeq_1.18.0.tar.gz
###
##############################################################################
##############################################################################
install for i386
* installing *source* package 'subSeq' ...
** using staged installation
** R
** data
** inst
** byte-compile and prepare package for lazy loading
** help
*** installing help indices
converting help for package 'subSeq'
finding HTML links ... done
combineSubsamples html
generateSubsampledMatrix html
getSeed html
hammer html
plot.subsamples html
plot.summary.subsamples html
ss html
subsample html
summary.subsamples html
** building package indices
** installing vignettes
** testing if installed package can be loaded from temporary location
** testing if installed package can be loaded from final location
** testing if installed package keeps a record of temporary installation path
install for x64
* installing *source* package 'subSeq' ...
** testing if installed package can be loaded
* MD5 sums
packaged installation of 'subSeq' as subSeq_1.18.0.zip
* DONE (subSeq)