| Back to Multiple platform build/check report for BioC 3.11 | 
 | 
This page was generated on 2020-10-17 11:57:53 -0400 (Sat, 17 Oct 2020).
| TO THE DEVELOPERS/MAINTAINERS OF THE subSeq PACKAGE: Please make sure to use the following settings in order to reproduce any error or warning you see on this page. | 
| Package 1756/1905 | Hostname | OS / Arch | INSTALL | BUILD | CHECK | BUILD BIN | ||||||
| subSeq 1.18.0 Andrew J. Bass 
 | malbec2 | Linux (Ubuntu 18.04.4 LTS) / x86_64 | OK | OK | OK |  | ||||||
| tokay2 | Windows Server 2012 R2 Standard / x64 | [ OK ] | OK | OK | NA | |||||||
| machv2 | macOS 10.14.6 Mojave / x86_64 | OK | OK | OK | OK |  | 
| Package: subSeq | 
| Version: 1.18.0 | 
| Command: C:\cygwin\bin\curl.exe -O https://malbec2.bioconductor.org/BBS/3.11/bioc/src/contrib/subSeq_1.18.0.tar.gz && rm -rf subSeq.buildbin-libdir && mkdir subSeq.buildbin-libdir && C:\Users\biocbuild\bbs-3.11-bioc\R\bin\R.exe CMD INSTALL --merge-multiarch --build --library=subSeq.buildbin-libdir subSeq_1.18.0.tar.gz && C:\Users\biocbuild\bbs-3.11-bioc\R\bin\R.exe CMD INSTALL subSeq_1.18.0.zip && rm subSeq_1.18.0.tar.gz subSeq_1.18.0.zip | 
| StartedAt: 2020-10-16 17:35:18 -0400 (Fri, 16 Oct 2020) | 
| EndedAt: 2020-10-16 17:35:53 -0400 (Fri, 16 Oct 2020) | 
| EllapsedTime: 34.8 seconds | 
| RetCode: 0 | 
| Status: OK | 
##############################################################################
##############################################################################
###
### Running command:
###
###   C:\cygwin\bin\curl.exe -O https://malbec2.bioconductor.org/BBS/3.11/bioc/src/contrib/subSeq_1.18.0.tar.gz && rm -rf subSeq.buildbin-libdir && mkdir subSeq.buildbin-libdir && C:\Users\biocbuild\bbs-3.11-bioc\R\bin\R.exe CMD INSTALL --merge-multiarch --build --library=subSeq.buildbin-libdir subSeq_1.18.0.tar.gz && C:\Users\biocbuild\bbs-3.11-bioc\R\bin\R.exe CMD INSTALL subSeq_1.18.0.zip && rm subSeq_1.18.0.tar.gz subSeq_1.18.0.zip
###
##############################################################################
##############################################################################
  % Total    % Received % Xferd  Average Speed   Time    Time     Time  Current
                                 Dload  Upload   Total   Spent    Left  Speed
  0     0    0     0    0     0      0      0 --:--:-- --:--:-- --:--:--     0
100 2774k  100 2774k    0     0  21.0M      0 --:--:-- --:--:-- --:--:-- 22.2M
install for i386
* installing *source* package 'subSeq' ...
** using staged installation
** R
** data
** byte-compile and prepare package for lazy loading
** help
*** installing help indices
  converting help for package 'subSeq'
    finding HTML links ... done
    combineSubsamples                       html  
    generateSubsampledMatrix                html  
    getSeed                                 html  
    hammer                                  html  
    plot.subsamples                         html  
    plot.summary.subsamples                 html  
    ss                                      html  
    subsample                               html  
    summary.subsamples                      html  
** building package indices
** installing vignettes
** testing if installed package can be loaded from temporary location
** testing if installed package can be loaded from final location
** testing if installed package keeps a record of temporary installation path
install for x64
* installing *source* package 'subSeq' ...
** testing if installed package can be loaded
* MD5 sums
packaged installation of 'subSeq' as subSeq_1.18.0.zip
* DONE (subSeq)
* installing to library 'C:/Users/biocbuild/bbs-3.11-bioc/R/library'
package 'subSeq' successfully unpacked and MD5 sums checked