| Back to Multiple platform build/check report for BioC 3.11 |
|
This page was generated on 2020-10-17 11:57:53 -0400 (Sat, 17 Oct 2020).
| TO THE DEVELOPERS/MAINTAINERS OF THE structToolbox PACKAGE: Please make sure to use the following settings in order to reproduce any error or warning you see on this page. |
| Package 1753/1905 | Hostname | OS / Arch | INSTALL | BUILD | CHECK | BUILD BIN | ||||||
| structToolbox 1.0.1 Gavin Rhys Lloyd
| malbec2 | Linux (Ubuntu 18.04.4 LTS) / x86_64 | OK | OK | OK | |||||||
| tokay2 | Windows Server 2012 R2 Standard / x64 | [ OK ] | OK | OK | NA | |||||||
| machv2 | macOS 10.14.6 Mojave / x86_64 | OK | OK | OK | OK |
| Package: structToolbox |
| Version: 1.0.1 |
| Command: C:\cygwin\bin\curl.exe -O https://malbec2.bioconductor.org/BBS/3.11/bioc/src/contrib/structToolbox_1.0.1.tar.gz && rm -rf structToolbox.buildbin-libdir && mkdir structToolbox.buildbin-libdir && C:\Users\biocbuild\bbs-3.11-bioc\R\bin\R.exe CMD INSTALL --merge-multiarch --build --library=structToolbox.buildbin-libdir structToolbox_1.0.1.tar.gz && C:\Users\biocbuild\bbs-3.11-bioc\R\bin\R.exe CMD INSTALL structToolbox_1.0.1.zip && rm structToolbox_1.0.1.tar.gz structToolbox_1.0.1.zip |
| StartedAt: 2020-10-16 18:16:37 -0400 (Fri, 16 Oct 2020) |
| EndedAt: 2020-10-16 18:19:02 -0400 (Fri, 16 Oct 2020) |
| EllapsedTime: 144.5 seconds |
| RetCode: 0 |
| Status: OK |
##############################################################################
##############################################################################
###
### Running command:
###
### C:\cygwin\bin\curl.exe -O https://malbec2.bioconductor.org/BBS/3.11/bioc/src/contrib/structToolbox_1.0.1.tar.gz && rm -rf structToolbox.buildbin-libdir && mkdir structToolbox.buildbin-libdir && C:\Users\biocbuild\bbs-3.11-bioc\R\bin\R.exe CMD INSTALL --merge-multiarch --build --library=structToolbox.buildbin-libdir structToolbox_1.0.1.tar.gz && C:\Users\biocbuild\bbs-3.11-bioc\R\bin\R.exe CMD INSTALL structToolbox_1.0.1.zip && rm structToolbox_1.0.1.tar.gz structToolbox_1.0.1.zip
###
##############################################################################
##############################################################################
% Total % Received % Xferd Average Speed Time Time Time Current
Dload Upload Total Spent Left Speed
0 0 0 0 0 0 0 0 --:--:-- --:--:-- --:--:-- 0
100 2757k 100 2757k 0 0 27.2M 0 --:--:-- --:--:-- --:--:-- 28.9M
install for i386
* installing *source* package 'structToolbox' ...
** using staged installation
** R
** byte-compile and prepare package for lazy loading
** help
*** installing help indices
converting help for package 'structToolbox'
finding HTML links ... done
ANOVA html
AUC html
DFA html
DatasetExperiment_boxplot html
DatasetExperiment_dist html
DatasetExperiment_factor_barchart html
DatasetExperiment_heatmap html
HCA html
HSD html
HSDEM html
MTBLS79_DatasetExperiment html
PCA html
PLSDA html
PLSR html
SVM html
as_data_frame html
autoscale html
balanced_accuracy html
blank_filter html
blank_filter_hist html
bootstrap html
calculate html
chart_plot html
classical_lsq html
compare_dist html
confounders_clsq html
confounders_lsq_barchart html
confounders_lsq_boxplot html
constant_sum_norm html
corr_coef html
dfa_scores_plot html
dratio_filter html
feature_boxplot html
feature_profile html
filter_by_name html
filter_na_count html
filter_smeta html
fisher_exact html
fold_change html
fold_change_int html
fold_change_plot html
forward_selection_byrank html
fs_line html
glog_opt_plot html
glog_transform html
grid_search_1d html
gs_line html
hca_dendrogram html
kfold_xval html
kfoldxcv_grid html
kfoldxcv_metric html
knn_impute html
kw_p_hist html
kw_rank_sum html
linear_model html
log_transform html
mean_centre html
mean_of_medians html
mixed_effect html
model_apply html
model_predict html
model_reverse html
model_train html
mv_boxplot html
mv_feature_filter html
mv_feature_filter_hist html
mv_histogram html
mv_sample_filter html
mv_sample_filter_hist html
nroot_transform html
pairs_filter html
pareto_scale html
pca_biplot_plot html
pca_correlation_plot html
pca_dstat_plot html
pca_loadings_plot html
pca_scores_plot html
pca_scree_plot html
permutation_test html
permutation_test_plot html
permute_sample_order html
plsda_predicted_plot html
plsda_regcoeff_plot html
plsda_roc_plot html
plsda_scores_plot html
plsda_vip_plot html
plsr_cook_dist html
plsr_prediction_plot html
plsr_qq_plot html
plsr_residual_hist html
pqn_norm html
pqn_norm_hist html
prop_na html
r_squared html
rsd_filter html
rsd_filter_hist html
run html
sb_corr html
split_data html
stratified_split html
structToolbox html
svm_plot_2d html
tSNE html
tSNE_scatter html
ttest html
vec_norm html
wilcox_p_hist html
wilcox_test html
** building package indices
** installing vignettes
** testing if installed package can be loaded from temporary location
** testing if installed package can be loaded from final location
** testing if installed package keeps a record of temporary installation path
install for x64
* installing *source* package 'structToolbox' ...
** testing if installed package can be loaded
* MD5 sums
packaged installation of 'structToolbox' as structToolbox_1.0.1.zip
* DONE (structToolbox)
* installing to library 'C:/Users/biocbuild/bbs-3.11-bioc/R/library'
package 'structToolbox' successfully unpacked and MD5 sums checked