| Back to Multiple platform build/check report for BioC 3.11 |
|
This page was generated on 2020-10-17 11:55:52 -0400 (Sat, 17 Oct 2020).
| TO THE DEVELOPERS/MAINTAINERS OF THE structToolbox PACKAGE: Please make sure to use the following settings in order to reproduce any error or warning you see on this page. |
| Package 1753/1905 | Hostname | OS / Arch | INSTALL | BUILD | CHECK | BUILD BIN | ||||||
| structToolbox 1.0.1 Gavin Rhys Lloyd
| malbec2 | Linux (Ubuntu 18.04.4 LTS) / x86_64 | OK | OK | [ OK ] | |||||||
| tokay2 | Windows Server 2012 R2 Standard / x64 | OK | OK | OK | NA | |||||||
| machv2 | macOS 10.14.6 Mojave / x86_64 | OK | OK | OK | OK |
| Package: structToolbox |
| Version: 1.0.1 |
| Command: /home/biocbuild/bbs-3.11-bioc/R/bin/R CMD check --install=check:structToolbox.install-out.txt --library=/home/biocbuild/bbs-3.11-bioc/R/library --no-vignettes --timings structToolbox_1.0.1.tar.gz |
| StartedAt: 2020-10-17 05:53:13 -0400 (Sat, 17 Oct 2020) |
| EndedAt: 2020-10-17 05:59:39 -0400 (Sat, 17 Oct 2020) |
| EllapsedTime: 386.7 seconds |
| RetCode: 0 |
| Status: OK |
| CheckDir: structToolbox.Rcheck |
| Warnings: 0 |
##############################################################################
##############################################################################
###
### Running command:
###
### /home/biocbuild/bbs-3.11-bioc/R/bin/R CMD check --install=check:structToolbox.install-out.txt --library=/home/biocbuild/bbs-3.11-bioc/R/library --no-vignettes --timings structToolbox_1.0.1.tar.gz
###
##############################################################################
##############################################################################
* using log directory ‘/home/biocbuild/bbs-3.11-bioc/meat/structToolbox.Rcheck’
* using R version 4.0.3 (2020-10-10)
* using platform: x86_64-pc-linux-gnu (64-bit)
* using session charset: UTF-8
* using option ‘--no-vignettes’
* checking for file ‘structToolbox/DESCRIPTION’ ... OK
* checking extension type ... Package
* this is package ‘structToolbox’ version ‘1.0.1’
* package encoding: UTF-8
* checking package namespace information ... OK
* checking package dependencies ... OK
* checking if this is a source package ... OK
* checking if there is a namespace ... OK
* checking for hidden files and directories ... OK
* checking for portable file names ... OK
* checking for sufficient/correct file permissions ... OK
* checking whether package ‘structToolbox’ can be installed ... OK
* checking installed package size ... OK
* checking package directory ... OK
* checking ‘build’ directory ... OK
* checking DESCRIPTION meta-information ... OK
* checking top-level files ... OK
* checking for left-over files ... OK
* checking index information ... OK
* checking package subdirectories ... OK
* checking R files for non-ASCII characters ... OK
* checking R files for syntax errors ... OK
* checking whether the package can be loaded ... OK
* checking whether the package can be loaded with stated dependencies ... OK
* checking whether the package can be unloaded cleanly ... OK
* checking whether the namespace can be loaded with stated dependencies ... OK
* checking whether the namespace can be unloaded cleanly ... OK
* checking dependencies in R code ... OK
* checking S3 generic/method consistency ... OK
* checking replacement functions ... OK
* checking foreign function calls ... OK
* checking R code for possible problems ... OK
* checking Rd files ... OK
* checking Rd metadata ... OK
* checking Rd cross-references ... OK
* checking for missing documentation entries ... OK
* checking for code/documentation mismatches ... OK
* checking Rd \usage sections ... OK
* checking Rd contents ... OK
* checking for unstated dependencies in examples ... OK
* checking R/sysdata.rda ... OK
* checking files in ‘vignettes’ ... OK
* checking examples ... OK
Examples with CPU (user + system) or elapsed time > 5s
user system elapsed
fold_change_int 11.385 0.000 11.385
forward_selection_byrank 7.916 0.008 7.924
fisher_exact 7.638 0.004 7.642
fs_line 6.241 0.008 6.249
fold_change 6.183 0.004 6.187
* checking for unstated dependencies in ‘tests’ ... OK
* checking tests ...
Running ‘testthat.R’
OK
* checking for unstated dependencies in vignettes ... OK
* checking package vignettes in ‘inst/doc’ ... OK
* checking running R code from vignettes ... SKIPPED
* checking re-building of vignette outputs ... SKIPPED
* checking PDF version of manual ... OK
* DONE
Status: OK
structToolbox.Rcheck/00install.out
############################################################################## ############################################################################## ### ### Running command: ### ### /home/biocbuild/bbs-3.11-bioc/R/bin/R CMD INSTALL structToolbox ### ############################################################################## ############################################################################## * installing to library ‘/home/biocbuild/bbs-3.11-bioc/R/library’ * installing *source* package ‘structToolbox’ ... ** using staged installation ** R ** byte-compile and prepare package for lazy loading ** help *** installing help indices ** building package indices ** installing vignettes ** testing if installed package can be loaded from temporary location ** testing if installed package can be loaded from final location ** testing if installed package keeps a record of temporary installation path * DONE (structToolbox)
structToolbox.Rcheck/tests/testthat.Rout
R version 4.0.3 (2020-10-10) -- "Bunny-Wunnies Freak Out"
Copyright (C) 2020 The R Foundation for Statistical Computing
Platform: x86_64-pc-linux-gnu (64-bit)
R is free software and comes with ABSOLUTELY NO WARRANTY.
You are welcome to redistribute it under certain conditions.
Type 'license()' or 'licence()' for distribution details.
R is a collaborative project with many contributors.
Type 'contributors()' for more information and
'citation()' on how to cite R or R packages in publications.
Type 'demo()' for some demos, 'help()' for on-line help, or
'help.start()' for an HTML browser interface to help.
Type 'q()' to quit R.
> library(testthat)
> library(ggplot2)
> library(structToolbox)
Loading required package: struct
>
> test_check("structToolbox")
══ testthat results ═══════════════════════════════════════════════════════════
[ OK: 95 | SKIPPED: 0 | WARNINGS: 2 | FAILED: 0 ]
>
> proc.time()
user system elapsed
141.943 0.422 142.353
structToolbox.Rcheck/structToolbox-Ex.timings
| name | user | system | elapsed | |
| ANOVA | 0.678 | 0.015 | 0.694 | |
| AUC | 1.957 | 0.037 | 1.993 | |
| DFA | 0.177 | 0.000 | 0.178 | |
| DatasetExperiment_boxplot | 0.635 | 0.015 | 0.652 | |
| DatasetExperiment_dist | 1.589 | 0.017 | 1.605 | |
| DatasetExperiment_factor_barchart | 0.155 | 0.000 | 0.155 | |
| DatasetExperiment_heatmap | 0.002 | 0.000 | 0.001 | |
| HCA | 0.037 | 0.000 | 0.037 | |
| HSD | 0.380 | 0.004 | 0.409 | |
| HSDEM | 0.389 | 0.000 | 0.390 | |
| MTBLS79_DatasetExperiment | 0.001 | 0.000 | 0.001 | |
| PCA | 0.001 | 0.000 | 0.001 | |
| PLSDA | 0.001 | 0.000 | 0.001 | |
| PLSR | 0.002 | 0.000 | 0.003 | |
| SVM | 0.004 | 0.000 | 0.004 | |
| as_data_frame | 0.124 | 0.000 | 0.124 | |
| autoscale | 0.053 | 0.000 | 0.053 | |
| balanced_accuracy | 1.111 | 0.000 | 1.111 | |
| blank_filter | 0.314 | 0.007 | 0.323 | |
| blank_filter_hist | 0.001 | 0.001 | 0.001 | |
| bootstrap | 0.823 | 0.000 | 0.824 | |
| calculate | 0.004 | 0.000 | 0.005 | |
| chart_plot | 0.017 | 0.000 | 0.017 | |
| classical_lsq | 0.175 | 0.000 | 0.175 | |
| compare_dist | 3.678 | 0.020 | 3.698 | |
| confounders_clsq | 2.124 | 0.000 | 2.124 | |
| confounders_lsq_barchart | 2.514 | 0.000 | 2.514 | |
| confounders_lsq_boxplot | 2.258 | 0.000 | 2.258 | |
| constant_sum_norm | 0.002 | 0.000 | 0.002 | |
| corr_coef | 0.159 | 0.000 | 0.159 | |
| dfa_scores_plot | 0.465 | 0.000 | 0.465 | |
| dratio_filter | 0.586 | 0.000 | 0.585 | |
| feature_boxplot | 0.005 | 0.004 | 0.009 | |
| feature_profile | 0.402 | 0.000 | 0.402 | |
| filter_by_name | 0.025 | 0.000 | 0.024 | |
| filter_na_count | 0.873 | 0.000 | 0.873 | |
| filter_smeta | 0.042 | 0.000 | 0.042 | |
| fisher_exact | 7.638 | 0.004 | 7.642 | |
| fold_change | 6.183 | 0.004 | 6.187 | |
| fold_change_int | 11.385 | 0.000 | 11.385 | |
| fold_change_plot | 0.001 | 0.000 | 0.001 | |
| forward_selection_byrank | 7.916 | 0.008 | 7.924 | |
| fs_line | 6.241 | 0.008 | 6.249 | |
| glog_opt_plot | 0.435 | 0.000 | 0.435 | |
| glog_transform | 0.295 | 0.000 | 0.295 | |
| grid_search_1d | 3.619 | 0.028 | 3.652 | |
| gs_line | 0.001 | 0.000 | 0.001 | |
| hca_dendrogram | 0.001 | 0.000 | 0.001 | |
| kfold_xval | 3.183 | 0.000 | 3.199 | |
| kfoldxcv_grid | 2.956 | 0.000 | 2.956 | |
| kfoldxcv_metric | 0 | 0 | 0 | |
| knn_impute | 0.002 | 0.000 | 0.002 | |
| kw_p_hist | 0.001 | 0.000 | 0.001 | |
| kw_rank_sum | 0.052 | 0.000 | 0.052 | |
| linear_model | 0.013 | 0.000 | 0.013 | |
| log_transform | 0.001 | 0.000 | 0.002 | |
| mean_centre | 0 | 0 | 0 | |
| mean_of_medians | 0.067 | 0.000 | 0.067 | |
| mixed_effect | 0.129 | 0.000 | 0.129 | |
| model_apply | 0.017 | 0.000 | 0.017 | |
| model_predict | 0.047 | 0.000 | 0.047 | |
| model_reverse | 0.019 | 0.000 | 0.019 | |
| model_train | 0.05 | 0.00 | 0.05 | |
| mv_boxplot | 0.291 | 0.000 | 0.291 | |
| mv_feature_filter | 0.122 | 0.000 | 0.122 | |
| mv_feature_filter_hist | 0.001 | 0.000 | 0.001 | |
| mv_histogram | 0.247 | 0.000 | 0.247 | |
| mv_sample_filter | 0.003 | 0.000 | 0.003 | |
| mv_sample_filter_hist | 0.001 | 0.000 | 0.001 | |
| nroot_transform | 0.002 | 0.000 | 0.002 | |
| pairs_filter | 0.002 | 0.000 | 0.002 | |
| pareto_scale | 0.066 | 0.000 | 0.066 | |
| pca_biplot_plot | 0.005 | 0.000 | 0.006 | |
| pca_correlation_plot | 0.002 | 0.000 | 0.002 | |
| pca_dstat_plot | 0.002 | 0.000 | 0.002 | |
| pca_loadings_plot | 0.003 | 0.000 | 0.003 | |
| pca_scores_plot | 0.501 | 0.000 | 0.502 | |
| pca_scree_plot | 0.001 | 0.000 | 0.001 | |
| permutation_test | 0.002 | 0.000 | 0.002 | |
| permutation_test_plot | 0.002 | 0.000 | 0.002 | |
| permute_sample_order | 0.002 | 0.000 | 0.001 | |
| plsda_predicted_plot | 0.416 | 0.000 | 0.415 | |
| plsda_regcoeff_plot | 0.322 | 0.000 | 0.322 | |
| plsda_roc_plot | 0.548 | 0.000 | 0.549 | |
| plsda_scores_plot | 0.347 | 0.000 | 0.347 | |
| plsda_vip_plot | 0.226 | 0.000 | 0.226 | |
| plsr_cook_dist | 0.000 | 0.001 | 0.001 | |
| plsr_prediction_plot | 0.000 | 0.001 | 0.001 | |
| plsr_qq_plot | 0.000 | 0.001 | 0.001 | |
| plsr_residual_hist | 0.001 | 0.000 | 0.001 | |
| pqn_norm | 0.692 | 0.000 | 0.692 | |
| pqn_norm_hist | 0.001 | 0.000 | 0.001 | |
| prop_na | 0.004 | 0.000 | 0.004 | |
| r_squared | 0.001 | 0.000 | 0.001 | |
| rsd_filter | 0.000 | 0.002 | 0.003 | |
| rsd_filter_hist | 0 | 0 | 0 | |
| run | 0.018 | 0.000 | 0.018 | |
| sb_corr | 0.004 | 0.000 | 0.004 | |
| split_data | 0.002 | 0.000 | 0.002 | |
| stratified_split | 0.085 | 0.000 | 0.085 | |
| svm_plot_2d | 0.765 | 0.000 | 0.765 | |
| tSNE | 0.002 | 0.000 | 0.002 | |
| tSNE_scatter | 0.001 | 0.000 | 0.001 | |
| ttest | 0.003 | 0.000 | 0.003 | |
| vec_norm | 0.001 | 0.000 | 0.001 | |
| wilcox_p_hist | 0 | 0 | 0 | |
| wilcox_test | 0.003 | 0.000 | 0.003 | |