| Back to Multiple platform build/check report for BioC 3.11 | 
  | 
This page was generated on 2020-10-16 11:58:58 -0400 (Fri, 16 Oct 2020).
| TO THE DEVELOPERS/MAINTAINERS OF THE staRank PACKAGE: Please make sure to use the following settings in order to reproduce any error or warning you see on this page. | 
| Package 1741/1905 | Hostname | OS / Arch | INSTALL | BUILD | CHECK | BUILD BIN | ||||||
| staRank 1.30.0 Juliane Siebourg 
  | malbec2 | Linux (Ubuntu 18.04.4 LTS) / x86_64 | OK | OK | OK | |||||||
| tokay2 | Windows Server 2012 R2 Standard / x64 | OK | OK | OK | [ OK ] | |||||||
| machv2 | macOS 10.14.6 Mojave / x86_64 | OK | OK | OK | OK | 
| Package: staRank | 
| Version: 1.30.0 | 
| Command: rm -rf staRank.buildbin-libdir && mkdir staRank.buildbin-libdir && C:\Users\biocbuild\bbs-3.11-bioc\R\bin\R.exe CMD INSTALL --merge-multiarch --build --library=staRank.buildbin-libdir staRank_1.30.0.tar.gz | 
| StartedAt: 2020-10-16 11:25:16 -0400 (Fri, 16 Oct 2020) | 
| EndedAt: 2020-10-16 11:26:07 -0400 (Fri, 16 Oct 2020) | 
| EllapsedTime: 51.4 seconds | 
| RetCode: 0 | 
| Status: OK | 
| PackageFile: staRank_1.30.0.zip | 
| PackageFileSize: 1.095 MiB | 
##############################################################################
##############################################################################
###
### Running command:
###
###   rm -rf staRank.buildbin-libdir && mkdir staRank.buildbin-libdir && C:\Users\biocbuild\bbs-3.11-bioc\R\bin\R.exe CMD INSTALL --merge-multiarch --build --library=staRank.buildbin-libdir staRank_1.30.0.tar.gz
###
##############################################################################
##############################################################################
install for i386
* installing *source* package 'staRank' ...
** using staged installation
** R
** data
** inst
** byte-compile and prepare package for lazy loading
** help
*** installing help indices
  converting help for package 'staRank'
    finding HTML links ... done
    Pi-methods                              html  
    RankSummary-class                       html  
    aggregRank                              html  
    avrgRank-methods                        html  
    baseRank-methods                        html  
    dataFormatRSA                           html  
    getRankmatrix                           html  
    getSampleScores-methods                 html  
    getStability                            html  
    method-methods                          html  
    mwTest2samp                             html  
    rankCor-methods                         html  
    runRSA                                  html  
    salmonellaInfection                     html  
    salmonellaStability                     html  
    show-methods                            html  
    staRank-package                         html  
    stabRank-methods                        html  
    stabilityRanking-methods                html  
    stableSetSize-methods                   html  
    summary-methods                         html  
    summaryStats-methods                    html  
    uniqueRSARanking                        html  
** building package indices
** installing vignettes
** testing if installed package can be loaded from temporary location
** testing if installed package can be loaded from final location
** testing if installed package keeps a record of temporary installation path
install for x64
* installing *source* package 'staRank' ...
** testing if installed package can be loaded
* MD5 sums
packaged installation of 'staRank' as staRank_1.30.0.zip
* DONE (staRank)