| Back to Multiple platform build/check report for BioC 3.11 |
|
This page was generated on 2020-10-17 11:59:43 -0400 (Sat, 17 Oct 2020).
| TO THE DEVELOPERS/MAINTAINERS OF THE staRank PACKAGE: Please make sure to use the following settings in order to reproduce any error or warning you see on this page. |
| Package 1741/1905 | Hostname | OS / Arch | INSTALL | BUILD | CHECK | BUILD BIN | ||||||
| staRank 1.30.0 Juliane Siebourg
| malbec2 | Linux (Ubuntu 18.04.4 LTS) / x86_64 | OK | OK | OK | |||||||
| tokay2 | Windows Server 2012 R2 Standard / x64 | OK | OK | OK | NA | |||||||
| machv2 | macOS 10.14.6 Mojave / x86_64 | OK | OK | [ OK ] | OK |
| Package: staRank |
| Version: 1.30.0 |
| Command: /Library/Frameworks/R.framework/Versions/Current/Resources/bin/R CMD check --install=check:staRank.install-out.txt --library=/Library/Frameworks/R.framework/Versions/Current/Resources/library --no-vignettes --timings staRank_1.30.0.tar.gz |
| StartedAt: 2020-10-17 05:40:45 -0400 (Sat, 17 Oct 2020) |
| EndedAt: 2020-10-17 05:44:24 -0400 (Sat, 17 Oct 2020) |
| EllapsedTime: 218.3 seconds |
| RetCode: 0 |
| Status: OK |
| CheckDir: staRank.Rcheck |
| Warnings: 0 |
##############################################################################
##############################################################################
###
### Running command:
###
### /Library/Frameworks/R.framework/Versions/Current/Resources/bin/R CMD check --install=check:staRank.install-out.txt --library=/Library/Frameworks/R.framework/Versions/Current/Resources/library --no-vignettes --timings staRank_1.30.0.tar.gz
###
##############################################################################
##############################################################################
* using log directory ‘/Users/biocbuild/bbs-3.11-bioc/meat/staRank.Rcheck’
* using R version 4.0.3 (2020-10-10)
* using platform: x86_64-apple-darwin17.0 (64-bit)
* using session charset: UTF-8
* using option ‘--no-vignettes’
* checking for file ‘staRank/DESCRIPTION’ ... OK
* checking extension type ... Package
* this is package ‘staRank’ version ‘1.30.0’
* checking package namespace information ... OK
* checking package dependencies ... OK
* checking if this is a source package ... OK
* checking if there is a namespace ... OK
* checking for hidden files and directories ... OK
* checking for portable file names ... OK
* checking for sufficient/correct file permissions ... OK
* checking whether package ‘staRank’ can be installed ... OK
* checking installed package size ... OK
* checking package directory ... OK
* checking ‘build’ directory ... OK
* checking DESCRIPTION meta-information ... OK
* checking top-level files ... OK
* checking for left-over files ... OK
* checking index information ... OK
* checking package subdirectories ... OK
* checking R files for non-ASCII characters ... OK
* checking R files for syntax errors ... OK
* checking whether the package can be loaded ... OK
* checking whether the package can be loaded with stated dependencies ... OK
* checking whether the package can be unloaded cleanly ... OK
* checking whether the namespace can be loaded with stated dependencies ... OK
* checking whether the namespace can be unloaded cleanly ... OK
* checking dependencies in R code ... OK
* checking S3 generic/method consistency ... OK
* checking replacement functions ... OK
* checking foreign function calls ... OK
* checking R code for possible problems ... NOTE
OPIScore : <anonymous>: no visible global function definition for
‘phyper’
aggregRank : <anonymous>: no visible global function definition for
‘median’
mwTest2samp: no visible global function definition for ‘pwilcox’
mwTest2samp: no visible global function definition for ‘pnorm’
show,RankSummary: no visible global function definition for ‘head’
stabilityRanking,cellHTS: no visible global function definition for
‘channelNames’
stabilityRanking,cellHTS: no visible global function definition for
‘sampleNames’
stabilityRanking,cellHTS: no visible global function definition for
‘featureNames’
stabilityRanking,numeric: no visible global function definition for
‘avrgRank<-’
stabilityRanking,numeric: no visible global function definition for
‘cor’
summaryStats,list : <anonymous>: no visible global function definition
for ‘median’
summaryStats,list : <anonymous>: no visible global function definition
for ‘t.test’
summaryStats,matrix : <anonymous>: no visible global function
definition for ‘median’
summaryStats,matrix : <anonymous>: no visible global function
definition for ‘t.test’
Undefined global functions or variables:
avrgRank<- channelNames cor featureNames head median phyper pnorm
pwilcox sampleNames t.test
Consider adding
importFrom("stats", "cor", "median", "phyper", "pnorm", "pwilcox",
"t.test")
importFrom("utils", "head")
to your NAMESPACE file.
* checking Rd files ... OK
* checking Rd metadata ... OK
* checking Rd cross-references ... OK
* checking for missing documentation entries ... OK
* checking for code/documentation mismatches ... OK
* checking Rd \usage sections ... OK
* checking Rd contents ... OK
* checking for unstated dependencies in examples ... OK
* checking contents of ‘data’ directory ... OK
* checking data for non-ASCII characters ... OK
* checking data for ASCII and uncompressed saves ... OK
* checking sizes of PDF files under ‘inst/doc’ ... OK
* checking files in ‘vignettes’ ... OK
* checking examples ... OK
* checking for unstated dependencies in vignettes ... OK
* checking package vignettes in ‘inst/doc’ ... OK
* checking running R code from vignettes ... SKIPPED
* checking re-building of vignette outputs ... SKIPPED
* checking PDF version of manual ... OK
* DONE
Status: 1 NOTE
See
‘/Users/biocbuild/bbs-3.11-bioc/meat/staRank.Rcheck/00check.log’
for details.
staRank.Rcheck/00install.out
############################################################################## ############################################################################## ### ### Running command: ### ### /Library/Frameworks/R.framework/Versions/Current/Resources/bin/R CMD INSTALL staRank ### ############################################################################## ############################################################################## * installing to library ‘/Library/Frameworks/R.framework/Versions/4.0/Resources/library’ * installing *source* package ‘staRank’ ... ** using staged installation ** R ** data ** inst ** byte-compile and prepare package for lazy loading ** help *** installing help indices ** building package indices ** installing vignettes ** testing if installed package can be loaded from temporary location ** testing if installed package can be loaded from final location ** testing if installed package keeps a record of temporary installation path * DONE (staRank)
staRank.Rcheck/staRank-Ex.timings
| name | user | system | elapsed | |
| RankSummary-class | 0.209 | 0.007 | 0.217 | |
| aggregRank | 0.169 | 0.006 | 0.176 | |
| dataFormatRSA | 0.112 | 0.009 | 0.122 | |
| getRankmatrix | 0.582 | 0.010 | 0.593 | |
| getSampleScores-methods | 0.121 | 0.004 | 0.125 | |
| getStability | 0.129 | 0.006 | 0.134 | |
| mwTest2samp | 0.001 | 0.000 | 0.001 | |
| runRSA | 0.125 | 0.006 | 0.132 | |
| staRank-package | 0.138 | 0.020 | 0.159 | |
| stabilityRanking-methods | 0.124 | 0.016 | 0.140 | |
| summary-methods | 0.129 | 0.018 | 0.146 | |
| summaryStats-methods | 0.141 | 0.011 | 0.152 | |
| uniqueRSARanking | 0.130 | 0.003 | 0.133 | |