| Back to Multiple platform build/check report for BioC 3.11 |
|
This page was generated on 2020-10-16 11:58:58 -0400 (Fri, 16 Oct 2020).
| TO THE DEVELOPERS/MAINTAINERS OF THE ssviz PACKAGE: Please make sure to use the following settings in order to reproduce any error or warning you see on this page. |
| Package 1738/1905 | Hostname | OS / Arch | INSTALL | BUILD | CHECK | BUILD BIN | ||||||
| ssviz 1.22.0 Diana Low
| malbec2 | Linux (Ubuntu 18.04.4 LTS) / x86_64 | OK | OK | OK | |||||||
| tokay2 | Windows Server 2012 R2 Standard / x64 | OK | OK | OK | [ OK ] | |||||||
| machv2 | macOS 10.14.6 Mojave / x86_64 | OK | OK | OK | OK |
| Package: ssviz |
| Version: 1.22.0 |
| Command: rm -rf ssviz.buildbin-libdir && mkdir ssviz.buildbin-libdir && C:\Users\biocbuild\bbs-3.11-bioc\R\bin\R.exe CMD INSTALL --merge-multiarch --build --library=ssviz.buildbin-libdir ssviz_1.22.0.tar.gz |
| StartedAt: 2020-10-16 11:25:04 -0400 (Fri, 16 Oct 2020) |
| EndedAt: 2020-10-16 11:25:56 -0400 (Fri, 16 Oct 2020) |
| EllapsedTime: 51.5 seconds |
| RetCode: 0 |
| Status: OK |
| PackageFile: ssviz_1.22.0.zip |
| PackageFileSize: 995.2 KiB |
##############################################################################
##############################################################################
###
### Running command:
###
### rm -rf ssviz.buildbin-libdir && mkdir ssviz.buildbin-libdir && C:\Users\biocbuild\bbs-3.11-bioc\R\bin\R.exe CMD INSTALL --merge-multiarch --build --library=ssviz.buildbin-libdir ssviz_1.22.0.tar.gz
###
##############################################################################
##############################################################################
install for i386
* installing *source* package 'ssviz' ...
** using staged installation
** R
** data
** inst
** byte-compile and prepare package for lazy loading
** help
*** installing help indices
converting help for package 'ssviz'
finding HTML links ... done
counts html
ctrlbam html
getCountMatrix-methods html
getCountMatrix html
logicalORmissing-class html
ntfreq-methods html
ntfreq html
pctrlbam html
pingpong-methods html
pingpong html
plotDistro-methods html
plotDistro html
plotFreq-methods html
plotFreq html
plotPP-methods html
plotPP html
plotRegion-methods html
plotRegion html
ptreatbam html
readBam-methods html
readBam html
ssviz-package html
treatbam html
** building package indices
** installing vignettes
** testing if installed package can be loaded from temporary location
** testing if installed package can be loaded from final location
** testing if installed package keeps a record of temporary installation path
install for x64
* installing *source* package 'ssviz' ...
** testing if installed package can be loaded
* MD5 sums
packaged installation of 'ssviz' as ssviz_1.22.0.zip
* DONE (ssviz)