| Back to Multiple platform build/check report for BioC 3.11 |
|
This page was generated on 2020-10-17 11:57:52 -0400 (Sat, 17 Oct 2020).
| TO THE DEVELOPERS/MAINTAINERS OF THE ssviz PACKAGE: Please make sure to use the following settings in order to reproduce any error or warning you see on this page. |
| Package 1738/1905 | Hostname | OS / Arch | INSTALL | BUILD | CHECK | BUILD BIN | ||||||
| ssviz 1.22.0 Diana Low
| malbec2 | Linux (Ubuntu 18.04.4 LTS) / x86_64 | OK | OK | OK | |||||||
| tokay2 | Windows Server 2012 R2 Standard / x64 | [ OK ] | OK | OK | NA | |||||||
| machv2 | macOS 10.14.6 Mojave / x86_64 | OK | OK | OK | OK |
| Package: ssviz |
| Version: 1.22.0 |
| Command: C:\cygwin\bin\curl.exe -O https://malbec2.bioconductor.org/BBS/3.11/bioc/src/contrib/ssviz_1.22.0.tar.gz && rm -rf ssviz.buildbin-libdir && mkdir ssviz.buildbin-libdir && C:\Users\biocbuild\bbs-3.11-bioc\R\bin\R.exe CMD INSTALL --merge-multiarch --build --library=ssviz.buildbin-libdir ssviz_1.22.0.tar.gz && C:\Users\biocbuild\bbs-3.11-bioc\R\bin\R.exe CMD INSTALL ssviz_1.22.0.zip && rm ssviz_1.22.0.tar.gz ssviz_1.22.0.zip |
| StartedAt: 2020-10-16 18:24:41 -0400 (Fri, 16 Oct 2020) |
| EndedAt: 2020-10-16 18:25:26 -0400 (Fri, 16 Oct 2020) |
| EllapsedTime: 45.3 seconds |
| RetCode: 0 |
| Status: OK |
##############################################################################
##############################################################################
###
### Running command:
###
### C:\cygwin\bin\curl.exe -O https://malbec2.bioconductor.org/BBS/3.11/bioc/src/contrib/ssviz_1.22.0.tar.gz && rm -rf ssviz.buildbin-libdir && mkdir ssviz.buildbin-libdir && C:\Users\biocbuild\bbs-3.11-bioc\R\bin\R.exe CMD INSTALL --merge-multiarch --build --library=ssviz.buildbin-libdir ssviz_1.22.0.tar.gz && C:\Users\biocbuild\bbs-3.11-bioc\R\bin\R.exe CMD INSTALL ssviz_1.22.0.zip && rm ssviz_1.22.0.tar.gz ssviz_1.22.0.zip
###
##############################################################################
##############################################################################
% Total % Received % Xferd Average Speed Time Time Time Current
Dload Upload Total Spent Left Speed
0 0 0 0 0 0 0 0 --:--:-- --:--:-- --:--:-- 0
0 0 0 0 0 0 0 0 --:--:-- --:--:-- --:--:-- 0
100 822k 100 822k 0 0 1846k 0 --:--:-- --:--:-- --:--:-- 1870k
install for i386
* installing *source* package 'ssviz' ...
** using staged installation
** R
** data
** inst
** byte-compile and prepare package for lazy loading
** help
*** installing help indices
converting help for package 'ssviz'
finding HTML links ... done
counts html
ctrlbam html
getCountMatrix-methods html
getCountMatrix html
logicalORmissing-class html
ntfreq-methods html
ntfreq html
pctrlbam html
pingpong-methods html
pingpong html
plotDistro-methods html
plotDistro html
plotFreq-methods html
plotFreq html
plotPP-methods html
plotPP html
plotRegion-methods html
plotRegion html
ptreatbam html
readBam-methods html
readBam html
ssviz-package html
treatbam html
** building package indices
** installing vignettes
** testing if installed package can be loaded from temporary location
** testing if installed package can be loaded from final location
** testing if installed package keeps a record of temporary installation path
install for x64
* installing *source* package 'ssviz' ...
** testing if installed package can be loaded
* MD5 sums
packaged installation of 'ssviz' as ssviz_1.22.0.zip
* DONE (ssviz)
* installing to library 'C:/Users/biocbuild/bbs-3.11-bioc/R/library'
package 'ssviz' successfully unpacked and MD5 sums checked