| Back to Multiple platform build/check report for BioC 3.11 |
|
This page was generated on 2020-10-16 11:58:56 -0400 (Fri, 16 Oct 2020).
| TO THE DEVELOPERS/MAINTAINERS OF THE spkTools PACKAGE: Please make sure to use the following settings in order to reproduce any error or warning you see on this page. |
| Package 1714/1905 | Hostname | OS / Arch | INSTALL | BUILD | CHECK | BUILD BIN | ||||||
| spkTools 1.44.0 Matthew N McCall
| malbec2 | Linux (Ubuntu 18.04.4 LTS) / x86_64 | OK | OK | OK | |||||||
| tokay2 | Windows Server 2012 R2 Standard / x64 | OK | OK | OK | [ OK ] | |||||||
| machv2 | macOS 10.14.6 Mojave / x86_64 | OK | OK | OK | OK |
| Package: spkTools |
| Version: 1.44.0 |
| Command: rm -rf spkTools.buildbin-libdir && mkdir spkTools.buildbin-libdir && C:\Users\biocbuild\bbs-3.11-bioc\R\bin\R.exe CMD INSTALL --merge-multiarch --build --library=spkTools.buildbin-libdir spkTools_1.44.0.tar.gz |
| StartedAt: 2020-10-16 11:23:37 -0400 (Fri, 16 Oct 2020) |
| EndedAt: 2020-10-16 11:24:09 -0400 (Fri, 16 Oct 2020) |
| EllapsedTime: 32.2 seconds |
| RetCode: 0 |
| Status: OK |
| PackageFile: spkTools_1.44.0.zip |
| PackageFileSize: 724.7 KiB |
##############################################################################
##############################################################################
###
### Running command:
###
### rm -rf spkTools.buildbin-libdir && mkdir spkTools.buildbin-libdir && C:\Users\biocbuild\bbs-3.11-bioc\R\bin\R.exe CMD INSTALL --merge-multiarch --build --library=spkTools.buildbin-libdir spkTools_1.44.0.tar.gz
###
##############################################################################
##############################################################################
install for i386
* installing *source* package 'spkTools' ...
** using staged installation
** R
** data
** inst
** byte-compile and prepare package for lazy loading
** help
*** installing help indices
converting help for package 'spkTools'
finding HTML links ... done
SpikeInExpressSet-class html
affy html
plotSpkBox html
spkAccSD html
spkAll html
spkAnova html
spkBal html
spkBox html
spkDensity html
spkGNN html
spkMA html
spkPair html
spkPairNS html
spkPot html
spkQuantile html
spkSlope html
spkTools html
spkVar html
summarySpkBox html
** building package indices
** installing vignettes
** testing if installed package can be loaded from temporary location
** testing if installed package can be loaded from final location
** testing if installed package keeps a record of temporary installation path
install for x64
* installing *source* package 'spkTools' ...
** testing if installed package can be loaded
* MD5 sums
packaged installation of 'spkTools' as spkTools_1.44.0.zip
* DONE (spkTools)