| Back to Multiple platform build/check report for BioC 3.11 | 
 | 
This page was generated on 2020-10-17 11:59:41 -0400 (Sat, 17 Oct 2020).
| TO THE DEVELOPERS/MAINTAINERS OF THE spkTools PACKAGE: Please make sure to use the following settings in order to reproduce any error or warning you see on this page. | 
| Package 1714/1905 | Hostname | OS / Arch | INSTALL | BUILD | CHECK | BUILD BIN | ||||||
| spkTools 1.44.0 Matthew N McCall 
 | malbec2 | Linux (Ubuntu 18.04.4 LTS) / x86_64 | OK | OK | OK |  | ||||||
| tokay2 | Windows Server 2012 R2 Standard / x64 | OK | OK | OK | NA | |||||||
| machv2 | macOS 10.14.6 Mojave / x86_64 | OK | [ OK ] | OK | OK |  | 
| Package: spkTools | 
| Version: 1.44.0 | 
| Command: /Library/Frameworks/R.framework/Versions/Current/Resources/bin/R CMD build --keep-empty-dirs --no-resave-data spkTools | 
| StartedAt: 2020-10-16 21:25:41 -0400 (Fri, 16 Oct 2020) | 
| EndedAt: 2020-10-16 21:25:57 -0400 (Fri, 16 Oct 2020) | 
| EllapsedTime: 15.1 seconds | 
| RetCode: 0 | 
| Status: OK | 
| PackageFile: spkTools_1.44.0.tar.gz | 
| PackageFileSize: 546.6 KiB | 
############################################################################## ############################################################################## ### ### Running command: ### ### /Library/Frameworks/R.framework/Versions/Current/Resources/bin/R CMD build --keep-empty-dirs --no-resave-data spkTools ### ############################################################################## ############################################################################## * checking for file ‘spkTools/DESCRIPTION’ ... OK * preparing ‘spkTools’: * checking DESCRIPTION meta-information ... OK * installing the package to build vignettes * creating vignettes ... OK * checking for LF line-endings in source and make files and shell scripts * checking for empty or unneeded directories * looking to see if a ‘data/datalist’ file should be added * building ‘spkTools_1.44.0.tar.gz’