| Back to Multiple platform build/check report for BioC 3.11 |
|
This page was generated on 2020-10-16 11:58:55 -0400 (Fri, 16 Oct 2020).
| TO THE DEVELOPERS/MAINTAINERS OF THE snapcount PACKAGE: Please make sure to use the following settings in order to reproduce any error or warning you see on this page. |
| Package 1690/1905 | Hostname | OS / Arch | INSTALL | BUILD | CHECK | BUILD BIN | ||||||
| snapcount 1.0.0 Rone Charles
| malbec2 | Linux (Ubuntu 18.04.4 LTS) / x86_64 | OK | OK | OK | |||||||
| tokay2 | Windows Server 2012 R2 Standard / x64 | OK | OK | OK | [ OK ] | |||||||
| machv2 | macOS 10.14.6 Mojave / x86_64 | OK | OK | OK | OK |
| Package: snapcount |
| Version: 1.0.0 |
| Command: rm -rf snapcount.buildbin-libdir && mkdir snapcount.buildbin-libdir && C:\Users\biocbuild\bbs-3.11-bioc\R\bin\R.exe CMD INSTALL --merge-multiarch --build --library=snapcount.buildbin-libdir snapcount_1.0.0.tar.gz |
| StartedAt: 2020-10-16 11:22:11 -0400 (Fri, 16 Oct 2020) |
| EndedAt: 2020-10-16 11:23:07 -0400 (Fri, 16 Oct 2020) |
| EllapsedTime: 56.0 seconds |
| RetCode: 0 |
| Status: OK |
| PackageFile: snapcount_1.0.0.zip |
| PackageFileSize: 719.2 KiB |
##############################################################################
##############################################################################
###
### Running command:
###
### rm -rf snapcount.buildbin-libdir && mkdir snapcount.buildbin-libdir && C:\Users\biocbuild\bbs-3.11-bioc\R\bin\R.exe CMD INSTALL --merge-multiarch --build --library=snapcount.buildbin-libdir snapcount_1.0.0.tar.gz
###
##############################################################################
##############################################################################
install for i386
* installing *source* package 'snapcount' ...
** using staged installation
** R
** inst
** byte-compile and prepare package for lazy loading
** help
*** installing help indices
converting help for package 'snapcount'
finding HTML links ... done
Compilation html
Coordinates html
QueryBuilder html
from_url html
get_JunctionSeq_params html
get_column_filters html
get_compilation html
get_coordinate_modifier html
get_regions html
get_row_filters html
get_sids html
junction_inclusion_ratio html
junction_intersection html
junction_union html
percent_spliced_in html
query_jx html
shared_sample_counts html
snapcount-package html
tissue_specificity html
uri_of_last_successful_request html
** building package indices
** installing vignettes
** testing if installed package can be loaded from temporary location
** testing if installed package can be loaded from final location
** testing if installed package keeps a record of temporary installation path
install for x64
* installing *source* package 'snapcount' ...
** testing if installed package can be loaded
* MD5 sums
packaged installation of 'snapcount' as snapcount_1.0.0.zip
* DONE (snapcount)