| Back to Multiple platform build/check report for BioC 3.11 |
|
This page was generated on 2020-10-17 11:59:39 -0400 (Sat, 17 Oct 2020).
| TO THE DEVELOPERS/MAINTAINERS OF THE snapcount PACKAGE: Please make sure to use the following settings in order to reproduce any error or warning you see on this page. |
| Package 1690/1905 | Hostname | OS / Arch | INSTALL | BUILD | CHECK | BUILD BIN | ||||||
| snapcount 1.0.0 Rone Charles
| malbec2 | Linux (Ubuntu 18.04.4 LTS) / x86_64 | OK | OK | OK | |||||||
| tokay2 | Windows Server 2012 R2 Standard / x64 | OK | OK | OK | NA | |||||||
| machv2 | macOS 10.14.6 Mojave / x86_64 | OK | OK | [ OK ] | OK |
| Package: snapcount |
| Version: 1.0.0 |
| Command: /Library/Frameworks/R.framework/Versions/Current/Resources/bin/R CMD check --install=check:snapcount.install-out.txt --library=/Library/Frameworks/R.framework/Versions/Current/Resources/library --no-vignettes --timings snapcount_1.0.0.tar.gz |
| StartedAt: 2020-10-17 05:29:32 -0400 (Sat, 17 Oct 2020) |
| EndedAt: 2020-10-17 05:36:00 -0400 (Sat, 17 Oct 2020) |
| EllapsedTime: 387.5 seconds |
| RetCode: 0 |
| Status: OK |
| CheckDir: snapcount.Rcheck |
| Warnings: 0 |
##############################################################################
##############################################################################
###
### Running command:
###
### /Library/Frameworks/R.framework/Versions/Current/Resources/bin/R CMD check --install=check:snapcount.install-out.txt --library=/Library/Frameworks/R.framework/Versions/Current/Resources/library --no-vignettes --timings snapcount_1.0.0.tar.gz
###
##############################################################################
##############################################################################
* using log directory ‘/Users/biocbuild/bbs-3.11-bioc/meat/snapcount.Rcheck’
* using R version 4.0.3 (2020-10-10)
* using platform: x86_64-apple-darwin17.0 (64-bit)
* using session charset: UTF-8
* using option ‘--no-vignettes’
* checking for file ‘snapcount/DESCRIPTION’ ... OK
* checking extension type ... Package
* this is package ‘snapcount’ version ‘1.0.0’
* package encoding: UTF-8
* checking package namespace information ... OK
* checking package dependencies ... OK
* checking if this is a source package ... OK
* checking if there is a namespace ... OK
* checking for hidden files and directories ... OK
* checking for portable file names ... OK
* checking for sufficient/correct file permissions ... OK
* checking whether package ‘snapcount’ can be installed ... OK
* checking installed package size ... OK
* checking package directory ... OK
* checking ‘build’ directory ... OK
* checking DESCRIPTION meta-information ... OK
* checking top-level files ... OK
* checking for left-over files ... OK
* checking index information ... OK
* checking package subdirectories ... OK
* checking R files for non-ASCII characters ... OK
* checking R files for syntax errors ... OK
* checking whether the package can be loaded ... OK
* checking whether the package can be loaded with stated dependencies ... OK
* checking whether the package can be unloaded cleanly ... OK
* checking whether the namespace can be loaded with stated dependencies ... OK
* checking whether the namespace can be unloaded cleanly ... OK
* checking dependencies in R code ... OK
* checking S3 generic/method consistency ... OK
* checking replacement functions ... OK
* checking foreign function calls ... OK
* checking R code for possible problems ... OK
* checking Rd files ... OK
* checking Rd metadata ... OK
* checking Rd cross-references ... OK
* checking for missing documentation entries ... OK
* checking for code/documentation mismatches ... OK
* checking Rd \usage sections ... OK
* checking Rd contents ... OK
* checking for unstated dependencies in examples ... OK
* checking files in ‘vignettes’ ... OK
* checking examples ... OK
Examples with CPU (user + system) or elapsed time > 5s
user system elapsed
junction_intersection 9.791 0.547 14.703
junction_union 3.455 0.207 5.806
Compilation 2.599 0.113 5.883
* checking for unstated dependencies in ‘tests’ ... OK
* checking tests ...
Running ‘testthat.R’
OK
* checking for unstated dependencies in vignettes ... OK
* checking package vignettes in ‘inst/doc’ ... OK
* checking running R code from vignettes ... SKIPPED
* checking re-building of vignette outputs ... SKIPPED
* checking PDF version of manual ... OK
* DONE
Status: OK
snapcount.Rcheck/00install.out
############################################################################## ############################################################################## ### ### Running command: ### ### /Library/Frameworks/R.framework/Versions/Current/Resources/bin/R CMD INSTALL snapcount ### ############################################################################## ############################################################################## * installing to library ‘/Library/Frameworks/R.framework/Versions/4.0/Resources/library’ * installing *source* package ‘snapcount’ ... ** using staged installation ** R ** inst ** byte-compile and prepare package for lazy loading ** help *** installing help indices ** building package indices ** installing vignettes ** testing if installed package can be loaded from temporary location ** testing if installed package can be loaded from final location ** testing if installed package keeps a record of temporary installation path * DONE (snapcount)
snapcount.Rcheck/tests/testthat.Rout
R version 4.0.3 (2020-10-10) -- "Bunny-Wunnies Freak Out"
Copyright (C) 2020 The R Foundation for Statistical Computing
Platform: x86_64-apple-darwin17.0 (64-bit)
R is free software and comes with ABSOLUTELY NO WARRANTY.
You are welcome to redistribute it under certain conditions.
Type 'license()' or 'licence()' for distribution details.
R is a collaborative project with many contributors.
Type 'contributors()' for more information and
'citation()' on how to cite R or R packages in publications.
Type 'demo()' for some demos, 'help()' for on-line help, or
'help.start()' for an HTML browser interface to help.
Type 'q()' to quit R.
> library(testthat)
> library(snapcount)
>
> test_check("snapcount")
Read 2 items
══ testthat results ═══════════════════════════════════════════════════════════
[ OK: 84 | SKIPPED: 0 | WARNINGS: 0 | FAILED: 0 ]
>
> proc.time()
user system elapsed
15.856 1.227 89.529
snapcount.Rcheck/snapcount-Ex.timings
| name | user | system | elapsed | |
| Compilation | 2.599 | 0.113 | 5.883 | |
| Coordinates | 0.043 | 0.006 | 0.049 | |
| QueryBuilder | 0.219 | 0.024 | 0.243 | |
| from_url | 0.011 | 0.002 | 1.507 | |
| get_JunctionSeq_params | 0.000 | 0.001 | 0.001 | |
| get_column_filters | 0.246 | 0.029 | 0.275 | |
| get_compilation | 0.002 | 0.000 | 0.003 | |
| get_coordinate_modifier | 0.002 | 0.001 | 0.002 | |
| get_regions | 0.104 | 0.013 | 0.118 | |
| get_row_filters | 0.004 | 0.001 | 0.004 | |
| get_sids | 0.002 | 0.001 | 0.002 | |
| junction_inclusion_ratio | 0.244 | 0.012 | 2.813 | |
| junction_intersection | 9.791 | 0.547 | 14.703 | |
| junction_union | 3.455 | 0.207 | 5.806 | |
| percent_spliced_in | 0.077 | 0.005 | 3.512 | |
| query_jx | 1.116 | 0.033 | 3.491 | |
| shared_sample_counts | 0.218 | 0.012 | 2.170 | |
| tissue_specificity | 0.058 | 0.007 | 1.919 | |
| uri_of_last_successful_request | 1.639 | 0.092 | 3.319 | |