| Back to Multiple platform build/check report for BioC 3.11 | 
  | 
This page was generated on 2020-10-17 11:57:45 -0400 (Sat, 17 Oct 2020).
| TO THE DEVELOPERS/MAINTAINERS OF THE scDblFinder PACKAGE: Please make sure to use the following settings in order to reproduce any error or warning you see on this page. | 
| Package 1588/1905 | Hostname | OS / Arch | INSTALL | BUILD | CHECK | BUILD BIN | ||||||
| scDblFinder 1.2.0 Pierre-Luc Germain 
  | malbec2 | Linux (Ubuntu 18.04.4 LTS) / x86_64 | OK | OK | OK | |||||||
| tokay2 | Windows Server 2012 R2 Standard / x64 | [ OK ] | OK | OK | OK | |||||||
| machv2 | macOS 10.14.6 Mojave / x86_64 | OK | OK | OK | OK | 
| Package: scDblFinder | 
| Version: 1.2.0 | 
| Command: C:\cygwin\bin\curl.exe -O https://malbec2.bioconductor.org/BBS/3.11/bioc/src/contrib/scDblFinder_1.2.0.tar.gz && rm -rf scDblFinder.buildbin-libdir && mkdir scDblFinder.buildbin-libdir && C:\Users\biocbuild\bbs-3.11-bioc\R\bin\R.exe CMD INSTALL --merge-multiarch --build --library=scDblFinder.buildbin-libdir scDblFinder_1.2.0.tar.gz && C:\Users\biocbuild\bbs-3.11-bioc\R\bin\R.exe CMD INSTALL scDblFinder_1.2.0.zip && rm scDblFinder_1.2.0.tar.gz scDblFinder_1.2.0.zip | 
| StartedAt: 2020-10-16 18:41:25 -0400 (Fri, 16 Oct 2020) | 
| EndedAt: 2020-10-16 18:42:16 -0400 (Fri, 16 Oct 2020) | 
| EllapsedTime: 50.9 seconds | 
| RetCode: 0 | 
| Status: OK | 
##############################################################################
##############################################################################
###
### Running command:
###
###   C:\cygwin\bin\curl.exe -O https://malbec2.bioconductor.org/BBS/3.11/bioc/src/contrib/scDblFinder_1.2.0.tar.gz && rm -rf scDblFinder.buildbin-libdir && mkdir scDblFinder.buildbin-libdir && C:\Users\biocbuild\bbs-3.11-bioc\R\bin\R.exe CMD INSTALL --merge-multiarch --build --library=scDblFinder.buildbin-libdir scDblFinder_1.2.0.tar.gz && C:\Users\biocbuild\bbs-3.11-bioc\R\bin\R.exe CMD INSTALL scDblFinder_1.2.0.zip && rm scDblFinder_1.2.0.tar.gz scDblFinder_1.2.0.zip
###
##############################################################################
##############################################################################
  % Total    % Received % Xferd  Average Speed   Time    Time     Time  Current
                                 Dload  Upload   Total   Spent    Left  Speed
  0     0    0     0    0     0      0      0 --:--:-- --:--:-- --:--:--     0
100  490k  100  490k    0     0  6933k      0 --:--:-- --:--:-- --:--:-- 7661k
install for i386
* installing *source* package 'scDblFinder' ...
** using staged installation
** R
** data
** inst
** byte-compile and prepare package for lazy loading
** help
*** installing help indices
  converting help for package 'scDblFinder'
    finding HTML links ... done
    data                                    html  
    doubletThresholding                     html  
    fastClust                               html  
    getArtificialDoublets                   html  
    overcluster                             html  
    plotROCs                                html  
    rankTrans                               html  
    resplitClusters                         html  
    scDblFinder                             html  
** building package indices
** installing vignettes
** testing if installed package can be loaded from temporary location
** testing if installed package can be loaded from final location
** testing if installed package keeps a record of temporary installation path
install for x64
* installing *source* package 'scDblFinder' ...
** testing if installed package can be loaded
* MD5 sums
packaged installation of 'scDblFinder' as scDblFinder_1.2.0.zip
* DONE (scDblFinder)
* installing to library 'C:/Users/biocbuild/bbs-3.11-bioc/R/library'
package 'scDblFinder' successfully unpacked and MD5 sums checked