| Back to Multiple platform build/check report for BioC 3.11 |
|
This page was generated on 2020-10-17 11:57:45 -0400 (Sat, 17 Oct 2020).
| TO THE DEVELOPERS/MAINTAINERS OF THE scDblFinder PACKAGE: Please make sure to use the following settings in order to reproduce any error or warning you see on this page. |
| Package 1588/1905 | Hostname | OS / Arch | INSTALL | BUILD | CHECK | BUILD BIN | ||||||
| scDblFinder 1.2.0 Pierre-Luc Germain
| malbec2 | Linux (Ubuntu 18.04.4 LTS) / x86_64 | OK | OK | OK | |||||||
| tokay2 | Windows Server 2012 R2 Standard / x64 | OK | OK | OK | [ OK ] | |||||||
| machv2 | macOS 10.14.6 Mojave / x86_64 | OK | OK | OK | OK |
| Package: scDblFinder |
| Version: 1.2.0 |
| Command: rm -rf scDblFinder.buildbin-libdir && mkdir scDblFinder.buildbin-libdir && C:\Users\biocbuild\bbs-3.11-bioc\R\bin\R.exe CMD INSTALL --merge-multiarch --build --library=scDblFinder.buildbin-libdir scDblFinder_1.2.0.tar.gz |
| StartedAt: 2020-10-17 11:35:33 -0400 (Sat, 17 Oct 2020) |
| EndedAt: 2020-10-17 11:36:25 -0400 (Sat, 17 Oct 2020) |
| EllapsedTime: 51.7 seconds |
| RetCode: 0 |
| Status: OK |
| PackageFile: scDblFinder_1.2.0.zip |
| PackageFileSize: 811.4 KiB |
##############################################################################
##############################################################################
###
### Running command:
###
### rm -rf scDblFinder.buildbin-libdir && mkdir scDblFinder.buildbin-libdir && C:\Users\biocbuild\bbs-3.11-bioc\R\bin\R.exe CMD INSTALL --merge-multiarch --build --library=scDblFinder.buildbin-libdir scDblFinder_1.2.0.tar.gz
###
##############################################################################
##############################################################################
install for i386
* installing *source* package 'scDblFinder' ...
** using staged installation
** R
** data
** inst
** byte-compile and prepare package for lazy loading
** help
*** installing help indices
converting help for package 'scDblFinder'
finding HTML links ... done
data html
doubletThresholding html
fastClust html
getArtificialDoublets html
overcluster html
plotROCs html
rankTrans html
resplitClusters html
scDblFinder html
** building package indices
** installing vignettes
** testing if installed package can be loaded from temporary location
** testing if installed package can be loaded from final location
** testing if installed package keeps a record of temporary installation path
install for x64
* installing *source* package 'scDblFinder' ...
** testing if installed package can be loaded
* MD5 sums
packaged installation of 'scDblFinder' as scDblFinder_1.2.0.zip
* DONE (scDblFinder)