| Back to Multiple platform build/check report for BioC 3.11 |
|
This page was generated on 2020-03-12 14:01:33 -0400 (Thu, 12 Mar 2020).
| Package 1669/1838 | Hostname | OS / Arch | INSTALL | BUILD | CHECK | BUILD BIN | ||||||
| sRAP 1.27.0 Charles Warden
| malbec2 | Linux (Ubuntu 18.04.4 LTS) / x86_64 | OK | OK | WARNINGS | |||||||
| tokay2 | Windows Server 2012 R2 Standard / x64 | OK | OK | WARNINGS | [ OK ] |
| Package: sRAP |
| Version: 1.27.0 |
| Command: rm -rf sRAP.buildbin-libdir && mkdir sRAP.buildbin-libdir && C:\Users\biocbuild\bbs-3.11-bioc\R\bin\R.exe CMD INSTALL --merge-multiarch --build --library=sRAP.buildbin-libdir sRAP_1.27.0.tar.gz |
| StartedAt: 2020-03-12 12:08:14 -0400 (Thu, 12 Mar 2020) |
| EndedAt: 2020-03-12 12:08:33 -0400 (Thu, 12 Mar 2020) |
| EllapsedTime: 19.4 seconds |
| RetCode: 0 |
| Status: OK |
| PackageFile: sRAP_1.27.0.zip |
| PackageFileSize: 1.884 MiB |
##############################################################################
##############################################################################
###
### Running command:
###
### rm -rf sRAP.buildbin-libdir && mkdir sRAP.buildbin-libdir && C:\Users\biocbuild\bbs-3.11-bioc\R\bin\R.exe CMD INSTALL --merge-multiarch --build --library=sRAP.buildbin-libdir sRAP_1.27.0.tar.gz
###
##############################################################################
##############################################################################
install for i386
* installing *source* package 'sRAP' ...
** using staged installation
** R
** data
** inst
** byte-compile and prepare package for lazy loading
** help
*** installing help indices
converting help for package 'sRAP'
finding HTML links ... done
RNA.bdfunc.fc html
RNA.bdfunc.signal html
RNA.deg html
RNA.norm html
RNA.prepare.input html
RNA.qc html
bdfunc.enrichment.human html
bdfunc.enrichment.mouse html
** building package indices
** installing vignettes
** testing if installed package can be loaded from temporary location
** testing if installed package can be loaded from final location
** testing if installed package keeps a record of temporary installation path
install for x64
* installing *source* package 'sRAP' ...
** testing if installed package can be loaded
* MD5 sums
packaged installation of 'sRAP' as sRAP_1.27.0.zip
* DONE (sRAP)