| Back to Multiple platform build/check report for BioC 3.11 |
|
This page was generated on 2020-10-17 11:57:36 -0400 (Sat, 17 Oct 2020).
| TO THE DEVELOPERS/MAINTAINERS OF THE regutools PACKAGE: Please make sure to use the following settings in order to reproduce any error or warning you see on this page. |
| Package 1462/1905 | Hostname | OS / Arch | INSTALL | BUILD | CHECK | BUILD BIN | ||||||
| regutools 1.0.1 Joselyn Chavez
| malbec2 | Linux (Ubuntu 18.04.4 LTS) / x86_64 | OK | OK | OK | |||||||
| tokay2 | Windows Server 2012 R2 Standard / x64 | OK | OK | OK | [ OK ] | |||||||
| machv2 | macOS 10.14.6 Mojave / x86_64 | OK | OK | OK | OK |
| Package: regutools |
| Version: 1.0.1 |
| Command: rm -rf regutools.buildbin-libdir && mkdir regutools.buildbin-libdir && C:\Users\biocbuild\bbs-3.11-bioc\R\bin\R.exe CMD INSTALL --merge-multiarch --build --library=regutools.buildbin-libdir regutools_1.0.1.tar.gz |
| StartedAt: 2020-10-17 11:26:40 -0400 (Sat, 17 Oct 2020) |
| EndedAt: 2020-10-17 11:28:07 -0400 (Sat, 17 Oct 2020) |
| EllapsedTime: 86.8 seconds |
| RetCode: 0 |
| Status: OK |
| PackageFile: regutools_1.0.1.zip |
| PackageFileSize: 923.6 KiB |
##############################################################################
##############################################################################
###
### Running command:
###
### rm -rf regutools.buildbin-libdir && mkdir regutools.buildbin-libdir && C:\Users\biocbuild\bbs-3.11-bioc\R\bin\R.exe CMD INSTALL --merge-multiarch --build --library=regutools.buildbin-libdir regutools_1.0.1.tar.gz
###
##############################################################################
##############################################################################
install for i386
* installing *source* package 'regutools' ...
** using staged installation
** R
** inst
** byte-compile and prepare package for lazy loading
** help
*** installing help indices
converting help for package 'regutools'
finding HTML links ... done
build_condition html
connect_database html
convert_to_biostrings html
convert_to_granges html
existing_intervals html
existing_partial_match html
get_binding_sites html
get_dataset html
get_dna_objects html
get_gene_regulators html
get_gene_synonyms html
get_regulatory_network html
get_regulatory_summary html
guess_id html
list_attributes html
list_datasets html
non_existing_intervals html
plot_dna_objects html
regulondb-class html
regulondb-methods html
regulondb html
regulondb_result-class html
regutools-package html
*** copying figures
** building package indices
** installing vignettes
** testing if installed package can be loaded from temporary location
** testing if installed package can be loaded from final location
** testing if installed package keeps a record of temporary installation path
install for x64
* installing *source* package 'regutools' ...
** testing if installed package can be loaded
* MD5 sums
packaged installation of 'regutools' as regutools_1.0.1.zip
* DONE (regutools)