| Back to Multiple platform build/check report for BioC 3.11 |
|
This page was generated on 2020-10-17 11:55:33 -0400 (Sat, 17 Oct 2020).
| TO THE DEVELOPERS/MAINTAINERS OF THE regutools PACKAGE: Please make sure to use the following settings in order to reproduce any error or warning you see on this page. |
| Package 1462/1905 | Hostname | OS / Arch | INSTALL | BUILD | CHECK | BUILD BIN | ||||||
| regutools 1.0.1 Joselyn Chavez
| malbec2 | Linux (Ubuntu 18.04.4 LTS) / x86_64 | OK | OK | [ OK ] | |||||||
| tokay2 | Windows Server 2012 R2 Standard / x64 | OK | OK | OK | OK | |||||||
| machv2 | macOS 10.14.6 Mojave / x86_64 | OK | OK | OK | OK |
| Package: regutools |
| Version: 1.0.1 |
| Command: /home/biocbuild/bbs-3.11-bioc/R/bin/R CMD check --install=check:regutools.install-out.txt --library=/home/biocbuild/bbs-3.11-bioc/R/library --no-vignettes --timings regutools_1.0.1.tar.gz |
| StartedAt: 2020-10-17 04:39:01 -0400 (Sat, 17 Oct 2020) |
| EndedAt: 2020-10-17 04:48:10 -0400 (Sat, 17 Oct 2020) |
| EllapsedTime: 549.5 seconds |
| RetCode: 0 |
| Status: OK |
| CheckDir: regutools.Rcheck |
| Warnings: 0 |
##############################################################################
##############################################################################
###
### Running command:
###
### /home/biocbuild/bbs-3.11-bioc/R/bin/R CMD check --install=check:regutools.install-out.txt --library=/home/biocbuild/bbs-3.11-bioc/R/library --no-vignettes --timings regutools_1.0.1.tar.gz
###
##############################################################################
##############################################################################
* using log directory ‘/home/biocbuild/bbs-3.11-bioc/meat/regutools.Rcheck’
* using R version 4.0.3 (2020-10-10)
* using platform: x86_64-pc-linux-gnu (64-bit)
* using session charset: UTF-8
* using option ‘--no-vignettes’
* checking for file ‘regutools/DESCRIPTION’ ... OK
* this is package ‘regutools’ version ‘1.0.1’
* package encoding: UTF-8
* checking package namespace information ... OK
* checking package dependencies ... OK
* checking if this is a source package ... OK
* checking if there is a namespace ... OK
* checking for hidden files and directories ... OK
* checking for portable file names ... OK
* checking for sufficient/correct file permissions ... OK
* checking whether package ‘regutools’ can be installed ... OK
* checking installed package size ... OK
* checking package directory ... OK
* checking ‘build’ directory ... OK
* checking DESCRIPTION meta-information ... OK
* checking top-level files ... OK
* checking for left-over files ... OK
* checking index information ... OK
* checking package subdirectories ... OK
* checking R files for non-ASCII characters ... OK
* checking R files for syntax errors ... OK
* checking whether the package can be loaded ... OK
* checking whether the package can be loaded with stated dependencies ... OK
* checking whether the package can be unloaded cleanly ... OK
* checking whether the namespace can be loaded with stated dependencies ... OK
* checking whether the namespace can be unloaded cleanly ... OK
* checking dependencies in R code ... OK
* checking S3 generic/method consistency ... OK
* checking replacement functions ... OK
* checking foreign function calls ... OK
* checking R code for possible problems ... OK
* checking Rd files ... OK
* checking Rd metadata ... OK
* checking Rd cross-references ... OK
* checking for missing documentation entries ... OK
* checking for code/documentation mismatches ... OK
* checking Rd \usage sections ... OK
* checking Rd contents ... OK
* checking for unstated dependencies in examples ... OK
* checking files in ‘vignettes’ ... OK
* checking examples ... OK
Examples with CPU (user + system) or elapsed time > 5s
user system elapsed
plot_dna_objects 9.219 0.102 9.490
build_condition 6.376 0.208 6.961
convert_to_granges 6.039 0.132 6.234
connect_database 5.298 0.200 5.602
get_dna_objects 4.875 0.108 5.065
get_binding_sites 4.831 0.128 5.126
list_datasets 4.824 0.096 5.075
* checking for unstated dependencies in ‘tests’ ... OK
* checking tests ...
Running ‘testthat.R’
OK
* checking for unstated dependencies in vignettes ... OK
* checking package vignettes in ‘inst/doc’ ... OK
* checking running R code from vignettes ... SKIPPED
* checking re-building of vignette outputs ... SKIPPED
* checking PDF version of manual ... OK
* DONE
Status: OK
regutools.Rcheck/00install.out
############################################################################## ############################################################################## ### ### Running command: ### ### /home/biocbuild/bbs-3.11-bioc/R/bin/R CMD INSTALL regutools ### ############################################################################## ############################################################################## * installing to library ‘/home/biocbuild/bbs-3.11-bioc/R/library’ * installing *source* package ‘regutools’ ... ** using staged installation ** R ** inst ** byte-compile and prepare package for lazy loading ** help *** installing help indices *** copying figures ** building package indices ** installing vignettes ** testing if installed package can be loaded from temporary location ** testing if installed package can be loaded from final location ** testing if installed package keeps a record of temporary installation path * DONE (regutools)
regutools.Rcheck/tests/testthat.Rout
R version 4.0.3 (2020-10-10) -- "Bunny-Wunnies Freak Out"
Copyright (C) 2020 The R Foundation for Statistical Computing
Platform: x86_64-pc-linux-gnu (64-bit)
R is free software and comes with ABSOLUTELY NO WARRANTY.
You are welcome to redistribute it under certain conditions.
Type 'license()' or 'licence()' for distribution details.
R is a collaborative project with many contributors.
Type 'contributors()' for more information and
'citation()' on how to cite R or R packages in publications.
Type 'demo()' for some demos, 'help()' for on-line help, or
'help.start()' for an HTML browser interface to help.
Type 'q()' to quit R.
> library("testthat")
> library("regutools")
>
> test_check("regutools")
══ testthat results ═══════════════════════════════════════════════════════════
[ OK: 110 | SKIPPED: 0 | WARNINGS: 0 | FAILED: 0 ]
Warning message:
call dbDisconnect() when finished working with a connection
>
> proc.time()
user system elapsed
88.963 2.269 97.080
regutools.Rcheck/regutools-Ex.timings
| name | user | system | elapsed | |
| build_condition | 6.376 | 0.208 | 6.961 | |
| connect_database | 5.298 | 0.200 | 5.602 | |
| convert_to_biostrings | 4.063 | 0.128 | 4.323 | |
| convert_to_granges | 6.039 | 0.132 | 6.234 | |
| existing_intervals | 0.001 | 0.000 | 0.001 | |
| existing_partial_match | 0.000 | 0.000 | 0.001 | |
| get_binding_sites | 4.831 | 0.128 | 5.126 | |
| get_dataset | 3.744 | 0.116 | 3.949 | |
| get_dna_objects | 4.875 | 0.108 | 5.065 | |
| get_gene_regulators | 4.617 | 0.072 | 4.783 | |
| get_gene_synonyms | 3.591 | 0.120 | 3.775 | |
| get_regulatory_network | 3.817 | 0.060 | 3.953 | |
| get_regulatory_summary | 3.853 | 0.164 | 4.071 | |
| guess_id | 3.517 | 0.072 | 3.649 | |
| list_attributes | 3.854 | 0.180 | 4.093 | |
| list_datasets | 4.824 | 0.096 | 5.075 | |
| non_existing_intervals | 0.000 | 0.001 | 0.001 | |
| plot_dna_objects | 9.219 | 0.102 | 9.490 | |
| regulondb | 4.189 | 0.216 | 4.567 | |