| Back to Multiple platform build/check report for BioC 3.11 |
|
This page was generated on 2020-10-17 11:57:28 -0400 (Sat, 17 Oct 2020).
| TO THE DEVELOPERS/MAINTAINERS OF THE proBatch PACKAGE: Please make sure to use the following settings in order to reproduce any error or warning you see on this page. |
| Package 1352/1905 | Hostname | OS / Arch | INSTALL | BUILD | CHECK | BUILD BIN | ||||||
| proBatch 1.4.0 Chloe H. Lee
| malbec2 | Linux (Ubuntu 18.04.4 LTS) / x86_64 | OK | OK | OK | |||||||
| tokay2 | Windows Server 2012 R2 Standard / x64 | OK | OK | OK | [ OK ] | |||||||
| machv2 | macOS 10.14.6 Mojave / x86_64 | OK | OK | OK | OK |
| Package: proBatch |
| Version: 1.4.0 |
| Command: rm -rf proBatch.buildbin-libdir && mkdir proBatch.buildbin-libdir && C:\Users\biocbuild\bbs-3.11-bioc\R\bin\R.exe CMD INSTALL --merge-multiarch --build --library=proBatch.buildbin-libdir proBatch_1.4.0.tar.gz |
| StartedAt: 2020-10-17 11:19:00 -0400 (Sat, 17 Oct 2020) |
| EndedAt: 2020-10-17 11:20:52 -0400 (Sat, 17 Oct 2020) |
| EllapsedTime: 111.9 seconds |
| RetCode: 0 |
| Status: OK |
| PackageFile: proBatch_1.4.0.zip |
| PackageFileSize: 3.137 MiB |
##############################################################################
##############################################################################
###
### Running command:
###
### rm -rf proBatch.buildbin-libdir && mkdir proBatch.buildbin-libdir && C:\Users\biocbuild\bbs-3.11-bioc\R\bin\R.exe CMD INSTALL --merge-multiarch --build --library=proBatch.buildbin-libdir proBatch_1.4.0.tar.gz
###
##############################################################################
##############################################################################
install for i386
* installing *source* package 'proBatch' ...
** using staged installation
** R
** data
*** moving datasets to lazyload DB
** inst
** byte-compile and prepare package for lazy loading
** help
*** installing help indices
converting help for package 'proBatch'
finding HTML links ... done
calculate_PVCA html
calculate_feature_CV html
calculate_peptide_corr_distr html
calculate_sample_corr_distr html
check_sample_consistency html
color_list_to_df html
correct_batch_effects html
create_peptide_annotation html
date_to_sample_order html
dates_to_posix html
define_sample_order html
example_peptide_annotation html
example_proteome html
example_proteome_matrix html
example_sample_annotation html
feature_level_diagnostics html
fit_nonlinear html
generate_colors_for_numeric html
long_to_matrix html
matrix_to_long html
merge_rare_levels html
normalize html
plot_CV_distr html
plot_CV_distr.df html
plot_PCA html
plot_PVCA html
plot_PVCA.df html
plot_corr_matrix html
plot_heatmap_diagnostic html
plot_heatmap_generic html
plot_hierarchical_clustering html
plot_peptide_corr_distribution html
plot_protein_corrplot html
plot_sample_corr_distribution html
plot_sample_corr_heatmap html
plot_sample_mean_or_boxplot html
plot_split_violin_with_boxplot html
prepare_PVCA_df html
proBatch html
sample_annotation_to_colors html
transform_raw_data html
** building package indices
** installing vignettes
** testing if installed package can be loaded from temporary location
** testing if installed package can be loaded from final location
** testing if installed package keeps a record of temporary installation path
install for x64
* installing *source* package 'proBatch' ...
** testing if installed package can be loaded
* MD5 sums
packaged installation of 'proBatch' as proBatch_1.4.0.zip
* DONE (proBatch)