| Back to Multiple platform build/check report for BioC 3.11 |
|
This page was generated on 2020-10-17 11:55:25 -0400 (Sat, 17 Oct 2020).
| TO THE DEVELOPERS/MAINTAINERS OF THE proBatch PACKAGE: Please make sure to use the following settings in order to reproduce any error or warning you see on this page. |
| Package 1352/1905 | Hostname | OS / Arch | INSTALL | BUILD | CHECK | BUILD BIN | ||||||
| proBatch 1.4.0 Chloe H. Lee
| malbec2 | Linux (Ubuntu 18.04.4 LTS) / x86_64 | OK | OK | [ OK ] | |||||||
| tokay2 | Windows Server 2012 R2 Standard / x64 | OK | OK | OK | OK | |||||||
| machv2 | macOS 10.14.6 Mojave / x86_64 | OK | OK | OK | OK |
| Package: proBatch |
| Version: 1.4.0 |
| Command: /home/biocbuild/bbs-3.11-bioc/R/bin/R CMD check --install=check:proBatch.install-out.txt --library=/home/biocbuild/bbs-3.11-bioc/R/library --no-vignettes --timings proBatch_1.4.0.tar.gz |
| StartedAt: 2020-10-17 04:15:55 -0400 (Sat, 17 Oct 2020) |
| EndedAt: 2020-10-17 04:21:21 -0400 (Sat, 17 Oct 2020) |
| EllapsedTime: 326.9 seconds |
| RetCode: 0 |
| Status: OK |
| CheckDir: proBatch.Rcheck |
| Warnings: 0 |
##############################################################################
##############################################################################
###
### Running command:
###
### /home/biocbuild/bbs-3.11-bioc/R/bin/R CMD check --install=check:proBatch.install-out.txt --library=/home/biocbuild/bbs-3.11-bioc/R/library --no-vignettes --timings proBatch_1.4.0.tar.gz
###
##############################################################################
##############################################################################
* using log directory ‘/home/biocbuild/bbs-3.11-bioc/meat/proBatch.Rcheck’
* using R version 4.0.3 (2020-10-10)
* using platform: x86_64-pc-linux-gnu (64-bit)
* using session charset: UTF-8
* using option ‘--no-vignettes’
* checking for file ‘proBatch/DESCRIPTION’ ... OK
* checking extension type ... Package
* this is package ‘proBatch’ version ‘1.4.0’
* package encoding: UTF-8
* checking package namespace information ... OK
* checking package dependencies ... OK
* checking if this is a source package ... OK
* checking if there is a namespace ... OK
* checking for hidden files and directories ... OK
* checking for portable file names ... OK
* checking for sufficient/correct file permissions ... OK
* checking whether package ‘proBatch’ can be installed ... OK
* checking installed package size ... OK
* checking package directory ... OK
* checking ‘build’ directory ... OK
* checking DESCRIPTION meta-information ... OK
* checking top-level files ... OK
* checking for left-over files ... OK
* checking index information ... OK
* checking package subdirectories ... OK
* checking R files for non-ASCII characters ... OK
* checking R files for syntax errors ... OK
* checking whether the package can be loaded ... OK
* checking whether the package can be loaded with stated dependencies ... OK
* checking whether the package can be unloaded cleanly ... OK
* checking whether the namespace can be loaded with stated dependencies ... OK
* checking whether the namespace can be unloaded cleanly ... OK
* checking dependencies in R code ... OK
* checking S3 generic/method consistency ... OK
* checking replacement functions ... OK
* checking foreign function calls ... OK
* checking R code for possible problems ... OK
* checking Rd files ... OK
* checking Rd metadata ... OK
* checking Rd cross-references ... OK
* checking for missing documentation entries ... OK
* checking for code/documentation mismatches ... OK
* checking Rd \usage sections ... OK
* checking Rd contents ... OK
* checking for unstated dependencies in examples ... OK
* checking contents of ‘data’ directory ... OK
* checking data for non-ASCII characters ... OK
* checking data for ASCII and uncompressed saves ... OK
* checking files in ‘vignettes’ ... OK
* checking examples ... OK
Examples with CPU (user + system) or elapsed time > 5s
user system elapsed
calculate_PVCA 27.154 0.096 27.251
prepare_PVCA_df 24.179 0.000 24.187
plot_PVCA 20.875 0.000 20.874
plot_PVCA.df 20.137 0.000 20.137
correct_batch_effects 5.967 0.321 6.309
* checking for unstated dependencies in ‘tests’ ... OK
* checking tests ...
Running ‘spelling.R’
Running ‘testthat.R’
OK
* checking for unstated dependencies in vignettes ... OK
* checking package vignettes in ‘inst/doc’ ... OK
* checking running R code from vignettes ... SKIPPED
* checking re-building of vignette outputs ... SKIPPED
* checking PDF version of manual ... OK
* DONE
Status: OK
proBatch.Rcheck/00install.out
############################################################################## ############################################################################## ### ### Running command: ### ### /home/biocbuild/bbs-3.11-bioc/R/bin/R CMD INSTALL proBatch ### ############################################################################## ############################################################################## * installing to library ‘/home/biocbuild/bbs-3.11-bioc/R/library’ * installing *source* package ‘proBatch’ ... ** using staged installation ** R ** data *** moving datasets to lazyload DB ** inst ** byte-compile and prepare package for lazy loading ** help *** installing help indices ** building package indices ** installing vignettes ** testing if installed package can be loaded from temporary location ** testing if installed package can be loaded from final location ** testing if installed package keeps a record of temporary installation path * DONE (proBatch)
proBatch.Rcheck/tests/spelling.Rout
R version 4.0.3 (2020-10-10) -- "Bunny-Wunnies Freak Out"
Copyright (C) 2020 The R Foundation for Statistical Computing
Platform: x86_64-pc-linux-gnu (64-bit)
R is free software and comes with ABSOLUTELY NO WARRANTY.
You are welcome to redistribute it under certain conditions.
Type 'license()' or 'licence()' for distribution details.
R is a collaborative project with many contributors.
Type 'contributors()' for more information and
'citation()' on how to cite R or R packages in publications.
Type 'demo()' for some demos, 'help()' for on-line help, or
'help.start()' for an HTML browser interface to help.
Type 'q()' to quit R.
> if(requireNamespace('spelling', quietly = TRUE))
+ spelling::spell_check_test(vignettes = TRUE, error = FALSE,
+ skip_on_cran = TRUE)
NULL
>
> proc.time()
user system elapsed
0.255 0.018 0.259
proBatch.Rcheck/tests/testthat.Rout
R version 4.0.3 (2020-10-10) -- "Bunny-Wunnies Freak Out"
Copyright (C) 2020 The R Foundation for Statistical Computing
Platform: x86_64-pc-linux-gnu (64-bit)
R is free software and comes with ABSOLUTELY NO WARRANTY.
You are welcome to redistribute it under certain conditions.
Type 'license()' or 'licence()' for distribution details.
R is a collaborative project with many contributors.
Type 'contributors()' for more information and
'citation()' on how to cite R or R packages in publications.
Type 'demo()' for some demos, 'help()' for on-line help, or
'help.start()' for an HTML browser interface to help.
Type 'q()' to quit R.
> library(testthat)
> library(proBatch)
>
> test_check("proBatch")
══ testthat results ═══════════════════════════════════════════════════════════
[ OK: 159 | SKIPPED: 0 | WARNINGS: 30 | FAILED: 0 ]
>
> proc.time()
user system elapsed
41.574 0.681 42.256
proBatch.Rcheck/proBatch-Ex.timings
| name | user | system | elapsed | |
| calculate_PVCA | 27.154 | 0.096 | 27.251 | |
| calculate_feature_CV | 0.515 | 0.024 | 0.540 | |
| calculate_peptide_corr_distr | 0.025 | 0.001 | 0.025 | |
| calculate_sample_corr_distr | 0.655 | 0.011 | 0.668 | |
| check_sample_consistency | 0.438 | 0.000 | 0.439 | |
| correct_batch_effects | 5.967 | 0.321 | 6.309 | |
| create_peptide_annotation | 0.006 | 0.000 | 0.006 | |
| date_to_sample_order | 0.147 | 0.000 | 0.148 | |
| dates_to_posix | 0.009 | 0.000 | 0.009 | |
| define_sample_order | 0.014 | 0.000 | 0.014 | |
| feature_level_diagnostics | 4.343 | 0.012 | 4.355 | |
| fit_nonlinear | 0.009 | 0.000 | 0.008 | |
| long_to_matrix | 0.042 | 0.000 | 0.042 | |
| matrix_to_long | 0.012 | 0.000 | 0.012 | |
| normalize | 0.087 | 0.000 | 0.087 | |
| plot_CV_distr | 0.639 | 0.008 | 0.648 | |
| plot_PCA | 0.726 | 0.008 | 0.738 | |
| plot_PVCA | 20.875 | 0.000 | 20.874 | |
| plot_PVCA.df | 20.137 | 0.000 | 20.137 | |
| plot_corr_matrix | 0.036 | 0.000 | 0.036 | |
| plot_heatmap_diagnostic | 1.248 | 0.008 | 1.257 | |
| plot_heatmap_generic | 0.672 | 0.004 | 0.676 | |
| plot_hierarchical_clustering | 0.514 | 0.008 | 0.522 | |
| plot_peptide_corr_distribution | 1.566 | 0.004 | 1.573 | |
| plot_protein_corrplot | 0.273 | 0.000 | 0.273 | |
| plot_sample_corr_distribution | 1.940 | 0.000 | 1.944 | |
| plot_sample_corr_heatmap | 0.781 | 0.004 | 0.784 | |
| plot_sample_mean_or_boxplot | 4.550 | 0.016 | 4.567 | |
| prepare_PVCA_df | 24.179 | 0.000 | 24.187 | |
| sample_annotation_to_colors | 0.036 | 0.000 | 0.036 | |
| transform_raw_data | 0.012 | 0.000 | 0.012 | |