| Back to Multiple platform build/check report for BioC 3.11 | 
 | 
This page was generated on 2020-10-17 11:57:21 -0400 (Sat, 17 Oct 2020).
| TO THE DEVELOPERS/MAINTAINERS OF THE pathview PACKAGE: Please make sure to use the following settings in order to reproduce any error or warning you see on this page. | 
| Package 1276/1905 | Hostname | OS / Arch | INSTALL | BUILD | CHECK | BUILD BIN | ||||||
| pathview 1.28.1 Weijun Luo 
 | malbec2 | Linux (Ubuntu 18.04.4 LTS) / x86_64 | OK | OK | WARNINGS |  | ||||||
| tokay2 | Windows Server 2012 R2 Standard / x64 | OK | [ OK ] | WARNINGS | OK |  | ||||||
| machv2 | macOS 10.14.6 Mojave / x86_64 | OK | OK | WARNINGS | OK |  | 
| Package: pathview | 
| Version: 1.28.1 | 
| Command: chmod a+r pathview -R && C:\Users\biocbuild\bbs-3.11-bioc\R\bin\R.exe CMD build --keep-empty-dirs --no-resave-data pathview | 
| StartedAt: 2020-10-16 23:31:43 -0400 (Fri, 16 Oct 2020) | 
| EndedAt: 2020-10-16 23:35:01 -0400 (Fri, 16 Oct 2020) | 
| EllapsedTime: 197.2 seconds | 
| RetCode: 0 | 
| Status: OK | 
| PackageFile: pathview_1.28.1.tar.gz | 
| PackageFileSize: 1.974 MiB | 
############################################################################## ############################################################################## ### ### Running command: ### ### chmod a+r pathview -R && C:\Users\biocbuild\bbs-3.11-bioc\R\bin\R.exe CMD build --keep-empty-dirs --no-resave-data pathview ### ############################################################################## ############################################################################## * checking for file 'pathview/DESCRIPTION' ... OK * preparing 'pathview': * checking DESCRIPTION meta-information ... OK * installing the package to build vignettes * creating vignettes ... OK * checking for LF line-endings in source and make files and shell scripts * checking for empty or unneeded directories * looking to see if a 'data/datalist' file should be added * building 'pathview_1.28.1.tar.gz'