| Back to Multiple platform build/check report for BioC 3.11 |
|
This page was generated on 2020-10-17 11:57:21 -0400 (Sat, 17 Oct 2020).
| TO THE DEVELOPERS/MAINTAINERS OF THE pathview PACKAGE: Please make sure to use the following settings in order to reproduce any error or warning you see on this page. |
| Package 1276/1905 | Hostname | OS / Arch | INSTALL | BUILD | CHECK | BUILD BIN | ||||||
| pathview 1.28.1 Weijun Luo
| malbec2 | Linux (Ubuntu 18.04.4 LTS) / x86_64 | OK | OK | WARNINGS | |||||||
| tokay2 | Windows Server 2012 R2 Standard / x64 | OK | OK | WARNINGS | [ OK ] | |||||||
| machv2 | macOS 10.14.6 Mojave / x86_64 | OK | OK | WARNINGS | OK |
| Package: pathview |
| Version: 1.28.1 |
| Command: rm -rf pathview.buildbin-libdir && mkdir pathview.buildbin-libdir && C:\Users\biocbuild\bbs-3.11-bioc\R\bin\R.exe CMD INSTALL --merge-multiarch --build --library=pathview.buildbin-libdir pathview_1.28.1.tar.gz |
| StartedAt: 2020-10-17 11:14:04 -0400 (Sat, 17 Oct 2020) |
| EndedAt: 2020-10-17 11:14:49 -0400 (Sat, 17 Oct 2020) |
| EllapsedTime: 44.5 seconds |
| RetCode: 0 |
| Status: OK |
| PackageFile: pathview_1.28.1.zip |
| PackageFileSize: 2.174 MiB |
##############################################################################
##############################################################################
###
### Running command:
###
### rm -rf pathview.buildbin-libdir && mkdir pathview.buildbin-libdir && C:\Users\biocbuild\bbs-3.11-bioc\R\bin\R.exe CMD INSTALL --merge-multiarch --build --library=pathview.buildbin-libdir pathview_1.28.1.tar.gz
###
##############################################################################
##############################################################################
install for i386
* installing *source* package 'pathview' ...
** using staged installation
** R
** data
** inst
** byte-compile and prepare package for lazy loading
** help
*** installing help indices
converting help for package 'pathview'
finding HTML links ... done
combineKEGGnodes html
cpd.accs html
cpdidmap html
demo.data html
download.kegg html
eg2id html
kegg.species.code html
korg html
mol.sum html
node.color html
node.info html
node.map html
pathview-internal html
pathview-package html
pathview html
sim.mol.data html
wordwrap html
** building package indices
** installing vignettes
** testing if installed package can be loaded from temporary location
** testing if installed package can be loaded from final location
** testing if installed package keeps a record of temporary installation path
install for x64
* installing *source* package 'pathview' ...
** testing if installed package can be loaded
* MD5 sums
packaged installation of 'pathview' as pathview_1.28.1.zip
* DONE (pathview)