| Back to Multiple platform build/check report for BioC 3.11 | 
  | 
This page was generated on 2020-10-17 11:57:18 -0400 (Sat, 17 Oct 2020).
| TO THE DEVELOPERS/MAINTAINERS OF THE omicade4 PACKAGE: Please make sure to use the following settings in order to reproduce any error or warning you see on this page. | 
| Package 1220/1905 | Hostname | OS / Arch | INSTALL | BUILD | CHECK | BUILD BIN | ||||||
| omicade4 1.28.2 Chen Meng 
  | malbec2 | Linux (Ubuntu 18.04.4 LTS) / x86_64 | OK | OK | OK | |||||||
| tokay2 | Windows Server 2012 R2 Standard / x64 | OK | OK | [ OK ] | OK | |||||||
| machv2 | macOS 10.14.6 Mojave / x86_64 | OK | OK | OK | OK | 
| Package: omicade4 | 
| Version: 1.28.2 | 
| Command: C:\Users\biocbuild\bbs-3.11-bioc\R\bin\R.exe CMD check --force-multiarch --install=check:omicade4.install-out.txt --library=C:\Users\biocbuild\bbs-3.11-bioc\R\library --no-vignettes --timings omicade4_1.28.2.tar.gz | 
| StartedAt: 2020-10-17 06:33:51 -0400 (Sat, 17 Oct 2020) | 
| EndedAt: 2020-10-17 06:37:28 -0400 (Sat, 17 Oct 2020) | 
| EllapsedTime: 217.0 seconds | 
| RetCode: 0 | 
| Status: OK | 
| CheckDir: omicade4.Rcheck | 
| Warnings: 0 | 
############################################################################## ############################################################################## ### ### Running command: ### ### C:\Users\biocbuild\bbs-3.11-bioc\R\bin\R.exe CMD check --force-multiarch --install=check:omicade4.install-out.txt --library=C:\Users\biocbuild\bbs-3.11-bioc\R\library --no-vignettes --timings omicade4_1.28.2.tar.gz ### ############################################################################## ############################################################################## * using log directory 'C:/Users/biocbuild/bbs-3.11-bioc/meat/omicade4.Rcheck' * using R version 4.0.3 (2020-10-10) * using platform: x86_64-w64-mingw32 (64-bit) * using session charset: ISO8859-1 * using option '--no-vignettes' * checking for file 'omicade4/DESCRIPTION' ... OK * checking extension type ... Package * this is package 'omicade4' version '1.28.2' * checking package namespace information ... OK * checking package dependencies ... OK * checking if this is a source package ... OK * checking if there is a namespace ... OK * checking for hidden files and directories ... OK * checking for portable file names ... OK * checking whether package 'omicade4' can be installed ... OK * checking installed package size ... OK * checking package directory ... OK * checking 'build' directory ... OK * checking DESCRIPTION meta-information ... NOTE Malformed Description field: should contain one or more complete sentences. * checking top-level files ... OK * checking for left-over files ... OK * checking index information ... OK * checking package subdirectories ... OK * checking R files for non-ASCII characters ... OK * checking R files for syntax errors ... OK * loading checks for arch 'i386' ** checking whether the package can be loaded ... OK ** checking whether the package can be loaded with stated dependencies ... OK ** checking whether the package can be unloaded cleanly ... OK ** checking whether the namespace can be loaded with stated dependencies ... OK ** checking whether the namespace can be unloaded cleanly ... OK * loading checks for arch 'x64' ** checking whether the package can be loaded ... OK ** checking whether the package can be loaded with stated dependencies ... OK ** checking whether the package can be unloaded cleanly ... OK ** checking whether the namespace can be loaded with stated dependencies ... OK ** checking whether the namespace can be unloaded cleanly ... OK * checking dependencies in R code ... NOTE Unexported objects imported by ':::' calls: 'ade4:::t.dudi' 'made4:::dudi.rwcoa' 'made4:::getdata' See the note in ?`:::` about the use of this operator. * checking S3 generic/method consistency ... OK * checking replacement functions ... OK * checking foreign function calls ... OK * checking R code for possible problems ... OK * checking Rd files ... OK * checking Rd metadata ... OK * checking Rd cross-references ... OK * checking for missing documentation entries ... OK * checking for code/documentation mismatches ... OK * checking Rd \usage sections ... OK * checking Rd contents ... OK * checking for unstated dependencies in examples ... OK * checking contents of 'data' directory ... OK * checking data for non-ASCII characters ... OK * checking data for ASCII and uncompressed saves ... OK * checking files in 'vignettes' ... OK * checking examples ... ** running examples for arch 'i386' ... OK ** running examples for arch 'x64' ... OK * checking for unstated dependencies in vignettes ... OK * checking package vignettes in 'inst/doc' ... OK * checking running R code from vignettes ... SKIPPED * checking re-building of vignette outputs ... SKIPPED * checking PDF version of manual ... OK * DONE Status: 2 NOTEs See 'C:/Users/biocbuild/bbs-3.11-bioc/meat/omicade4.Rcheck/00check.log' for details.
omicade4.Rcheck/00install.out
##############################################################################
##############################################################################
###
### Running command:
###
###   C:\cygwin\bin\curl.exe -O https://malbec2.bioconductor.org/BBS/3.11/bioc/src/contrib/omicade4_1.28.2.tar.gz && rm -rf omicade4.buildbin-libdir && mkdir omicade4.buildbin-libdir && C:\Users\biocbuild\bbs-3.11-bioc\R\bin\R.exe CMD INSTALL --merge-multiarch --build --library=omicade4.buildbin-libdir omicade4_1.28.2.tar.gz && C:\Users\biocbuild\bbs-3.11-bioc\R\bin\R.exe CMD INSTALL omicade4_1.28.2.zip && rm omicade4_1.28.2.tar.gz omicade4_1.28.2.zip
###
##############################################################################
##############################################################################
  % Total    % Received % Xferd  Average Speed   Time    Time     Time  Current
                                 Dload  Upload   Total   Spent    Left  Speed
  0     0    0     0    0     0      0      0 --:--:-- --:--:-- --:--:--     0
100  236k  100  236k    0     0  3503k      0 --:--:-- --:--:-- --:--:-- 3936k
install for i386
* installing *source* package 'omicade4' ...
** using staged installation
** R
** data
** inst
** byte-compile and prepare package for lazy loading
** help
*** installing help indices
  converting help for package 'omicade4'
    finding HTML links ... done
    NCI60_4arrays                           html  
    mcia                                    html  
    omicade4-package                        html  
    plotVar                                 html  
    plotVar.cia                             html  
    plotVar.mcia                            html  
    selectVar                               html  
    selectVar.cia                           html  
    selectVar.mcia                          html  
    topVar                                  html  
    topVar.cia                              html  
    topVar.mcia                             html  
** building package indices
** installing vignettes
** testing if installed package can be loaded from temporary location
** testing if installed package can be loaded from final location
** testing if installed package keeps a record of temporary installation path
install for x64
* installing *source* package 'omicade4' ...
** testing if installed package can be loaded
* MD5 sums
packaged installation of 'omicade4' as omicade4_1.28.2.zip
* DONE (omicade4)
* installing to library 'C:/Users/biocbuild/bbs-3.11-bioc/R/library'
package 'omicade4' successfully unpacked and MD5 sums checked
| 
 omicade4.Rcheck/examples_i386/omicade4-Ex.timings 
  | 
 omicade4.Rcheck/examples_x64/omicade4-Ex.timings 
  |