| Back to Multiple platform build/check report for BioC 3.11 | 
 | 
This page was generated on 2020-10-17 11:57:12 -0400 (Sat, 17 Oct 2020).
| TO THE DEVELOPERS/MAINTAINERS OF THE msmsTests PACKAGE: Please make sure to use the following settings in order to reproduce any error or warning you see on this page. | 
| Package 1140/1905 | Hostname | OS / Arch | INSTALL | BUILD | CHECK | BUILD BIN | ||||||
| msmsTests 1.26.0 Josep Gregori i Font 
 | malbec2 | Linux (Ubuntu 18.04.4 LTS) / x86_64 | OK | OK | OK |  | ||||||
| tokay2 | Windows Server 2012 R2 Standard / x64 | OK | [ OK ] | OK | OK |  | ||||||
| machv2 | macOS 10.14.6 Mojave / x86_64 | OK | OK | OK | OK |  | 
| Package: msmsTests | 
| Version: 1.26.0 | 
| Command: chmod a+r msmsTests -R && C:\Users\biocbuild\bbs-3.11-bioc\R\bin\R.exe CMD build --keep-empty-dirs --no-resave-data msmsTests | 
| StartedAt: 2020-10-16 23:00:50 -0400 (Fri, 16 Oct 2020) | 
| EndedAt: 2020-10-16 23:02:13 -0400 (Fri, 16 Oct 2020) | 
| EllapsedTime: 82.5 seconds | 
| RetCode: 0 | 
| Status: OK | 
| PackageFile: msmsTests_1.26.0.tar.gz | 
| PackageFileSize: 307.2 KiB | 
############################################################################## ############################################################################## ### ### Running command: ### ### chmod a+r msmsTests -R && C:\Users\biocbuild\bbs-3.11-bioc\R\bin\R.exe CMD build --keep-empty-dirs --no-resave-data msmsTests ### ############################################################################## ############################################################################## * checking for file 'msmsTests/DESCRIPTION' ... OK * preparing 'msmsTests': * checking DESCRIPTION meta-information ... OK * installing the package to build vignettes * creating vignettes ... OK * checking for LF line-endings in source and make files and shell scripts * checking for empty or unneeded directories * looking to see if a 'data/datalist' file should be added * building 'msmsTests_1.26.0.tar.gz'