| Back to Multiple platform build/check report for BioC 3.11 |
|
This page was generated on 2020-10-17 11:57:12 -0400 (Sat, 17 Oct 2020).
| TO THE DEVELOPERS/MAINTAINERS OF THE msgbsR PACKAGE: Please make sure to use the following settings in order to reproduce any error or warning you see on this page. |
| Package 1136/1905 | Hostname | OS / Arch | INSTALL | BUILD | CHECK | BUILD BIN | ||||||
| msgbsR 1.12.0 Benjamin Mayne
| malbec2 | Linux (Ubuntu 18.04.4 LTS) / x86_64 | OK | OK | WARNINGS | |||||||
| tokay2 | Windows Server 2012 R2 Standard / x64 | [ OK ] | OK | WARNINGS | OK | |||||||
| machv2 | macOS 10.14.6 Mojave / x86_64 | OK | OK | WARNINGS | OK |
| Package: msgbsR |
| Version: 1.12.0 |
| Command: C:\cygwin\bin\curl.exe -O https://malbec2.bioconductor.org/BBS/3.11/bioc/src/contrib/msgbsR_1.12.0.tar.gz && rm -rf msgbsR.buildbin-libdir && mkdir msgbsR.buildbin-libdir && C:\Users\biocbuild\bbs-3.11-bioc\R\bin\R.exe CMD INSTALL --merge-multiarch --build --library=msgbsR.buildbin-libdir msgbsR_1.12.0.tar.gz && C:\Users\biocbuild\bbs-3.11-bioc\R\bin\R.exe CMD INSTALL msgbsR_1.12.0.zip && rm msgbsR_1.12.0.tar.gz msgbsR_1.12.0.zip |
| StartedAt: 2020-10-16 19:33:08 -0400 (Fri, 16 Oct 2020) |
| EndedAt: 2020-10-16 19:35:44 -0400 (Fri, 16 Oct 2020) |
| EllapsedTime: 155.5 seconds |
| RetCode: 0 |
| Status: OK |
##############################################################################
##############################################################################
###
### Running command:
###
### C:\cygwin\bin\curl.exe -O https://malbec2.bioconductor.org/BBS/3.11/bioc/src/contrib/msgbsR_1.12.0.tar.gz && rm -rf msgbsR.buildbin-libdir && mkdir msgbsR.buildbin-libdir && C:\Users\biocbuild\bbs-3.11-bioc\R\bin\R.exe CMD INSTALL --merge-multiarch --build --library=msgbsR.buildbin-libdir msgbsR_1.12.0.tar.gz && C:\Users\biocbuild\bbs-3.11-bioc\R\bin\R.exe CMD INSTALL msgbsR_1.12.0.zip && rm msgbsR_1.12.0.tar.gz msgbsR_1.12.0.zip
###
##############################################################################
##############################################################################
% Total % Received % Xferd Average Speed Time Time Time Current
Dload Upload Total Spent Left Speed
0 0 0 0 0 0 0 0 --:--:-- --:--:-- --:--:-- 0
37 15.3M 37 5904k 0 0 9473k 0 0:00:01 --:--:-- 0:00:01 9553k
100 15.3M 100 15.3M 0 0 15.5M 0 --:--:-- --:--:-- --:--:-- 15.6M
install for i386
* installing *source* package 'msgbsR' ...
** using staged installation
** R
** data
** inst
** byte-compile and prepare package for lazy loading
** help
*** installing help indices
converting help for package 'msgbsR'
finding HTML links ... done
checkCuts html
cuts html
diffMeth html
msgbsR html
plotCircos html
plotCounts html
ratdata html
ratdata2 html
rawCounts html
** building package indices
** installing vignettes
** testing if installed package can be loaded from temporary location
** testing if installed package can be loaded from final location
** testing if installed package keeps a record of temporary installation path
install for x64
* installing *source* package 'msgbsR' ...
** testing if installed package can be loaded
* MD5 sums
packaged installation of 'msgbsR' as msgbsR_1.12.0.zip
* DONE (msgbsR)
* installing to library 'C:/Users/biocbuild/bbs-3.11-bioc/R/library'
package 'msgbsR' successfully unpacked and MD5 sums checked