| Back to Multiple platform build/check report for BioC 3.11 |
|
This page was generated on 2020-10-17 11:57:11 -0400 (Sat, 17 Oct 2020).
| TO THE DEVELOPERS/MAINTAINERS OF THE motifbreakR PACKAGE: Please make sure to use the following settings in order to reproduce any error or warning you see on this page. |
| Package 1124/1905 | Hostname | OS / Arch | INSTALL | BUILD | CHECK | BUILD BIN | ||||||
| motifbreakR 2.2.0 Simon Gert Coetzee
| malbec2 | Linux (Ubuntu 18.04.4 LTS) / x86_64 | OK | OK | WARNINGS | |||||||
| tokay2 | Windows Server 2012 R2 Standard / x64 | OK | OK | WARNINGS | [ OK ] | |||||||
| machv2 | macOS 10.14.6 Mojave / x86_64 | OK | OK | WARNINGS | OK |
| Package: motifbreakR |
| Version: 2.2.0 |
| Command: rm -rf motifbreakR.buildbin-libdir && mkdir motifbreakR.buildbin-libdir && C:\Users\biocbuild\bbs-3.11-bioc\R\bin\R.exe CMD INSTALL --merge-multiarch --build --library=motifbreakR.buildbin-libdir motifbreakR_2.2.0.tar.gz |
| StartedAt: 2020-10-17 11:04:35 -0400 (Sat, 17 Oct 2020) |
| EndedAt: 2020-10-17 11:06:20 -0400 (Sat, 17 Oct 2020) |
| EllapsedTime: 105.1 seconds |
| RetCode: 0 |
| Status: OK |
| PackageFile: motifbreakR_2.2.0.zip |
| PackageFileSize: 2.593 MiB |
##############################################################################
##############################################################################
###
### Running command:
###
### rm -rf motifbreakR.buildbin-libdir && mkdir motifbreakR.buildbin-libdir && C:\Users\biocbuild\bbs-3.11-bioc\R\bin\R.exe CMD INSTALL --merge-multiarch --build --library=motifbreakR.buildbin-libdir motifbreakR_2.2.0.tar.gz
###
##############################################################################
##############################################################################
install for i386
* installing *source* package 'motifbreakR' ...
** using staged installation
** R
** data
*** moving datasets to lazyload DB
** inst
** byte-compile and prepare package for lazy loading
See system.file("LICENSE", package="MotifDb") for use restrictions.
Warning: replacing previous import 'IRanges::windows' by 'grDevices::windows' when loading 'motifbreakR'
** help
*** installing help indices
converting help for package 'motifbreakR'
finding HTML links ... done
calculatePvalue html
finding level-2 HTML links ... done
encodemotif html
example.results html
Rd warning: C:/Users/biocbuild/bbs-3.11-bioc/tmpdir/RtmpU9zSqC/R.INSTALL13f84fb5563b/motifbreakR/man/example.results.Rd:8: file link 'GRanges' in package 'GenomicRanges' does not exist and so has been treated as a topic
Rd warning: C:/Users/biocbuild/bbs-3.11-bioc/tmpdir/RtmpU9zSqC/R.INSTALL13f84fb5563b/motifbreakR/man/example.results.Rd:14: file link 'GRanges' in package 'GenomicRanges' does not exist and so has been treated as a topic
factorbook html
hocomoco html
homer html
motifbreakR html
motifbreakR_motif html
plotMB html
scoreAllWindows html
snps.from.file html
snps.from.rsid html
** building package indices
** installing vignettes
** testing if installed package can be loaded from temporary location
See system.file("LICENSE", package="MotifDb") for use restrictions.
Warning: replacing previous import 'IRanges::windows' by 'grDevices::windows' when loading 'motifbreakR'
** testing if installed package can be loaded from final location
See system.file("LICENSE", package="MotifDb") for use restrictions.
Warning: replacing previous import 'IRanges::windows' by 'grDevices::windows' when loading 'motifbreakR'
** testing if installed package keeps a record of temporary installation path
install for x64
* installing *source* package 'motifbreakR' ...
** testing if installed package can be loaded
See system.file("LICENSE", package="MotifDb") for use restrictions.
Warning: replacing previous import 'IRanges::windows' by 'grDevices::windows' when loading 'motifbreakR'
* MD5 sums
packaged installation of 'motifbreakR' as motifbreakR_2.2.0.zip
* DONE (motifbreakR)