| Back to Multiple platform build/check report for BioC 3.11 | 
 | 
This page was generated on 2020-10-17 11:57:11 -0400 (Sat, 17 Oct 2020).
| TO THE DEVELOPERS/MAINTAINERS OF THE monocle PACKAGE: Please make sure to use the following settings in order to reproduce any error or warning you see on this page. | 
| Package 1119/1905 | Hostname | OS / Arch | INSTALL | BUILD | CHECK | BUILD BIN | ||||||
| monocle 2.16.0 Cole Trapnell 
 | malbec2 | Linux (Ubuntu 18.04.4 LTS) / x86_64 | OK | OK | OK |  | ||||||
| tokay2 | Windows Server 2012 R2 Standard / x64 | OK | [ OK ] | OK | OK |  | ||||||
| machv2 | macOS 10.14.6 Mojave / x86_64 | OK | OK | OK | OK |  | 
| Package: monocle | 
| Version: 2.16.0 | 
| Command: chmod a+r monocle -R && C:\Users\biocbuild\bbs-3.11-bioc\R\bin\R.exe CMD build --keep-empty-dirs --no-resave-data monocle | 
| StartedAt: 2020-10-16 22:56:26 -0400 (Fri, 16 Oct 2020) | 
| EndedAt: 2020-10-16 22:57:32 -0400 (Fri, 16 Oct 2020) | 
| EllapsedTime: 66.5 seconds | 
| RetCode: 0 | 
| Status: OK | 
| PackageFile: monocle_2.16.0.tar.gz | 
| PackageFileSize: 9.03 MiB | 
##############################################################################
##############################################################################
###
### Running command:
###
###   chmod a+r monocle -R && C:\Users\biocbuild\bbs-3.11-bioc\R\bin\R.exe CMD build --keep-empty-dirs --no-resave-data monocle
###
##############################################################################
##############################################################################
* checking for file 'monocle/DESCRIPTION' ... OK
* preparing 'monocle':
* checking DESCRIPTION meta-information ... OK
* cleaning src
* installing the package to build vignettes
* creating vignettes ... OK
Warning: 'inst/doc' files
    'monocle-vignette.Rnw', 'monocle-vignette.pdf',  'monocle-vignette.R'
  ignored as vignettes have been rebuilt.
  Run R CMD build with --no-build-vignettes to prevent rebuilding.
* cleaning src
* checking for LF line-endings in source and make files and shell scripts
* checking for empty or unneeded directories
* building 'monocle_2.16.0.tar.gz'