| Back to Multiple platform build/check report for BioC 3.11 |
|
This page was generated on 2020-10-17 11:58:59 -0400 (Sat, 17 Oct 2020).
| TO THE DEVELOPERS/MAINTAINERS OF THE monocle PACKAGE: Please make sure to use the following settings in order to reproduce any error or warning you see on this page. |
| Package 1119/1905 | Hostname | OS / Arch | INSTALL | BUILD | CHECK | BUILD BIN | ||||||
| monocle 2.16.0 Cole Trapnell
| malbec2 | Linux (Ubuntu 18.04.4 LTS) / x86_64 | OK | OK | OK | |||||||
| tokay2 | Windows Server 2012 R2 Standard / x64 | OK | OK | OK | OK | |||||||
| machv2 | macOS 10.14.6 Mojave / x86_64 | OK | [ OK ] | OK | OK |
| Package: monocle |
| Version: 2.16.0 |
| Command: /Library/Frameworks/R.framework/Versions/Current/Resources/bin/R CMD build --keep-empty-dirs --no-resave-data monocle |
| StartedAt: 2020-10-16 20:04:34 -0400 (Fri, 16 Oct 2020) |
| EndedAt: 2020-10-16 20:05:24 -0400 (Fri, 16 Oct 2020) |
| EllapsedTime: 50.3 seconds |
| RetCode: 0 |
| Status: OK |
| PackageFile: monocle_2.16.0.tar.gz |
| PackageFileSize: 9.018 MiB |
##############################################################################
##############################################################################
###
### Running command:
###
### /Library/Frameworks/R.framework/Versions/Current/Resources/bin/R CMD build --keep-empty-dirs --no-resave-data monocle
###
##############################################################################
##############################################################################
* checking for file ‘monocle/DESCRIPTION’ ... OK
* preparing ‘monocle’:
* checking DESCRIPTION meta-information ... OK
* cleaning src
* installing the package to build vignettes
* creating vignettes ... OK
Warning: ‘inst/doc’ files
‘monocle-vignette.Rnw’, ‘monocle-vignette.pdf’, ‘monocle-vignette.R’
ignored as vignettes have been rebuilt.
Run R CMD build with --no-build-vignettes to prevent rebuilding.
* cleaning src
* checking for LF line-endings in source and make files and shell scripts
* checking for empty or unneeded directories
* building ‘monocle_2.16.0.tar.gz’