| Back to Multiple platform build/check report for BioC 3.11 |
|
This page was generated on 2020-10-17 11:57:06 -0400 (Sat, 17 Oct 2020).
| TO THE DEVELOPERS/MAINTAINERS OF THE mimager PACKAGE: Please make sure to use the following settings in order to reproduce any error or warning you see on this page. |
| Package 1081/1905 | Hostname | OS / Arch | INSTALL | BUILD | CHECK | BUILD BIN | ||||||
| mimager 1.12.0 Aaron Wolen
| malbec2 | Linux (Ubuntu 18.04.4 LTS) / x86_64 | OK | OK | OK | |||||||
| tokay2 | Windows Server 2012 R2 Standard / x64 | OK | OK | WARNINGS | [ OK ] | |||||||
| machv2 | macOS 10.14.6 Mojave / x86_64 | OK | OK | OK | OK |
| Package: mimager |
| Version: 1.12.0 |
| Command: rm -rf mimager.buildbin-libdir && mkdir mimager.buildbin-libdir && C:\Users\biocbuild\bbs-3.11-bioc\R\bin\R.exe CMD INSTALL --merge-multiarch --build --library=mimager.buildbin-libdir mimager_1.12.0.tar.gz |
| StartedAt: 2020-10-17 11:01:54 -0400 (Sat, 17 Oct 2020) |
| EndedAt: 2020-10-17 11:02:34 -0400 (Sat, 17 Oct 2020) |
| EllapsedTime: 39.9 seconds |
| RetCode: 0 |
| Status: OK |
| PackageFile: mimager_1.12.0.zip |
| PackageFileSize: 716.8 KiB |
##############################################################################
##############################################################################
###
### Running command:
###
### rm -rf mimager.buildbin-libdir && mkdir mimager.buildbin-libdir && C:\Users\biocbuild\bbs-3.11-bioc\R\bin\R.exe CMD INSTALL --merge-multiarch --build --library=mimager.buildbin-libdir mimager_1.12.0.tar.gz
###
##############################################################################
##############################################################################
install for i386
* installing *source* package 'mimager' ...
** using staged installation
** R
** inst
** byte-compile and prepare package for lazy loading
No methods found in package 'RSQLite' for request: 'dbListFields' when loading 'oligo'
** help
*** installing help indices
converting help for package 'mimager'
finding HTML links ... done
arank html
arle html
Rd warning: C:/Users/biocbuild/bbs-3.11-bioc/tmpdir/RtmpMLxQLV/R.INSTALL31582b2b388d/mimager/man/arle.Rd:33: file link 'RLE' in package 'affyPLM' does not exist and so has been treated as a topic
marray html
mimage html
mimager html
Rd warning: C:/Users/biocbuild/bbs-3.11-bioc/tmpdir/RtmpMLxQLV/R.INSTALL31582b2b388d/mimager/man/mimager.Rd:25: file link 'FeatureSet-class' in package 'oligoClasses' does not exist and so has been treated as a topic
** building package indices
** installing vignettes
** testing if installed package can be loaded from temporary location
No methods found in package 'RSQLite' for request: 'dbListFields' when loading 'oligo'
** testing if installed package can be loaded from final location
No methods found in package 'RSQLite' for request: 'dbListFields' when loading 'oligo'
** testing if installed package keeps a record of temporary installation path
install for x64
* installing *source* package 'mimager' ...
** testing if installed package can be loaded
No methods found in package 'RSQLite' for request: 'dbListFields' when loading 'oligo'
* MD5 sums
packaged installation of 'mimager' as mimager_1.12.0.zip
* DONE (mimager)