| Back to Multiple platform build/check report for BioC 3.11 | 
  | 
This page was generated on 2020-10-17 11:55:10 -0400 (Sat, 17 Oct 2020).
| TO THE DEVELOPERS/MAINTAINERS OF THE mimager PACKAGE: Please make sure to use the following settings in order to reproduce any error or warning you see on this page. | 
| Package 1081/1905 | Hostname | OS / Arch | INSTALL | BUILD | CHECK | BUILD BIN | ||||||
| mimager 1.12.0 Aaron Wolen 
  | malbec2 | Linux (Ubuntu 18.04.4 LTS) / x86_64 | [ OK ] | OK | OK | |||||||
| tokay2 | Windows Server 2012 R2 Standard / x64 | OK | OK | WARNINGS | OK | |||||||
| machv2 | macOS 10.14.6 Mojave / x86_64 | OK | OK | OK | OK | 
| Package: mimager | 
| Version: 1.12.0 | 
| Command: /home/biocbuild/bbs-3.11-bioc/R/bin/R CMD INSTALL mimager | 
| StartedAt: 2020-10-16 16:33:15 -0400 (Fri, 16 Oct 2020) | 
| EndedAt: 2020-10-16 16:33:39 -0400 (Fri, 16 Oct 2020) | 
| EllapsedTime: 24.9 seconds | 
| RetCode: 0 | 
| Status: OK | 
############################################################################## ############################################################################## ### ### Running command: ### ### /home/biocbuild/bbs-3.11-bioc/R/bin/R CMD INSTALL mimager ### ############################################################################## ############################################################################## * installing to library ‘/home/biocbuild/bbs-3.11-bioc/R/library’ * installing *source* package ‘mimager’ ... ** using staged installation ** R ** byte-compile and prepare package for lazy loading No methods found in package ‘RSQLite’ for request: ‘dbListFields’ when loading ‘oligo’ ** help *** installing help indices ** building package indices ** installing vignettes ** testing if installed package can be loaded from temporary location No methods found in package ‘RSQLite’ for request: ‘dbListFields’ when loading ‘oligo’ ** testing if installed package can be loaded from final location No methods found in package ‘RSQLite’ for request: ‘dbListFields’ when loading ‘oligo’ ** testing if installed package keeps a record of temporary installation path * DONE (mimager)