| Back to Multiple platform build/check report for BioC 3.11 |
|
This page was generated on 2020-10-17 11:57:04 -0400 (Sat, 17 Oct 2020).
| TO THE DEVELOPERS/MAINTAINERS OF THE methylInheritance PACKAGE: Please make sure to use the following settings in order to reproduce any error or warning you see on this page. |
| Package 1059/1905 | Hostname | OS / Arch | INSTALL | BUILD | CHECK | BUILD BIN | ||||||
| methylInheritance 1.12.0 Astrid Deschenes
| malbec2 | Linux (Ubuntu 18.04.4 LTS) / x86_64 | OK | OK | OK | |||||||
| tokay2 | Windows Server 2012 R2 Standard / x64 | [ OK ] | OK | OK | OK | |||||||
| machv2 | macOS 10.14.6 Mojave / x86_64 | OK | OK | OK | OK |
| Package: methylInheritance |
| Version: 1.12.0 |
| Command: C:\cygwin\bin\curl.exe -O https://malbec2.bioconductor.org/BBS/3.11/bioc/src/contrib/methylInheritance_1.12.0.tar.gz && rm -rf methylInheritance.buildbin-libdir && mkdir methylInheritance.buildbin-libdir && C:\Users\biocbuild\bbs-3.11-bioc\R\bin\R.exe CMD INSTALL --merge-multiarch --build --library=methylInheritance.buildbin-libdir methylInheritance_1.12.0.tar.gz && C:\Users\biocbuild\bbs-3.11-bioc\R\bin\R.exe CMD INSTALL methylInheritance_1.12.0.zip && rm methylInheritance_1.12.0.tar.gz methylInheritance_1.12.0.zip |
| StartedAt: 2020-10-16 18:41:21 -0400 (Fri, 16 Oct 2020) |
| EndedAt: 2020-10-16 18:42:29 -0400 (Fri, 16 Oct 2020) |
| EllapsedTime: 67.3 seconds |
| RetCode: 0 |
| Status: OK |
##############################################################################
##############################################################################
###
### Running command:
###
### C:\cygwin\bin\curl.exe -O https://malbec2.bioconductor.org/BBS/3.11/bioc/src/contrib/methylInheritance_1.12.0.tar.gz && rm -rf methylInheritance.buildbin-libdir && mkdir methylInheritance.buildbin-libdir && C:\Users\biocbuild\bbs-3.11-bioc\R\bin\R.exe CMD INSTALL --merge-multiarch --build --library=methylInheritance.buildbin-libdir methylInheritance_1.12.0.tar.gz && C:\Users\biocbuild\bbs-3.11-bioc\R\bin\R.exe CMD INSTALL methylInheritance_1.12.0.zip && rm methylInheritance_1.12.0.tar.gz methylInheritance_1.12.0.zip
###
##############################################################################
##############################################################################
% Total % Received % Xferd Average Speed Time Time Time Current
Dload Upload Total Spent Left Speed
0 0 0 0 0 0 0 0 --:--:-- --:--:-- --:--:-- 0
0 1449k 0 0 0 0 0 0 --:--:-- --:--:-- --:--:-- 0
100 1449k 100 1449k 0 0 3714k 0 --:--:-- --:--:-- --:--:-- 3775k
install for i386
* installing *source* package 'methylInheritance' ...
** using staged installation
** R
** data
** inst
** byte-compile and prepare package for lazy loading
** help
*** installing help indices
converting help for package 'methylInheritance'
finding HTML links ... done
calculateSignificantLevel html
createDataStructure html
createOutputDir html
demoForTransgenerationalAnalysis html
extractInfo html
formatInputMethylData html
getGRangesFromMethylDiff html
interGeneration html
isInterGenerationResults html
loadAllRDSResults html
loadConvergenceData html
mergePermutationAndObservation html
methylInheritance-package html
methylInheritanceAllResults html
methylInheritanceResults html
plotConvergenceGraph html
plotGraph html
readInterGenerationResults html
runObservation html
runOnePermutationOnAllGenerations html
runPermutation html
samplesForTransgenerationalAnalysis html
saveInterGenerationResults html
validateExtractInfo html
validateLoadConvergenceData html
validateMergePermutationAndObservation
html
validateRunObservation html
validateRunPermutation html
** building package indices
** installing vignettes
** testing if installed package can be loaded from temporary location
** testing if installed package can be loaded from final location
** testing if installed package keeps a record of temporary installation path
install for x64
* installing *source* package 'methylInheritance' ...
** testing if installed package can be loaded
* MD5 sums
packaged installation of 'methylInheritance' as methylInheritance_1.12.0.zip
* DONE (methylInheritance)
* installing to library 'C:/Users/biocbuild/bbs-3.11-bioc/R/library'
package 'methylInheritance' successfully unpacked and MD5 sums checked