| Back to Multiple platform build/check report for BioC 3.11 |
|
This page was generated on 2020-10-17 11:57:03 -0400 (Sat, 17 Oct 2020).
| TO THE DEVELOPERS/MAINTAINERS OF THE metaSeq PACKAGE: Please make sure to use the following settings in order to reproduce any error or warning you see on this page. |
| Package 1042/1905 | Hostname | OS / Arch | INSTALL | BUILD | CHECK | BUILD BIN | ||||||
| metaSeq 1.28.0 Koki Tsuyuzaki
| malbec2 | Linux (Ubuntu 18.04.4 LTS) / x86_64 | OK | OK | OK | |||||||
| tokay2 | Windows Server 2012 R2 Standard / x64 | OK | [ OK ] | OK | OK | |||||||
| machv2 | macOS 10.14.6 Mojave / x86_64 | OK | OK | OK | OK |
| Package: metaSeq |
| Version: 1.28.0 |
| Command: chmod a+r metaSeq -R && C:\Users\biocbuild\bbs-3.11-bioc\R\bin\R.exe CMD build --keep-empty-dirs --no-resave-data metaSeq |
| StartedAt: 2020-10-16 22:40:37 -0400 (Fri, 16 Oct 2020) |
| EndedAt: 2020-10-16 22:40:57 -0400 (Fri, 16 Oct 2020) |
| EllapsedTime: 20.2 seconds |
| RetCode: 0 |
| Status: OK |
| PackageFile: metaSeq_1.28.0.tar.gz |
| PackageFileSize: 6.101 MiB |
##############################################################################
##############################################################################
###
### Running command:
###
### chmod a+r metaSeq -R && C:\Users\biocbuild\bbs-3.11-bioc\R\bin\R.exe CMD build --keep-empty-dirs --no-resave-data metaSeq
###
##############################################################################
##############################################################################
* checking for file 'metaSeq/DESCRIPTION' ... OK
* preparing 'metaSeq':
* checking DESCRIPTION meta-information ... OK
* installing the package to build vignettes
* creating vignettes ... OK
Warning: 'inst/doc' files
'metaSeq.Rnw', 'metaSeq.pdf', 'metaSeq.R'
ignored as vignettes have been rebuilt.
Run R CMD build with --no-build-vignettes to prevent rebuilding.
* checking for LF line-endings in source and make files and shell scripts
* checking for empty or unneeded directories
* looking to see if a 'data/datalist' file should be added
* building 'metaSeq_1.28.0.tar.gz'