| Back to Multiple platform build/check report for BioC 3.11 | 
 | 
This page was generated on 2020-10-17 11:57:03 -0400 (Sat, 17 Oct 2020).
| TO THE DEVELOPERS/MAINTAINERS OF THE metaSeq PACKAGE: Please make sure to use the following settings in order to reproduce any error or warning you see on this page. | 
| Package 1042/1905 | Hostname | OS / Arch | INSTALL | BUILD | CHECK | BUILD BIN | ||||||
| metaSeq 1.28.0 Koki Tsuyuzaki 
 | malbec2 | Linux (Ubuntu 18.04.4 LTS) / x86_64 | OK | OK | OK |  | ||||||
| tokay2 | Windows Server 2012 R2 Standard / x64 | OK | OK | OK | [ OK ] |  | ||||||
| machv2 | macOS 10.14.6 Mojave / x86_64 | OK | OK | OK | OK |  | 
| Package: metaSeq | 
| Version: 1.28.0 | 
| Command: rm -rf metaSeq.buildbin-libdir && mkdir metaSeq.buildbin-libdir && C:\Users\biocbuild\bbs-3.11-bioc\R\bin\R.exe CMD INSTALL --merge-multiarch --build --library=metaSeq.buildbin-libdir metaSeq_1.28.0.tar.gz | 
| StartedAt: 2020-10-17 10:59:17 -0400 (Sat, 17 Oct 2020) | 
| EndedAt: 2020-10-17 11:00:01 -0400 (Sat, 17 Oct 2020) | 
| EllapsedTime: 43.9 seconds | 
| RetCode: 0 | 
| Status: OK | 
| PackageFile: metaSeq_1.28.0.zip | 
| PackageFileSize: 6.102 MiB | 
##############################################################################
##############################################################################
###
### Running command:
###
###   rm -rf metaSeq.buildbin-libdir && mkdir metaSeq.buildbin-libdir && C:\Users\biocbuild\bbs-3.11-bioc\R\bin\R.exe CMD INSTALL --merge-multiarch --build --library=metaSeq.buildbin-libdir metaSeq_1.28.0.tar.gz
###
##############################################################################
##############################################################################
install for i386
* installing *source* package 'metaSeq' ...
** using staged installation
** R
** data
** inst
** byte-compile and prepare package for lazy loading
** help
*** installing help indices
  converting help for package 'metaSeq'
    finding HTML links ... done
    Accelerate.NOISeq                       html  
    BreastCancer                            html  
    Fisher.test                             html  
    Reset.Accelerate.NOISeq                 html  
    Result.Meta                             html  
    Stouffer.test                           html  
    StudyA                                  html  
    meta.oneside.noiseq                     html  
    meta.readData                           html  
    metaSeq-package                         html  
    other.oneside.pvalues                   html  
    pvals                                   html  
    text.busca_unix                         html  
    text.busca_win                          html  
    text.n.menor_unix                       html  
    text.n.menor_win                        html  
** building package indices
** installing vignettes
** testing if installed package can be loaded from temporary location
** testing if installed package can be loaded from final location
** testing if installed package keeps a record of temporary installation path
install for x64
* installing *source* package 'metaSeq' ...
** testing if installed package can be loaded
* MD5 sums
packaged installation of 'metaSeq' as metaSeq_1.28.0.zip
* DONE (metaSeq)