| Back to Multiple platform build/check report for BioC 3.11 | 
  | 
This page was generated on 2020-10-17 11:54:57 -0400 (Sat, 17 Oct 2020).
| TO THE DEVELOPERS/MAINTAINERS OF THE iChip PACKAGE: Please make sure to use the following settings in order to reproduce any error or warning you see on this page. | 
| Package 850/1905 | Hostname | OS / Arch | INSTALL | BUILD | CHECK | BUILD BIN | ||||||
| iChip 1.42.0 Qianxing Mo 
  | malbec2 | Linux (Ubuntu 18.04.4 LTS) / x86_64 | [ OK ] | OK | OK | |||||||
| tokay2 | Windows Server 2012 R2 Standard / x64 | OK | OK | OK | OK | |||||||
| machv2 | macOS 10.14.6 Mojave / x86_64 | OK | OK | OK | OK | 
| Package: iChip | 
| Version: 1.42.0 | 
| Command: /home/biocbuild/bbs-3.11-bioc/R/bin/R CMD INSTALL iChip | 
| StartedAt: 2020-10-16 16:07:04 -0400 (Fri, 16 Oct 2020) | 
| EndedAt: 2020-10-16 16:07:08 -0400 (Fri, 16 Oct 2020) | 
| EllapsedTime: 3.8 seconds | 
| RetCode: 0 | 
| Status: OK | 
##############################################################################
##############################################################################
###
### Running command:
###
###   /home/biocbuild/bbs-3.11-bioc/R/bin/R CMD INSTALL iChip
###
##############################################################################
##############################################################################
* installing to library ‘/home/biocbuild/bbs-3.11-bioc/R/library’
* installing *source* package ‘iChip’ ...
** using staged installation
** libs
gcc -I"/home/biocbuild/bbs-3.11-bioc/R/include" -DNDEBUG   -I/usr/local/include   -fpic  -g -O2  -Wall -c iChip.c -o iChip.o
iChip.c: In function ‘iChip2’:
iChip.c:23:51: warning: variable ‘nrowm1’ set but not used [-Wunused-but-set-variable]
   int sampleSize,LB,RB,i,j,r,nnoise,nsignal,state,nrowm1,wtsum;
                                                   ^~~~~~
gcc -I"/home/biocbuild/bbs-3.11-bioc/R/include" -DNDEBUG   -I/usr/local/include   -fpic  -g -O2  -Wall -c registerDynamicSymbol.c -o registerDynamicSymbol.o
gcc -shared -L/home/biocbuild/bbs-3.11-bioc/R/lib -L/usr/local/lib -o iChip.so iChip.o registerDynamicSymbol.o -L/home/biocbuild/bbs-3.11-bioc/R/lib -lR
installing to /home/biocbuild/bbs-3.11-bioc/R/library/00LOCK-iChip/00new/iChip/libs
** R
** data
*** moving datasets to lazyload DB
** demo
** inst
** byte-compile and prepare package for lazy loading
** help
*** installing help indices
** building package indices
** installing vignettes
   ‘iChip.Rnw’ 
** testing if installed package can be loaded from temporary location
** checking absolute paths in shared objects and dynamic libraries
** testing if installed package can be loaded from final location
** testing if installed package keeps a record of temporary installation path
* DONE (iChip)