| Back to Multiple platform build/check report for BioC 3.11 |
|
This page was generated on 2020-10-17 11:58:43 -0400 (Sat, 17 Oct 2020).
| TO THE DEVELOPERS/MAINTAINERS OF THE iChip PACKAGE: Please make sure to use the following settings in order to reproduce any error or warning you see on this page. |
| Package 850/1905 | Hostname | OS / Arch | INSTALL | BUILD | CHECK | BUILD BIN | ||||||
| iChip 1.42.0 Qianxing Mo
| malbec2 | Linux (Ubuntu 18.04.4 LTS) / x86_64 | OK | OK | OK | |||||||
| tokay2 | Windows Server 2012 R2 Standard / x64 | OK | OK | OK | OK | |||||||
| machv2 | macOS 10.14.6 Mojave / x86_64 | OK | [ OK ] | OK | OK |
| Package: iChip |
| Version: 1.42.0 |
| Command: /Library/Frameworks/R.framework/Versions/Current/Resources/bin/R CMD build --keep-empty-dirs --no-resave-data iChip |
| StartedAt: 2020-10-16 19:31:19 -0400 (Fri, 16 Oct 2020) |
| EndedAt: 2020-10-16 19:32:13 -0400 (Fri, 16 Oct 2020) |
| EllapsedTime: 54.0 seconds |
| RetCode: 0 |
| Status: OK |
| PackageFile: iChip_1.42.0.tar.gz |
| PackageFileSize: 1.593 MiB |
##############################################################################
##############################################################################
###
### Running command:
###
### /Library/Frameworks/R.framework/Versions/Current/Resources/bin/R CMD build --keep-empty-dirs --no-resave-data iChip
###
##############################################################################
##############################################################################
* checking for file ‘iChip/DESCRIPTION’ ... OK
* preparing ‘iChip’:
* checking DESCRIPTION meta-information ... OK
* cleaning src
* running ‘cleanup’
* installing the package to build vignettes
* creating vignettes ... OK
Warning: ‘inst/doc’ file
‘iChip.pdf’
ignored as vignettes have been rebuilt.
Run R CMD build with --no-build-vignettes to prevent rebuilding.
* cleaning src
* running ‘cleanup’
* checking for LF line-endings in source and make files and shell scripts
* checking for empty or unneeded directories
* building ‘iChip_1.42.0.tar.gz’