| Back to Multiple platform build/check report for BioC 3.11 | 
 | 
This page was generated on 2020-10-17 11:58:41 -0400 (Sat, 17 Oct 2020).
| TO THE DEVELOPERS/MAINTAINERS OF THE hipathia PACKAGE: Please make sure to use the following settings in order to reproduce any error or warning you see on this page. | 
| Package 823/1905 | Hostname | OS / Arch | INSTALL | BUILD | CHECK | BUILD BIN | ||||||
| hipathia 2.4.0 Marta R. Hidalgo 
 | malbec2 | Linux (Ubuntu 18.04.4 LTS) / x86_64 | OK | OK | OK |  | ||||||
| tokay2 | Windows Server 2012 R2 Standard / x64 | OK | OK | OK | OK |  | ||||||
| machv2 | macOS 10.14.6 Mojave / x86_64 | OK | OK | [ OK ] | OK |  | 
| Package: hipathia | 
| Version: 2.4.0 | 
| Command: /Library/Frameworks/R.framework/Versions/Current/Resources/bin/R CMD check --install=check:hipathia.install-out.txt --library=/Library/Frameworks/R.framework/Versions/Current/Resources/library --no-vignettes --timings hipathia_2.4.0.tar.gz | 
| StartedAt: 2020-10-17 02:01:43 -0400 (Sat, 17 Oct 2020) | 
| EndedAt: 2020-10-17 02:21:20 -0400 (Sat, 17 Oct 2020) | 
| EllapsedTime: 1176.6 seconds | 
| RetCode: 0 | 
| Status: OK | 
| CheckDir: hipathia.Rcheck | 
| Warnings: 0 | 
##############################################################################
##############################################################################
###
### Running command:
###
###   /Library/Frameworks/R.framework/Versions/Current/Resources/bin/R CMD check --install=check:hipathia.install-out.txt --library=/Library/Frameworks/R.framework/Versions/Current/Resources/library --no-vignettes --timings hipathia_2.4.0.tar.gz
###
##############################################################################
##############################################################################
* using log directory ‘/Users/biocbuild/bbs-3.11-bioc/meat/hipathia.Rcheck’
* using R version 4.0.3 (2020-10-10)
* using platform: x86_64-apple-darwin17.0 (64-bit)
* using session charset: UTF-8
* using option ‘--no-vignettes’
* checking for file ‘hipathia/DESCRIPTION’ ... OK
* this is package ‘hipathia’ version ‘2.4.0’
* package encoding: UTF-8
* checking package namespace information ... OK
* checking package dependencies ... OK
* checking if this is a source package ... OK
* checking if there is a namespace ... OK
* checking for hidden files and directories ... OK
* checking for portable file names ... OK
* checking for sufficient/correct file permissions ... OK
* checking whether package ‘hipathia’ can be installed ... OK
* checking installed package size ... NOTE
  installed size is  9.6Mb
  sub-directories of 1Mb or more:
    data      4.9Mb
    extdata   4.3Mb
* checking package directory ... OK
* checking ‘build’ directory ... OK
* checking DESCRIPTION meta-information ... OK
* checking top-level files ... OK
* checking for left-over files ... OK
* checking index information ... OK
* checking package subdirectories ... OK
* checking R files for non-ASCII characters ... OK
* checking R files for syntax errors ... OK
* checking whether the package can be loaded ... OK
* checking whether the package can be loaded with stated dependencies ... OK
* checking whether the package can be unloaded cleanly ... OK
* checking whether the namespace can be loaded with stated dependencies ... OK
* checking whether the namespace can be unloaded cleanly ... OK
* checking dependencies in R code ... OK
* checking S3 generic/method consistency ... OK
* checking replacement functions ... OK
* checking foreign function calls ... OK
* checking R code for possible problems ... OK
* checking Rd files ... OK
* checking Rd metadata ... OK
* checking Rd cross-references ... OK
* checking for missing documentation entries ... OK
* checking for code/documentation mismatches ... OK
* checking Rd \usage sections ... OK
* checking Rd contents ... OK
* checking for unstated dependencies in examples ... OK
* checking contents of ‘data’ directory ... OK
* checking data for non-ASCII characters ... OK
* checking data for ASCII and uncompressed saves ... OK
* checking sizes of PDF files under ‘inst/doc’ ... OK
* checking files in ‘vignettes’ ... OK
* checking examples ... OK
Examples with CPU (user + system) or elapsed time > 5s
                           user system elapsed
quantify_terms           43.503  1.087  45.433
create_report            41.721  2.040  47.642
get_pathways_annotations 34.118  0.668  35.672
hipathia                 29.469  0.362  30.050
visualize_report         29.101  0.466  29.735
save_results             28.225  0.370  28.727
pathway_comparison_plot  28.054  0.416  28.714
node_color               27.111  0.330  27.640
load_pathways            26.958  0.480  28.301
get_node_names           26.440  0.401  26.973
get_path_names           26.240  0.382  26.883
get_pathways_summary     26.281  0.339  26.840
get_pathways_list        26.144  0.323  26.652
node_color_per_de        25.850  0.243  26.299
normalize_paths          25.681  0.276  26.119
normalize_data           17.302  0.381  18.207
translate_data           14.584  0.260  15.086
get_go_names              6.329  0.474   7.319
* checking for unstated dependencies in ‘tests’ ... OK
* checking tests ...
  Running ‘testthat.R’
 OK
* checking for unstated dependencies in vignettes ... OK
* checking package vignettes in ‘inst/doc’ ... OK
* checking running R code from vignettes ... SKIPPED
* checking re-building of vignette outputs ... SKIPPED
* checking PDF version of manual ... OK
* DONE
Status: 1 NOTE
See
  ‘/Users/biocbuild/bbs-3.11-bioc/meat/hipathia.Rcheck/00check.log’
for details.
hipathia.Rcheck/00install.out
############################################################################## ############################################################################## ### ### Running command: ### ### /Library/Frameworks/R.framework/Versions/Current/Resources/bin/R CMD INSTALL hipathia ### ############################################################################## ############################################################################## * installing to library ‘/Library/Frameworks/R.framework/Versions/4.0/Resources/library’ * installing *source* package ‘hipathia’ ... ** using staged installation ** R ** data *** moving datasets to lazyload DB ** inst ** byte-compile and prepare package for lazy loading ** help *** installing help indices ** building package indices ** installing vignettes ** testing if installed package can be loaded from temporary location ** testing if installed package can be loaded from final location ** testing if installed package keeps a record of temporary installation path * DONE (hipathia)
hipathia.Rcheck/tests/testthat.Rout
R version 4.0.3 (2020-10-10) -- "Bunny-Wunnies Freak Out"
Copyright (C) 2020 The R Foundation for Statistical Computing
Platform: x86_64-apple-darwin17.0 (64-bit)
R is free software and comes with ABSOLUTELY NO WARRANTY.
You are welcome to redistribute it under certain conditions.
Type 'license()' or 'licence()' for distribution details.
R is a collaborative project with many contributors.
Type 'contributors()' for more information and
'citation()' on how to cite R or R packages in publications.
Type 'demo()' for some demos, 'help()' for on-line help, or
'help.start()' for an HTML browser interface to help.
Type 'q()' to quit R.
> library(testthat)
> library(hipathia)
Loading required package: igraph
Attaching package: 'igraph'
The following object is masked from 'package:testthat':
    compare
The following objects are masked from 'package:stats':
    decompose, spectrum
The following object is masked from 'package:base':
    union
Loading required package: AnnotationHub
Loading required package: BiocGenerics
Loading required package: parallel
Attaching package: 'BiocGenerics'
The following objects are masked from 'package:parallel':
    clusterApply, clusterApplyLB, clusterCall, clusterEvalQ,
    clusterExport, clusterMap, parApply, parCapply, parLapply,
    parLapplyLB, parRapply, parSapply, parSapplyLB
The following objects are masked from 'package:igraph':
    normalize, path, union
The following objects are masked from 'package:stats':
    IQR, mad, sd, var, xtabs
The following objects are masked from 'package:base':
    Filter, Find, Map, Position, Reduce, anyDuplicated, append,
    as.data.frame, basename, cbind, colnames, dirname, do.call,
    duplicated, eval, evalq, get, grep, grepl, intersect, is.unsorted,
    lapply, mapply, match, mget, order, paste, pmax, pmax.int, pmin,
    pmin.int, rank, rbind, rownames, sapply, setdiff, sort, table,
    tapply, union, unique, unsplit, which, which.max, which.min
Loading required package: BiocFileCache
Loading required package: dbplyr
Loading required package: MultiAssayExperiment
Loading required package: SummarizedExperiment
Loading required package: GenomicRanges
Loading required package: stats4
Loading required package: S4Vectors
Attaching package: 'S4Vectors'
The following object is masked from 'package:base':
    expand.grid
Loading required package: IRanges
Loading required package: GenomeInfoDb
Loading required package: Biobase
Welcome to Bioconductor
    Vignettes contain introductory material; view with
    'browseVignettes()'. To cite Bioconductor, see
    'citation("Biobase")', and for packages 'citation("pkgname")'.
Attaching package: 'Biobase'
The following object is masked from 'package:AnnotationHub':
    cache
Loading required package: DelayedArray
Loading required package: matrixStats
Attaching package: 'matrixStats'
The following objects are masked from 'package:Biobase':
    anyMissing, rowMedians
Attaching package: 'DelayedArray'
The following objects are masked from 'package:matrixStats':
    colMaxs, colMins, colRanges, rowMaxs, rowMins, rowRanges
The following object is masked from 'package:igraph':
    simplify
The following objects are masked from 'package:base':
    aperm, apply, rowsum
> 
> test_check("hipathia")
HiPathia processing...
hsa03320 - PPAR signaling pathway 
hsa04012 - ErbB signaling pathway 
HiPathia processing...
hsa03320 - PPAR signaling pathway 
hsa04012 - ErbB signaling pathway 
translated ids = 3184 (1) 
untranslated ids = 3 (0.00094) 
multihit ids = 0 (0) 
══ testthat results  ═══════════════════════════════════════════════════════════
[ OK: 119 | SKIPPED: 0 | WARNINGS: 0 | FAILED: 0 ]
> 
> proc.time()
   user  system elapsed 
363.082   8.338 384.434 
hipathia.Rcheck/hipathia-Ex.timings
| name | user | system | elapsed | |
| create_report | 41.721 | 2.040 | 47.642 | |
| do_pca | 0.083 | 0.007 | 0.089 | |
| do_wilcoxon | 0.130 | 0.017 | 0.148 | |
| get_go_names | 6.329 | 0.474 | 7.319 | |
| get_node_names | 26.440 | 0.401 | 26.973 | |
| get_nodes_data | 0.011 | 0.003 | 0.014 | |
| get_path_names | 26.240 | 0.382 | 26.883 | |
| get_paths_data | 0.011 | 0.003 | 0.013 | |
| get_pathways_annotations | 34.118 | 0.668 | 35.672 | |
| get_pathways_list | 26.144 | 0.323 | 26.652 | |
| get_pathways_summary | 26.281 | 0.339 | 26.840 | |
| heatmap_plot | 0.284 | 0.009 | 0.294 | |
| hhead | 0.001 | 0.001 | 0.002 | |
| hipathia | 29.469 | 0.362 | 30.050 | |
| load_pathways | 26.958 | 0.480 | 28.301 | |
| multiple_pca_plot | 0.073 | 0.004 | 0.077 | |
| node_color | 27.111 | 0.330 | 27.640 | |
| node_color_per_de | 25.850 | 0.243 | 26.299 | |
| normalize_data | 17.302 | 0.381 | 18.207 | |
| normalize_paths | 25.681 | 0.276 | 26.119 | |
| paths_to_go_ancestor | 0.318 | 0.007 | 0.325 | |
| pathway_comparison_plot | 28.054 | 0.416 | 28.714 | |
| pca_plot | 0.882 | 0.050 | 0.933 | |
| quantify_terms | 43.503 | 1.087 | 45.433 | |
| save_results | 28.225 | 0.370 | 28.727 | |
| top_pathways | 0.015 | 0.003 | 0.017 | |
| translate_data | 14.584 | 0.260 | 15.086 | |
| visualize_report | 29.101 | 0.466 | 29.735 | |