| Back to Multiple platform build/check report for BioC 3.11 |
|
This page was generated on 2020-10-17 11:58:41 -0400 (Sat, 17 Oct 2020).
| TO THE DEVELOPERS/MAINTAINERS OF THE hipathia PACKAGE: Please make sure to use the following settings in order to reproduce any error or warning you see on this page. |
| Package 823/1905 | Hostname | OS / Arch | INSTALL | BUILD | CHECK | BUILD BIN | ||||||
| hipathia 2.4.0 Marta R. Hidalgo
| malbec2 | Linux (Ubuntu 18.04.4 LTS) / x86_64 | OK | OK | OK | |||||||
| tokay2 | Windows Server 2012 R2 Standard / x64 | OK | OK | OK | OK | |||||||
| machv2 | macOS 10.14.6 Mojave / x86_64 | OK | OK | OK | [ OK ] |
| Package: hipathia |
| Version: 2.4.0 |
| Command: rm -rf hipathia.buildbin-libdir && mkdir hipathia.buildbin-libdir && /Users/biocbuild/BBS/utils/build-universal.sh hipathia_2.4.0.tar.gz /Library/Frameworks/R.framework/Versions/Current/Resources/bin/R hipathia.buildbin-libdir |
| StartedAt: 2020-10-17 07:16:03 -0400 (Sat, 17 Oct 2020) |
| EndedAt: 2020-10-17 07:17:02 -0400 (Sat, 17 Oct 2020) |
| EllapsedTime: 58.7 seconds |
| RetCode: 0 |
| Status: OK |
| PackageFile: hipathia_2.4.0.tgz |
| PackageFileSize: 8.31 MiB |
############################################################################## ############################################################################## ### ### Running command: ### ### rm -rf hipathia.buildbin-libdir && mkdir hipathia.buildbin-libdir && /Users/biocbuild/BBS/utils/build-universal.sh hipathia_2.4.0.tar.gz /Library/Frameworks/R.framework/Versions/Current/Resources/bin/R hipathia.buildbin-libdir ### ############################################################################## ############################################################################## >>>>>>> >>>>>>> INSTALLATION WITH 'R CMD INSTALL --preclean --no-multiarch --library=hipathia.buildbin-libdir hipathia_2.4.0.tar.gz' >>>>>>> * installing *source* package ‘hipathia’ ... ** using staged installation ** R ** data *** moving datasets to lazyload DB ** inst ** byte-compile and prepare package for lazy loading ** help *** installing help indices ** building package indices ** installing vignettes ** testing if installed package can be loaded from temporary location ** testing if installed package can be loaded from final location ** testing if installed package keeps a record of temporary installation path * DONE (hipathia)