| Back to Multiple platform build/check report for BioC 3.11 |
|
This page was generated on 2020-10-17 11:56:49 -0400 (Sat, 17 Oct 2020).
| TO THE DEVELOPERS/MAINTAINERS OF THE hicrep PACKAGE: Please make sure to use the following settings in order to reproduce any error or warning you see on this page. |
| Package 816/1905 | Hostname | OS / Arch | INSTALL | BUILD | CHECK | BUILD BIN | ||||||
| hicrep 1.12.0 Tao Yang
| malbec2 | Linux (Ubuntu 18.04.4 LTS) / x86_64 | ERROR | ERROR | skipped | |||||||
| tokay2 | Windows Server 2012 R2 Standard / x64 | [ ERROR ] | ERROR | skipped | skipped | |||||||
| machv2 | macOS 10.14.6 Mojave / x86_64 | ERROR | ERROR | skipped | skipped |
| Package: hicrep |
| Version: 1.12.0 |
| Command: C:\cygwin\bin\curl.exe -O https://malbec2.bioconductor.org/BBS/3.11/bioc/src/contrib/hicrep_1.12.0.tar.gz && rm -rf hicrep.buildbin-libdir && mkdir hicrep.buildbin-libdir && C:\Users\biocbuild\bbs-3.11-bioc\R\bin\R.exe CMD INSTALL --merge-multiarch --build --library=hicrep.buildbin-libdir hicrep_1.12.0.tar.gz && C:\Users\biocbuild\bbs-3.11-bioc\R\bin\R.exe CMD INSTALL hicrep_1.12.0.zip && rm hicrep_1.12.0.tar.gz hicrep_1.12.0.zip |
| StartedAt: 2020-10-16 19:44:38 -0400 (Fri, 16 Oct 2020) |
| EndedAt: 2020-10-16 19:44:40 -0400 (Fri, 16 Oct 2020) |
| EllapsedTime: 2.1 seconds |
| RetCode: 1 |
| Status: ERROR |
##############################################################################
##############################################################################
###
### Running command:
###
### C:\cygwin\bin\curl.exe -O https://malbec2.bioconductor.org/BBS/3.11/bioc/src/contrib/hicrep_1.12.0.tar.gz && rm -rf hicrep.buildbin-libdir && mkdir hicrep.buildbin-libdir && C:\Users\biocbuild\bbs-3.11-bioc\R\bin\R.exe CMD INSTALL --merge-multiarch --build --library=hicrep.buildbin-libdir hicrep_1.12.0.tar.gz && C:\Users\biocbuild\bbs-3.11-bioc\R\bin\R.exe CMD INSTALL hicrep_1.12.0.zip && rm hicrep_1.12.0.tar.gz hicrep_1.12.0.zip
###
##############################################################################
##############################################################################
% Total % Received % Xferd Average Speed Time Time Time Current
Dload Upload Total Spent Left Speed
0 0 0 0 0 0 0 0 --:--:-- --:--:-- --:--:-- 0
100 6734k 100 6734k 0 0 47.6M 0 --:--:-- --:--:-- --:--:-- 49.8M
install for i386
ERROR: dependency 'strawr' is not available for package 'hicrep'
* removing 'C:/Users/biocbuild/bbs-3.11-bioc/meat/hicrep.buildbin-libdir/hicrep'