| Back to Multiple platform build/check report for BioC 3.11 |
|
This page was generated on 2020-10-17 11:58:41 -0400 (Sat, 17 Oct 2020).
| TO THE DEVELOPERS/MAINTAINERS OF THE hicrep PACKAGE: Please make sure to use the following settings in order to reproduce any error or warning you see on this page. |
| Package 816/1905 | Hostname | OS / Arch | INSTALL | BUILD | CHECK | BUILD BIN | ||||||
| hicrep 1.12.0 Tao Yang
| malbec2 | Linux (Ubuntu 18.04.4 LTS) / x86_64 | ERROR | ERROR | skipped | |||||||
| tokay2 | Windows Server 2012 R2 Standard / x64 | ERROR | ERROR | skipped | skipped | |||||||
| machv2 | macOS 10.14.6 Mojave / x86_64 | ERROR | [ ERROR ] | skipped | skipped |
| Package: hicrep |
| Version: 1.12.0 |
| Command: /Library/Frameworks/R.framework/Versions/Current/Resources/bin/R CMD build --keep-empty-dirs --no-resave-data hicrep |
| StartedAt: 2020-10-16 19:27:37 -0400 (Fri, 16 Oct 2020) |
| EndedAt: 2020-10-16 19:27:38 -0400 (Fri, 16 Oct 2020) |
| EllapsedTime: 1.1 seconds |
| RetCode: 1 |
| Status: ERROR |
| PackageFile: None |
| PackageFileSize: NA |
##############################################################################
##############################################################################
###
### Running command:
###
### /Library/Frameworks/R.framework/Versions/Current/Resources/bin/R CMD build --keep-empty-dirs --no-resave-data hicrep
###
##############################################################################
##############################################################################
* checking for file ‘hicrep/DESCRIPTION’ ... OK
* preparing ‘hicrep’:
* checking DESCRIPTION meta-information ... OK
* cleaning src
* installing the package to build vignettes
-----------------------------------
ERROR: dependency ‘strawr’ is not available for package ‘hicrep’
* removing ‘/private/tmp/RtmpLJlcv8/Rinst170246f7893f/hicrep’
-----------------------------------
ERROR: package installation failed