| Back to Multiple platform build/check report for BioC 3.11 |
|
This page was generated on 2020-02-24 13:04:04 -0500 (Mon, 24 Feb 2020).
| Package 786/1829 | Hostname | OS / Arch | INSTALL | BUILD | CHECK | BUILD BIN | ||||||
| hicrep 1.11.0 Tao Yang
| malbec2 | Linux (Ubuntu 18.04.3 LTS) / x86_64 | OK | OK | OK | |||||||
| tokay2 | Windows Server 2012 R2 Standard / x64 | OK | OK | OK | [ OK ] |
| Package: hicrep |
| Version: 1.11.0 |
| Command: rm -rf hicrep.buildbin-libdir && mkdir hicrep.buildbin-libdir && C:\Users\biocbuild\bbs-3.11-bioc\R\bin\R.exe CMD INSTALL --merge-multiarch --build --library=hicrep.buildbin-libdir hicrep_1.11.0.tar.gz |
| StartedAt: 2020-02-24 11:49:29 -0500 (Mon, 24 Feb 2020) |
| EndedAt: 2020-02-24 11:50:16 -0500 (Mon, 24 Feb 2020) |
| EllapsedTime: 47.0 seconds |
| RetCode: 0 |
| Status: OK |
| PackageFile: hicrep_1.11.0.zip |
| PackageFileSize: 74.94 KiB |
##############################################################################
##############################################################################
###
### Running command:
###
### rm -rf hicrep.buildbin-libdir && mkdir hicrep.buildbin-libdir && C:\Users\biocbuild\bbs-3.11-bioc\R\bin\R.exe CMD INSTALL --merge-multiarch --build --library=hicrep.buildbin-libdir hicrep_1.11.0.tar.gz
###
##############################################################################
##############################################################################
install for i386
* installing *source* package 'hicrep' ...
** using staged installation
** R
** data
*** moving datasets to lazyload DB
** inst
** byte-compile and prepare package for lazy loading
** help
*** installing help indices
converting help for package 'hicrep'
finding HTML links ... done
HiCR1 html
HiCR2 html
MatToVec html
depth.adj html
get.scc html
hicrep-package html
htrain html
prep html
smoothMat html
vstran html
** building package indices
** installing vignettes
** testing if installed package can be loaded from temporary location
** testing if installed package can be loaded from final location
** testing if installed package keeps a record of temporary installation path
install for x64
* installing *source* package 'hicrep' ...
** testing if installed package can be loaded
* MD5 sums
packaged installation of 'hicrep' as hicrep_1.11.0.zip
* DONE (hicrep)