| Back to Multiple platform build/check report for BioC 3.11 |
|
This page was generated on 2020-10-17 11:54:53 -0400 (Sat, 17 Oct 2020).
| TO THE DEVELOPERS/MAINTAINERS OF THE goProfiles PACKAGE: Please make sure to use the following settings in order to reproduce any error or warning you see on this page. |
| Package 753/1905 | Hostname | OS / Arch | INSTALL | BUILD | CHECK | BUILD BIN | ||||||
| goProfiles 1.50.0 Alex Sanchez
| malbec2 | Linux (Ubuntu 18.04.4 LTS) / x86_64 | OK | OK | [ OK ] | |||||||
| tokay2 | Windows Server 2012 R2 Standard / x64 | OK | OK | OK | OK | |||||||
| machv2 | macOS 10.14.6 Mojave / x86_64 | OK | OK | OK | OK |
| Package: goProfiles |
| Version: 1.50.0 |
| Command: /home/biocbuild/bbs-3.11-bioc/R/bin/R CMD check --install=check:goProfiles.install-out.txt --library=/home/biocbuild/bbs-3.11-bioc/R/library --no-vignettes --timings goProfiles_1.50.0.tar.gz |
| StartedAt: 2020-10-17 01:53:35 -0400 (Sat, 17 Oct 2020) |
| EndedAt: 2020-10-17 01:56:08 -0400 (Sat, 17 Oct 2020) |
| EllapsedTime: 152.4 seconds |
| RetCode: 0 |
| Status: OK |
| CheckDir: goProfiles.Rcheck |
| Warnings: 0 |
##############################################################################
##############################################################################
###
### Running command:
###
### /home/biocbuild/bbs-3.11-bioc/R/bin/R CMD check --install=check:goProfiles.install-out.txt --library=/home/biocbuild/bbs-3.11-bioc/R/library --no-vignettes --timings goProfiles_1.50.0.tar.gz
###
##############################################################################
##############################################################################
* using log directory ‘/home/biocbuild/bbs-3.11-bioc/meat/goProfiles.Rcheck’
* using R version 4.0.3 (2020-10-10)
* using platform: x86_64-pc-linux-gnu (64-bit)
* using session charset: UTF-8
* using option ‘--no-vignettes’
* checking for file ‘goProfiles/DESCRIPTION’ ... OK
* checking extension type ... Package
* this is package ‘goProfiles’ version ‘1.50.0’
* checking package namespace information ... OK
* checking package dependencies ... OK
* checking if this is a source package ... OK
* checking if there is a namespace ... OK
* checking for hidden files and directories ... OK
* checking for portable file names ... OK
* checking for sufficient/correct file permissions ... OK
* checking whether package ‘goProfiles’ can be installed ... OK
* checking installed package size ... OK
* checking package directory ... OK
* checking ‘build’ directory ... OK
* checking DESCRIPTION meta-information ... OK
* checking top-level files ... OK
* checking for left-over files ... OK
* checking index information ... OK
* checking package subdirectories ... OK
* checking R files for non-ASCII characters ... OK
* checking R files for syntax errors ... OK
* checking whether the package can be loaded ... OK
* checking whether the package can be loaded with stated dependencies ... OK
* checking whether the package can be unloaded cleanly ... OK
* checking whether the namespace can be loaded with stated dependencies ... OK
* checking whether the namespace can be unloaded cleanly ... OK
* checking dependencies in R code ... OK
* checking S3 generic/method consistency ... OK
* checking replacement functions ... OK
* checking foreign function calls ... OK
* checking R code for possible problems ... OK
* checking Rd files ... OK
* checking Rd metadata ... OK
* checking Rd cross-references ... OK
* checking for missing documentation entries ... OK
* checking for code/documentation mismatches ... OK
* checking Rd \usage sections ... OK
* checking Rd contents ... OK
* checking for unstated dependencies in examples ... OK
* checking contents of ‘data’ directory ... OK
* checking data for non-ASCII characters ... OK
* checking data for ASCII and uncompressed saves ... OK
* checking installed files from ‘inst/doc’ ... OK
* checking files in ‘vignettes’ ... OK
* checking examples ... OK
Examples with CPU (user + system) or elapsed time > 5s
user system elapsed
compareGeneLists 19.858 0.096 19.955
equivalentGOProfiles 13.304 0.028 13.345
printProfiles 6.566 0.024 6.603
fisherGOProfiles 5.342 0.024 5.367
mergeProfilesLists 5.079 0.020 5.099
* checking for unstated dependencies in vignettes ... OK
* checking package vignettes in ‘inst/doc’ ... OK
* checking running R code from vignettes ... SKIPPED
* checking re-building of vignette outputs ... SKIPPED
* checking PDF version of manual ... OK
* DONE
Status: OK
goProfiles.Rcheck/00install.out
############################################################################## ############################################################################## ### ### Running command: ### ### /home/biocbuild/bbs-3.11-bioc/R/bin/R CMD INSTALL goProfiles ### ############################################################################## ############################################################################## * installing to library ‘/home/biocbuild/bbs-3.11-bioc/R/library’ * installing *source* package ‘goProfiles’ ... ** using staged installation ** R ** data ** inst ** byte-compile and prepare package for lazy loading ** help *** installing help indices ** building package indices ** installing vignettes ** testing if installed package can be loaded from temporary location ** testing if installed package can be loaded from final location ** testing if installed package keeps a record of temporary installation path * DONE (goProfiles)
goProfiles.Rcheck/goProfiles-Ex.timings
| name | user | system | elapsed | |
| CD4ids | 0.003 | 0.000 | 0.003 | |
| GOTermsList | 0 | 0 | 0 | |
| basicProfile | 2.957 | 0.064 | 3.021 | |
| compSummary | 0.000 | 0.000 | 0.001 | |
| compareGOProfiles | 3.332 | 0.056 | 3.388 | |
| compareGeneLists | 19.858 | 0.096 | 19.955 | |
| compareProfilesLists | 0.001 | 0.000 | 0.000 | |
| contractedProfile | 2.274 | 0.008 | 2.283 | |
| conversionFunctions | 0.033 | 0.000 | 0.033 | |
| drosophila | 0.002 | 0.000 | 0.002 | |
| equivClust | 0 | 0 | 0 | |
| equivClust2pdf | 0.021 | 0.003 | 0.024 | |
| equivSummary | 0.001 | 0.000 | 0.000 | |
| equivalentGOProfiles | 13.304 | 0.028 | 13.345 | |
| expandedLevel | 0.636 | 0.000 | 0.635 | |
| expandedProfile | 0.751 | 0.000 | 0.752 | |
| fisherGOProfiles | 5.342 | 0.024 | 5.367 | |
| fitGOProfile | 0 | 0 | 0 | |
| hugoIds | 0.026 | 0.000 | 0.026 | |
| iterEquivClust | 0.001 | 0.000 | 0.000 | |
| mergeProfilesLists | 5.079 | 0.020 | 5.099 | |
| ngenes | 2.015 | 0.012 | 2.027 | |
| omimIds | 0.006 | 0.000 | 0.006 | |
| plotProfiles | 4.564 | 0.020 | 4.584 | |
| printProfiles | 6.566 | 0.024 | 6.603 | |
| prostateIds | 0.001 | 0.004 | 0.005 | |