| Back to Multiple platform build/check report for BioC 3.11 | 
 | 
This page was generated on 2020-10-17 11:56:42 -0400 (Sat, 17 Oct 2020).
| TO THE DEVELOPERS/MAINTAINERS OF THE girafe PACKAGE: Please make sure to use the following settings in order to reproduce any error or warning you see on this page. | 
| Package 734/1905 | Hostname | OS / Arch | INSTALL | BUILD | CHECK | BUILD BIN | ||||||
| girafe 1.40.0 J. Toedling 
 | malbec2 | Linux (Ubuntu 18.04.4 LTS) / x86_64 | OK | OK | OK |  | ||||||
| tokay2 | Windows Server 2012 R2 Standard / x64 | OK | [ OK ] | WARNINGS | OK |  | ||||||
| machv2 | macOS 10.14.6 Mojave / x86_64 | OK | OK | OK | OK |  | 
| Package: girafe | 
| Version: 1.40.0 | 
| Command: chmod a+r girafe -R && C:\Users\biocbuild\bbs-3.11-bioc\R\bin\R.exe CMD build --keep-empty-dirs --no-resave-data girafe | 
| StartedAt: 2020-10-16 21:58:21 -0400 (Fri, 16 Oct 2020) | 
| EndedAt: 2020-10-16 22:00:11 -0400 (Fri, 16 Oct 2020) | 
| EllapsedTime: 110.0 seconds | 
| RetCode: 0 | 
| Status: OK | 
| PackageFile: girafe_1.40.0.tar.gz | 
| PackageFileSize: 1.313 MiB | 
############################################################################## ############################################################################## ### ### Running command: ### ### chmod a+r girafe -R && C:\Users\biocbuild\bbs-3.11-bioc\R\bin\R.exe CMD build --keep-empty-dirs --no-resave-data girafe ### ############################################################################## ############################################################################## * checking for file 'girafe/DESCRIPTION' ... OK * preparing 'girafe': * checking DESCRIPTION meta-information ... OK * cleaning src * installing the package to build vignettes * creating vignettes ... OK * cleaning src * checking for LF line-endings in source and make files and shell scripts * checking for empty or unneeded directories * building 'girafe_1.40.0.tar.gz'