| Back to Multiple platform build/check report for BioC 3.11 |
|
This page was generated on 2020-10-17 11:58:36 -0400 (Sat, 17 Oct 2020).
| TO THE DEVELOPERS/MAINTAINERS OF THE girafe PACKAGE: Please make sure to use the following settings in order to reproduce any error or warning you see on this page. |
| Package 734/1905 | Hostname | OS / Arch | INSTALL | BUILD | CHECK | BUILD BIN | ||||||
| girafe 1.40.0 J. Toedling
| malbec2 | Linux (Ubuntu 18.04.4 LTS) / x86_64 | OK | OK | OK | |||||||
| tokay2 | Windows Server 2012 R2 Standard / x64 | OK | OK | WARNINGS | OK | |||||||
| machv2 | macOS 10.14.6 Mojave / x86_64 | OK | OK | [ OK ] | OK |
| Package: girafe |
| Version: 1.40.0 |
| Command: /Library/Frameworks/R.framework/Versions/Current/Resources/bin/R CMD check --install=check:girafe.install-out.txt --library=/Library/Frameworks/R.framework/Versions/Current/Resources/library --no-vignettes --timings girafe_1.40.0.tar.gz |
| StartedAt: 2020-10-17 01:39:43 -0400 (Sat, 17 Oct 2020) |
| EndedAt: 2020-10-17 01:45:08 -0400 (Sat, 17 Oct 2020) |
| EllapsedTime: 325.6 seconds |
| RetCode: 0 |
| Status: OK |
| CheckDir: girafe.Rcheck |
| Warnings: 0 |
##############################################################################
##############################################################################
###
### Running command:
###
### /Library/Frameworks/R.framework/Versions/Current/Resources/bin/R CMD check --install=check:girafe.install-out.txt --library=/Library/Frameworks/R.framework/Versions/Current/Resources/library --no-vignettes --timings girafe_1.40.0.tar.gz
###
##############################################################################
##############################################################################
* using log directory ‘/Users/biocbuild/bbs-3.11-bioc/meat/girafe.Rcheck’
* using R version 4.0.3 (2020-10-10)
* using platform: x86_64-apple-darwin17.0 (64-bit)
* using session charset: UTF-8
* using option ‘--no-vignettes’
* checking for file ‘girafe/DESCRIPTION’ ... OK
* checking extension type ... Package
* this is package ‘girafe’ version ‘1.40.0’
* checking package namespace information ... OK
* checking package dependencies ... NOTE
Depends: includes the non-default packages:
'BiocGenerics', 'S4Vectors', 'Rsamtools', 'intervals', 'ShortRead',
'genomeIntervals', 'grid'
Adding so many packages to the search path is excessive and importing
selectively is preferable.
* checking if this is a source package ... OK
* checking if there is a namespace ... OK
* checking for hidden files and directories ... OK
* checking for portable file names ... OK
* checking for sufficient/correct file permissions ... OK
* checking whether package ‘girafe’ can be installed ... OK
* checking installed package size ... OK
* checking package directory ... OK
* checking ‘build’ directory ... OK
* checking DESCRIPTION meta-information ... NOTE
Packages listed in more than one of Depends, Imports, Suggests, Enhances:
‘methods’ ‘genomeIntervals’
A package should be listed in only one of these fields.
* checking top-level files ... OK
* checking for left-over files ... OK
* checking index information ... OK
* checking package subdirectories ... OK
* checking R files for non-ASCII characters ... OK
* checking R files for syntax errors ... OK
* checking whether the package can be loaded ... OK
* checking whether the package can be loaded with stated dependencies ... OK
* checking whether the package can be unloaded cleanly ... OK
* checking whether the namespace can be loaded with stated dependencies ... OK
* checking whether the namespace can be unloaded cleanly ... OK
* checking dependencies in R code ... NOTE
'library' or 'require' call to ‘MASS’ in package code.
Please use :: or requireNamespace() instead.
See section 'Suggested packages' in the 'Writing R Extensions' manual.
Package in Depends field not imported from: ‘Rsamtools’
These packages need to be imported from (in the NAMESPACE file)
for when this namespace is loaded but not attached.
Unexported object imported by a ':::' call: ‘genomeIntervals:::intervalsForOverlap’
See the note in ?`:::` about the use of this operator.
* checking S3 generic/method consistency ... OK
* checking replacement functions ... OK
* checking foreign function calls ... OK
* checking R code for possible problems ... NOTE
agiFromBam: no visible binding for global variable ‘mclapply’
agiFromBam: no visible global function definition for ‘scanBamHeader’
agiFromBam: no visible global function definition for ‘ScanBamParam’
agiFromBam : <anonymous>: no visible global function definition for
‘IRangesList’
agiFromBam : <anonymous>: no visible global function definition for
‘scanBamFlag’
agiFromBam : <anonymous>: no visible global function definition for
‘scanBam’
countReadsAnnotated: no visible binding for global variable ‘mclapply’
countReadsAnnotated: no visible binding for global variable ‘fraction1’
fracOverlap: no visible binding for global variable ‘fraction1’
fracOverlap: no visible binding for global variable ‘fraction2’
getFeatureCounts: no visible binding for global variable ‘fraction1’
getFeatureCounts: no visible binding for global variable ‘Index1’
intPhred: no visible binding for global variable ‘mclapply’
oldAGIoverlap: no visible binding for global variable ‘mclapply’
plotReads: no visible binding for global variable ‘x.start’
plotReads: no visible binding for global variable ‘x.end’
plotReads: no visible binding for global variable ‘y’
reduceOne: no visible binding for global variable ‘fraction1’
reduceOne: no visible binding for global variable ‘fraction2’
trimAdapter: no visible global function definition for ‘DNAString’
trimAdapter: no visible global function definition for ‘narrow’
windowCountAndGC: no visible binding for global variable ‘n.reads’
windowCountAndGC: no visible global function definition for ‘Views’
windowCountAndGC: no visible global function definition for ‘unmasked’
windowCountAndGC: no visible global function definition for
‘alphabetFrequency’
clusters,AlignedGenomeIntervals: no visible binding for global variable
‘mclapply’
clusters,Genome_intervals: no visible binding for global variable
‘mclapply’
coverage,AlignedGenomeIntervals: no visible binding for global variable
‘mclapply’
coverage,AlignedGenomeIntervals : <anonymous>: no visible binding for
global variable ‘on.minus’
interval_included,AlignedGenomeIntervals-AlignedGenomeIntervals: no
visible binding for global variable ‘mclapply’
reduce,AlignedGenomeIntervals: no visible binding for global variable
‘mclapply’
reduce,Genome_intervals: no visible binding for global variable
‘mclapply’
reduce,Genome_intervals: no visible binding for global variable
‘fraction1’
reduce,Genome_intervals: no visible binding for global variable
‘fraction2’
Undefined global functions or variables:
DNAString IRangesList Index1 ScanBamParam Views alphabetFrequency
fraction1 fraction2 mclapply n.reads narrow on.minus scanBam
scanBamFlag scanBamHeader unmasked x.end x.start y
* checking Rd files ... OK
* checking Rd metadata ... OK
* checking Rd cross-references ... OK
* checking for missing documentation entries ... OK
* checking for code/documentation mismatches ... OK
* checking Rd \usage sections ... OK
* checking Rd contents ... OK
* checking for unstated dependencies in examples ... OK
* checking line endings in C/C++/Fortran sources/headers ... OK
* checking line endings in Makefiles ... OK
* checking for GNU extensions in Makefiles ... OK
* checking include directives in Makefiles ... OK
* checking compiled code ... NOTE
Note: information on .o files is not available
* checking sizes of PDF files under ‘inst/doc’ ... OK
* checking files in ‘vignettes’ ... OK
* checking examples ... OK
Examples with CPU (user + system) or elapsed time > 5s
user system elapsed
perWindow 14.977 0.129 15.128
negbinomsig 14.517 0.502 15.038
AlignedGenomeIntervals-class 10.892 0.555 8.601
* checking for unstated dependencies in vignettes ... OK
* checking package vignettes in ‘inst/doc’ ... OK
* checking running R code from vignettes ... SKIPPED
* checking re-building of vignette outputs ... SKIPPED
* checking PDF version of manual ... OK
* DONE
Status: 5 NOTEs
See
‘/Users/biocbuild/bbs-3.11-bioc/meat/girafe.Rcheck/00check.log’
for details.
girafe.Rcheck/00install.out
##############################################################################
##############################################################################
###
### Running command:
###
### /Library/Frameworks/R.framework/Versions/Current/Resources/bin/R CMD INSTALL girafe
###
##############################################################################
##############################################################################
* installing to library ‘/Library/Frameworks/R.framework/Versions/4.0/Resources/library’
* installing *source* package ‘girafe’ ...
** using staged installation
** libs
clang++ -mmacosx-version-min=10.13 -std=gnu++11 -I"/Library/Frameworks/R.framework/Resources/include" -DNDEBUG -I/usr/local/include -fPIC -Wall -g -O2 -c coverage.cpp -o coverage.o
coverage.cpp:2:17: warning: using directive refers to implicitly-defined namespace 'std'
using namespace std;
^
1 warning generated.
clang -mmacosx-version-min=10.13 -I"/Library/Frameworks/R.framework/Resources/include" -DNDEBUG -I/usr/local/include -fPIC -Wall -g -O2 -c girafe_init.c -o girafe_init.o
clang++ -mmacosx-version-min=10.13 -std=gnu++11 -dynamiclib -Wl,-headerpad_max_install_names -undefined dynamic_lookup -single_module -multiply_defined suppress -L/Library/Frameworks/R.framework/Resources/lib -L/usr/local/lib -o girafe.so coverage.o girafe_init.o -F/Library/Frameworks/R.framework/.. -framework R -Wl,-framework -Wl,CoreFoundation
installing to /Library/Frameworks/R.framework/Versions/4.0/Resources/library/00LOCK-girafe/00new/girafe/libs
** R
** inst
** byte-compile and prepare package for lazy loading
No methods found in package ‘IRanges’ for requests: ‘score’, ‘score<-’, ‘sort’ when loading ‘girafe’
Creating a generic function for ‘sample’ from package ‘base’ in package ‘girafe’
** help
*** installing help indices
** building package indices
** installing vignettes
** testing if installed package can be loaded from temporary location
No methods found in package ‘IRanges’ for requests: ‘score’, ‘score<-’, ‘sort’ when loading ‘girafe’
** checking absolute paths in shared objects and dynamic libraries
** testing if installed package can be loaded from final location
No methods found in package ‘IRanges’ for requests: ‘score’, ‘score<-’, ‘sort’ when loading ‘girafe’
** testing if installed package keeps a record of temporary installation path
* DONE (girafe)
girafe.Rcheck/girafe-Ex.timings
| name | user | system | elapsed | |
| AlignedGenomeIntervals-class | 10.892 | 0.555 | 8.601 | |
| agiFromBam | 0.407 | 0.282 | 0.447 | |
| countReadsAnnotated | 0.189 | 0.077 | 0.244 | |
| fracOverlap | 0.303 | 0.044 | 0.347 | |
| intPhred | 0.320 | 0.479 | 0.779 | |
| medianByPosition | 0.893 | 0.532 | 1.375 | |
| negbinomsig | 14.517 | 0.502 | 15.038 | |
| perWindow | 14.977 | 0.129 | 15.128 | |
| plotAligned | 0.035 | 0.002 | 0.038 | |
| trimAdapter | 0.217 | 0.071 | 0.288 | |
| weightedConsensusMatrix | 0.007 | 0.001 | 0.007 | |
| whichNearestMethods | 0.537 | 0.096 | 0.635 | |