| Back to Multiple platform build/check report for BioC 3.11 |
|
This page was generated on 2020-10-17 11:58:30 -0400 (Sat, 17 Oct 2020).
| TO THE DEVELOPERS/MAINTAINERS OF THE flowUtils PACKAGE: Please make sure to use the following settings in order to reproduce any error or warning you see on this page. |
| Package 630/1905 | Hostname | OS / Arch | INSTALL | BUILD | CHECK | BUILD BIN | ||||||
| flowUtils 1.52.0 Josef Spidlen
| malbec2 | Linux (Ubuntu 18.04.4 LTS) / x86_64 | OK | OK | WARNINGS | |||||||
| tokay2 | Windows Server 2012 R2 Standard / x64 | OK | OK | WARNINGS | OK | |||||||
| machv2 | macOS 10.14.6 Mojave / x86_64 | OK | OK | WARNINGS | [ OK ] |
| Package: flowUtils |
| Version: 1.52.0 |
| Command: rm -rf flowUtils.buildbin-libdir && mkdir flowUtils.buildbin-libdir && /Users/biocbuild/BBS/utils/build-universal.sh flowUtils_1.52.0.tar.gz /Library/Frameworks/R.framework/Versions/Current/Resources/bin/R flowUtils.buildbin-libdir |
| StartedAt: 2020-10-17 07:05:32 -0400 (Sat, 17 Oct 2020) |
| EndedAt: 2020-10-17 07:06:04 -0400 (Sat, 17 Oct 2020) |
| EllapsedTime: 31.4 seconds |
| RetCode: 0 |
| Status: OK |
| PackageFile: flowUtils_1.52.0.tgz |
| PackageFileSize: 505.3 KiB |
############################################################################## ############################################################################## ### ### Running command: ### ### rm -rf flowUtils.buildbin-libdir && mkdir flowUtils.buildbin-libdir && /Users/biocbuild/BBS/utils/build-universal.sh flowUtils_1.52.0.tar.gz /Library/Frameworks/R.framework/Versions/Current/Resources/bin/R flowUtils.buildbin-libdir ### ############################################################################## ############################################################################## >>>>>>> >>>>>>> INSTALLATION WITH 'R CMD INSTALL --preclean --no-multiarch --library=flowUtils.buildbin-libdir flowUtils_1.52.0.tar.gz' >>>>>>> * installing *source* package ‘flowUtils’ ... ** using staged installation ** R ** inst ** byte-compile and prepare package for lazy loading No methods found in package ‘flowCore’ for requests: ‘action’, ‘assign’, ‘Data’, ‘gate’, ‘tree’ when loading ‘flowUtils’ ** help *** installing help indices ** building package indices ** installing vignettes ** testing if installed package can be loaded from temporary location No methods found in package ‘flowCore’ for requests: ‘action’, ‘assign’, ‘Data’, ‘gate’, ‘tree’ when loading ‘flowUtils’ ** testing if installed package can be loaded from final location No methods found in package ‘flowCore’ for requests: ‘action’, ‘assign’, ‘Data’, ‘gate’, ‘tree’ when loading ‘flowUtils’ ** testing if installed package keeps a record of temporary installation path * DONE (flowUtils)