| Back to Multiple platform build/check report for BioC 3.11 | 
  | 
This page was generated on 2020-10-17 11:56:35 -0400 (Sat, 17 Oct 2020).
| TO THE DEVELOPERS/MAINTAINERS OF THE flowMerge PACKAGE: Please make sure to use the following settings in order to reproduce any error or warning you see on this page. | 
| Package 618/1905 | Hostname | OS / Arch | INSTALL | BUILD | CHECK | BUILD BIN | ||||||
| flowMerge 2.36.0 Greg Finak 
  | malbec2 | Linux (Ubuntu 18.04.4 LTS) / x86_64 | OK | OK | OK | |||||||
| tokay2 | Windows Server 2012 R2 Standard / x64 | [ OK ] | OK | OK | OK | |||||||
| machv2 | macOS 10.14.6 Mojave / x86_64 | OK | OK | OK | OK | 
| Package: flowMerge | 
| Version: 2.36.0 | 
| Command: C:\cygwin\bin\curl.exe -O https://malbec2.bioconductor.org/BBS/3.11/bioc/src/contrib/flowMerge_2.36.0.tar.gz && rm -rf flowMerge.buildbin-libdir && mkdir flowMerge.buildbin-libdir && C:\Users\biocbuild\bbs-3.11-bioc\R\bin\R.exe CMD INSTALL --merge-multiarch --build --library=flowMerge.buildbin-libdir flowMerge_2.36.0.tar.gz && C:\Users\biocbuild\bbs-3.11-bioc\R\bin\R.exe CMD INSTALL flowMerge_2.36.0.zip && rm flowMerge_2.36.0.tar.gz flowMerge_2.36.0.zip | 
| StartedAt: 2020-10-16 18:16:53 -0400 (Fri, 16 Oct 2020) | 
| EndedAt: 2020-10-16 18:17:40 -0400 (Fri, 16 Oct 2020) | 
| EllapsedTime: 47.6 seconds | 
| RetCode: 0 | 
| Status: OK | 
##############################################################################
##############################################################################
###
### Running command:
###
###   C:\cygwin\bin\curl.exe -O https://malbec2.bioconductor.org/BBS/3.11/bioc/src/contrib/flowMerge_2.36.0.tar.gz && rm -rf flowMerge.buildbin-libdir && mkdir flowMerge.buildbin-libdir && C:\Users\biocbuild\bbs-3.11-bioc\R\bin\R.exe CMD INSTALL --merge-multiarch --build --library=flowMerge.buildbin-libdir flowMerge_2.36.0.tar.gz && C:\Users\biocbuild\bbs-3.11-bioc\R\bin\R.exe CMD INSTALL flowMerge_2.36.0.zip && rm flowMerge_2.36.0.tar.gz flowMerge_2.36.0.zip
###
##############################################################################
##############################################################################
  % Total    % Received % Xferd  Average Speed   Time    Time     Time  Current
                                 Dload  Upload   Total   Spent    Left  Speed
  0     0    0     0    0     0      0      0 --:--:-- --:--:-- --:--:--     0
100  397k  100  397k    0     0  5886k      0 --:--:-- --:--:-- --:--:-- 6518k
install for i386
* installing *source* package 'flowMerge' ...
** using staged installation
** R
** data
** byte-compile and prepare package for lazy loading
** help
*** installing help indices
  converting help for package 'flowMerge'
    finding HTML links ... done
    NENT                                    html  
    checkForRemoteErrors                    html  
    fitPiecewiseLinreg-methods              html  
    fitPiecewiseLinreg                      html  
    flagOutliers-methods                    html  
    flagOutliers                            html  
    flowClust.res                           html  
    flowMerge-class                         html  
    finding level-2 HTML links ... done
    flowMerge-internal                      html  
    flowMerge-package                       html  
    flowObj-class                           html  
    flowObj                                 html  
    initPFlowMerge                          html  
    map                                     html  
    merge-methods                           html  
    merge                                   html  
    mergeClusters                           html  
    mergeClusters2                          html  
    pFlowClust                              html  
    pFlowMerge                              html  
    plot-methods                            html  
    ptree                                   html  
    show-methods                            html  
    split-methods                           html  
    summary-methods                         html  
    updateU                                 html  
** building package indices
** installing vignettes
** testing if installed package can be loaded from temporary location
** testing if installed package can be loaded from final location
** testing if installed package keeps a record of temporary installation path
install for x64
* installing *source* package 'flowMerge' ...
** testing if installed package can be loaded
* MD5 sums
packaged installation of 'flowMerge' as flowMerge_2.36.0.zip
* DONE (flowMerge)
* installing to library 'C:/Users/biocbuild/bbs-3.11-bioc/R/library'
package 'flowMerge' successfully unpacked and MD5 sums checked