| Back to Multiple platform build/check report for BioC 3.11 |
|
This page was generated on 2020-10-17 11:58:29 -0400 (Sat, 17 Oct 2020).
| TO THE DEVELOPERS/MAINTAINERS OF THE flowMerge PACKAGE: Please make sure to use the following settings in order to reproduce any error or warning you see on this page. |
| Package 618/1905 | Hostname | OS / Arch | INSTALL | BUILD | CHECK | BUILD BIN | ||||||
| flowMerge 2.36.0 Greg Finak
| malbec2 | Linux (Ubuntu 18.04.4 LTS) / x86_64 | OK | OK | OK | |||||||
| tokay2 | Windows Server 2012 R2 Standard / x64 | OK | OK | OK | OK | |||||||
| machv2 | macOS 10.14.6 Mojave / x86_64 | OK | [ OK ] | OK | OK |
| Package: flowMerge |
| Version: 2.36.0 |
| Command: /Library/Frameworks/R.framework/Versions/Current/Resources/bin/R CMD build --keep-empty-dirs --no-resave-data flowMerge |
| StartedAt: 2020-10-16 18:59:56 -0400 (Fri, 16 Oct 2020) |
| EndedAt: 2020-10-16 19:01:17 -0400 (Fri, 16 Oct 2020) |
| EllapsedTime: 81.6 seconds |
| RetCode: 0 |
| Status: OK |
| PackageFile: flowMerge_2.36.0.tar.gz |
| PackageFileSize: 444.9 KiB |
############################################################################## ############################################################################## ### ### Running command: ### ### /Library/Frameworks/R.framework/Versions/Current/Resources/bin/R CMD build --keep-empty-dirs --no-resave-data flowMerge ### ############################################################################## ############################################################################## * checking for file ‘flowMerge/DESCRIPTION’ ... OK * preparing ‘flowMerge’: * checking DESCRIPTION meta-information ... OK * installing the package to build vignettes * creating vignettes ... OK * checking for LF line-endings in source and make files and shell scripts * checking for empty or unneeded directories * looking to see if a ‘data/datalist’ file should be added * building ‘flowMerge_2.36.0.tar.gz’