| Back to Multiple platform build/check report for BioC 3.11 |
|
This page was generated on 2020-10-17 11:56:32 -0400 (Sat, 17 Oct 2020).
| TO THE DEVELOPERS/MAINTAINERS OF THE epihet PACKAGE: Please make sure to use the following settings in order to reproduce any error or warning you see on this page. |
| Package 553/1905 | Hostname | OS / Arch | INSTALL | BUILD | CHECK | BUILD BIN | ||||||
| epihet 1.4.0 Xiaowen Chen
| malbec2 | Linux (Ubuntu 18.04.4 LTS) / x86_64 | OK | OK | OK | |||||||
| tokay2 | Windows Server 2012 R2 Standard / x64 | OK | OK | OK | [ OK ] | |||||||
| machv2 | macOS 10.14.6 Mojave / x86_64 | OK | OK | OK | OK |
| Package: epihet |
| Version: 1.4.0 |
| Command: rm -rf epihet.buildbin-libdir && mkdir epihet.buildbin-libdir && C:\Users\biocbuild\bbs-3.11-bioc\R\bin\R.exe CMD INSTALL --merge-multiarch --build --library=epihet.buildbin-libdir epihet_1.4.0.tar.gz |
| StartedAt: 2020-10-17 10:26:23 -0400 (Sat, 17 Oct 2020) |
| EndedAt: 2020-10-17 10:27:49 -0400 (Sat, 17 Oct 2020) |
| EllapsedTime: 86.2 seconds |
| RetCode: 0 |
| Status: OK |
| PackageFile: epihet_1.4.0.zip |
| PackageFileSize: 892.1 KiB |
##############################################################################
##############################################################################
###
### Running command:
###
### rm -rf epihet.buildbin-libdir && mkdir epihet.buildbin-libdir && C:\Users\biocbuild\bbs-3.11-bioc\R\bin\R.exe CMD INSTALL --merge-multiarch --build --library=epihet.buildbin-libdir epihet_1.4.0.tar.gz
###
##############################################################################
##############################################################################
install for i386
* installing *source* package 'epihet' ...
** using staged installation
** R
** data
** inst
** byte-compile and prepare package for lazy loading
** help
*** installing help indices
converting help for package 'epihet'
finding HTML links ... done
compMatrix html
data html
diffHet html
epiBox html
epiMA html
epiMap html
epiNetwork html
epiPCA html
epiPathway html
epiTSNE html
jaccard html
makeGR html
moduleAnno html
moduleSim html
moduleVisual html
readGR html
shannon html
splitn html
summarize html
userobj html
** building package indices
** installing vignettes
** testing if installed package can be loaded from temporary location
** testing if installed package can be loaded from final location
** testing if installed package keeps a record of temporary installation path
install for x64
* installing *source* package 'epihet' ...
** testing if installed package can be loaded
* MD5 sums
packaged installation of 'epihet' as epihet_1.4.0.zip
* DONE (epihet)