| Back to Multiple platform build/check report for BioC 3.11 |
|
This page was generated on 2020-10-17 11:58:26 -0400 (Sat, 17 Oct 2020).
| TO THE DEVELOPERS/MAINTAINERS OF THE epihet PACKAGE: Please make sure to use the following settings in order to reproduce any error or warning you see on this page. |
| Package 553/1905 | Hostname | OS / Arch | INSTALL | BUILD | CHECK | BUILD BIN | ||||||
| epihet 1.4.0 Xiaowen Chen
| malbec2 | Linux (Ubuntu 18.04.4 LTS) / x86_64 | OK | OK | OK | |||||||
| tokay2 | Windows Server 2012 R2 Standard / x64 | OK | OK | OK | OK | |||||||
| machv2 | macOS 10.14.6 Mojave / x86_64 | OK | OK | [ OK ] | OK |
| Package: epihet |
| Version: 1.4.0 |
| Command: /Library/Frameworks/R.framework/Versions/Current/Resources/bin/R CMD check --install=check:epihet.install-out.txt --library=/Library/Frameworks/R.framework/Versions/Current/Resources/library --no-vignettes --timings epihet_1.4.0.tar.gz |
| StartedAt: 2020-10-17 00:54:31 -0400 (Sat, 17 Oct 2020) |
| EndedAt: 2020-10-17 00:58:59 -0400 (Sat, 17 Oct 2020) |
| EllapsedTime: 267.4 seconds |
| RetCode: 0 |
| Status: OK |
| CheckDir: epihet.Rcheck |
| Warnings: 0 |
##############################################################################
##############################################################################
###
### Running command:
###
### /Library/Frameworks/R.framework/Versions/Current/Resources/bin/R CMD check --install=check:epihet.install-out.txt --library=/Library/Frameworks/R.framework/Versions/Current/Resources/library --no-vignettes --timings epihet_1.4.0.tar.gz
###
##############################################################################
##############################################################################
* using log directory ‘/Users/biocbuild/bbs-3.11-bioc/meat/epihet.Rcheck’
* using R version 4.0.3 (2020-10-10)
* using platform: x86_64-apple-darwin17.0 (64-bit)
* using session charset: UTF-8
* using option ‘--no-vignettes’
* checking for file ‘epihet/DESCRIPTION’ ... OK
* this is package ‘epihet’ version ‘1.4.0’
* package encoding: UTF-8
* checking package namespace information ... OK
* checking package dependencies ... NOTE
Depends: includes the non-default packages:
'GenomicRanges', 'IRanges', 'S4Vectors', 'ggplot2', 'foreach',
'Rtsne', 'igraph'
Adding so many packages to the search path is excessive and importing
selectively is preferable.
* checking if this is a source package ... OK
* checking if there is a namespace ... OK
* checking for hidden files and directories ... OK
* checking for portable file names ... OK
* checking for sufficient/correct file permissions ... OK
* checking whether package ‘epihet’ can be installed ... OK
* checking installed package size ... OK
* checking package directory ... OK
* checking ‘build’ directory ... OK
* checking DESCRIPTION meta-information ... OK
* checking top-level files ... OK
* checking for left-over files ... OK
* checking index information ... OK
* checking package subdirectories ... OK
* checking R files for non-ASCII characters ... OK
* checking R files for syntax errors ... OK
* checking whether the package can be loaded ... OK
* checking whether the package can be loaded with stated dependencies ... OK
* checking whether the package can be unloaded cleanly ... OK
* checking whether the namespace can be loaded with stated dependencies ... OK
* checking whether the namespace can be unloaded cleanly ... OK
* checking dependencies in R code ... OK
* checking S3 generic/method consistency ... OK
* checking replacement functions ... OK
* checking foreign function calls ... OK
* checking R code for possible problems ... OK
* checking Rd files ... OK
* checking Rd metadata ... OK
* checking Rd cross-references ... OK
* checking for missing documentation entries ... OK
* checking for code/documentation mismatches ... OK
* checking Rd \usage sections ... OK
* checking Rd contents ... OK
* checking for unstated dependencies in examples ... OK
* checking contents of ‘data’ directory ... OK
* checking data for non-ASCII characters ... OK
* checking data for ASCII and uncompressed saves ... OK
* checking sizes of PDF files under ‘inst/doc’ ... OK
* checking files in ‘vignettes’ ... OK
* checking examples ... OK
Examples with CPU (user + system) or elapsed time > 5s
user system elapsed
epiPathway 16.591 0.772 17.383
* checking for unstated dependencies in vignettes ... OK
* checking package vignettes in ‘inst/doc’ ... OK
* checking running R code from vignettes ... SKIPPED
* checking re-building of vignette outputs ... SKIPPED
* checking PDF version of manual ... OK
* DONE
Status: 1 NOTE
See
‘/Users/biocbuild/bbs-3.11-bioc/meat/epihet.Rcheck/00check.log’
for details.
epihet.Rcheck/00install.out
############################################################################## ############################################################################## ### ### Running command: ### ### /Library/Frameworks/R.framework/Versions/Current/Resources/bin/R CMD INSTALL epihet ### ############################################################################## ############################################################################## * installing to library ‘/Library/Frameworks/R.framework/Versions/4.0/Resources/library’ * installing *source* package ‘epihet’ ... ** using staged installation ** R ** data ** inst ** byte-compile and prepare package for lazy loading ** help *** installing help indices ** building package indices ** installing vignettes ** testing if installed package can be loaded from temporary location ** testing if installed package can be loaded from final location ** testing if installed package keeps a record of temporary installation path * DONE (epihet)
epihet.Rcheck/epihet-Ex.timings
| name | user | system | elapsed | |
| compMatrix | 0.621 | 0.048 | 0.672 | |
| epiBox | 0.045 | 0.006 | 0.050 | |
| epiMA | 0.011 | 0.002 | 0.013 | |
| epiMap | 0.128 | 0.017 | 0.145 | |
| epiPCA | 0.415 | 0.025 | 0.446 | |
| epiPathway | 16.591 | 0.772 | 17.383 | |
| epiTSNE | 0.280 | 0.008 | 0.289 | |
| jaccard | 0.010 | 0.007 | 0.017 | |
| makeGR | 0.170 | 0.028 | 0.205 | |
| moduleAnno | 0.298 | 0.032 | 0.334 | |
| moduleSim | 0.038 | 0.012 | 0.051 | |
| moduleVisual | 0.207 | 0.012 | 0.220 | |
| readGR | 0.036 | 0.007 | 0.044 | |
| shannon | 0.000 | 0.001 | 0.000 | |
| splitn | 0.000 | 0.000 | 0.001 | |
| summarize | 0.157 | 0.002 | 0.159 | |
| userobj | 0.037 | 0.001 | 0.037 | |